BEGIN:VCALENDAR
VERSION:2.0
PRODID:-//Welcome - ECPv6.15.20//NONSGML v1.0//EN
CALSCALE:GREGORIAN
METHOD:PUBLISH
X-WR-CALNAME:Welcome
X-ORIGINAL-URL:https://bcnsalsacalendar.com/es
X-WR-CALDESC:Eventos para Welcome
REFRESH-INTERVAL;VALUE=DURATION:PT1H
X-Robots-Tag:noindex
X-PUBLISHED-TTL:PT1H
BEGIN:VTIMEZONE
TZID:UTC
BEGIN:STANDARD
TZOFFSETFROM:+0000
TZOFFSETTO:+0000
TZNAME:UTC
DTSTART:20240101T000000
END:STANDARD
END:VTIMEZONE
BEGIN:VEVENT
DTSTART;TZID=UTC:20251231T230000
DTEND;TZID=UTC:20260101T050000
DTSTAMP:20260419T230656
CREATED:20250528T141104Z
LAST-MODIFIED:20260121T222337Z
UID:10023034-1767222000-1767243600@bcnsalsacalendar.com
SUMMARY:Harlem Jazz Club - 100% Son Cubano
DESCRIPTION:📝 Description and Salsa Style: Free event in Barcelona 100% Son Cubano. \n💃 Dancer Level: All levels. \n👥 Average Age: 35-60 years old\, all ages welcome. \n🔄 Recurrence: Occasionally.
URL:https://bcnsalsacalendar.com/es/event/harlem-jazz-club-100-son-cubano/2025-12-31/
LOCATION:Harlem Jazz Club\, Carrer de la Comtessa de Sobradiel\, 8\, Ciutat Vella\, Barcelona\, Catalonia\, 08002\, Spain
CATEGORIES:Son Cubano
ATTACH;FMTTYPE=image/png:https://bcnsalsacalendar.com/wp-content/uploads/2025/05/Son.png
END:VEVENT
BEGIN:VEVENT
DTSTART;TZID=UTC:20260101T010000
DTEND;TZID=UTC:20260101T040000
DTSTAMP:20260419T230656
CREATED:20251230T203132Z
LAST-MODIFIED:20251230T203358Z
UID:10009545-1767229200-1767240000@bcnsalsacalendar.com
SUMMARY:Antilla - 100% Timba new year eve
DESCRIPTION:📝 Description and Salsa Style: 100% música cubana.  \n\n💃 Dancer Level: All levels. \n👥 Average Age: 20-50 years old\, all ages welcome. \n🔄 Recurrence: occasionally \n 
URL:https://bcnsalsacalendar.com/es/event/antilla-2-3/
LOCATION:Antilla Sants\, Carrer d'Alcolea\, 100\, Sants-Montjuïc\, Barcelona\, Catalonia\, 08014\, Spain
CATEGORIES:Salsa Cubana,Son Cubano,Timba
ATTACH;FMTTYPE=image/jpeg:https://bcnsalsacalendar.com/wp-content/uploads/2025/12/Screenshot_20251230_213235_Instagram.jpg
GEO:41.3797977;2.1352267
X-APPLE-STRUCTURED-LOCATION;VALUE=URI;X-ADDRESS=Antilla Sants Carrer d'Alcolea 100 Sants-Montjuïc Barcelona Catalonia 08014 Spain;X-APPLE-RADIUS=500;X-TITLE=Carrer d'Alcolea\, 100\, Sants-Montjuïc:geo:2.1352267,41.3797977
END:VEVENT
END:VCALENDAR