BEGIN:VCALENDAR
VERSION:2.0
PRODID:-//Welcome - ECPv6.15.20//NONSGML v1.0//EN
CALSCALE:GREGORIAN
METHOD:PUBLISH
X-ORIGINAL-URL:https://bcnsalsacalendar.com/es
X-WR-CALDESC:Eventos para Welcome
REFRESH-INTERVAL;VALUE=DURATION:PT1H
X-Robots-Tag:noindex
X-PUBLISHED-TTL:PT1H
BEGIN:VTIMEZONE
TZID:UTC
BEGIN:STANDARD
TZOFFSETFROM:+0000
TZOFFSETTO:+0000
TZNAME:UTC
DTSTART:20240101T000000
END:STANDARD
END:VTIMEZONE
BEGIN:VEVENT
DTSTART;TZID=UTC:20251129T170000
DTEND;TZID=UTC:20251129T210000
DTSTAMP:20260423T000259
CREATED:20251123T211110Z
LAST-MODIFIED:20251123T211110Z
UID:10022952-1764435600-1764450000@bcnsalsacalendar.com
SUMMARY:A Golpe de Salsa - 100% Salsa Brava
DESCRIPTION:📝 Description and Salsa Style: Salsa caleña social dancing event. Ful salsa brava music. \n💃 Dancer Level: Mostly beginner. \n👥 Average Age: All ages welcome. \n🔄 Recurrence: Occasionaly.
URL:https://bcnsalsacalendar.com/es/event/a-golpe-de-salsa-100-salsa-brava/
LOCATION:Sala Vivaldi\, Carrer de Llança\, 5\, L'Eixample\, Barcelona\, Catalonia\, 08015\, Spain
CATEGORIES:SalsaOn1,SalsaOn2
ATTACH;FMTTYPE=image/png:https://bcnsalsacalendar.com/wp-content/uploads/2025/11/Golpe-salsa.png
END:VEVENT
BEGIN:VEVENT
DTSTART;TZID=UTC:20251129T183000
DTEND;TZID=UTC:20251129T223000
DTSTAMP:20260423T000259
CREATED:20250826T212828Z
LAST-MODIFIED:20260320T112247Z
UID:10022958-1764441000-1764455400@bcnsalsacalendar.com
SUMMARY:Cuban Flower Party
DESCRIPTION:📝 Description and Salsa Style: Cuban Salsa & Bachata. \n💃 Dancer Level: Mostly beginner and intermediate dancers. \n👥 Average Age:  All ages welcome. \n🔄 Recurrence: Occasionally.
URL:https://bcnsalsacalendar.com/es/event/cuban-flower-party-salsa-bachata-2/2025-11-29/
LOCATION:Valkiria Hub Space\, Carrer de Pujades\, 126\, Sant Martí\, Barcelona\, Catalonia\, 08005\, Spain
CATEGORIES:Salsa Cubana,Salsa&Bachata,Son Cubano,Timba
ATTACH;FMTTYPE=image/png:https://bcnsalsacalendar.com/wp-content/uploads/2025/08/Cuban-flow.png
END:VEVENT
BEGIN:VEVENT
DTSTART;TZID=UTC:20251129T190000
DTEND;TZID=UTC:20251129T220000
DTSTAMP:20260423T000259
CREATED:20251017T075923Z
LAST-MODIFIED:20260207T143539Z
UID:10022960-1764442800-1764453600@bcnsalsacalendar.com
SUMMARY:Salsa & Bachata - Terrace Maremagnum
DESCRIPTION:📝 Description and Salsa Style: Salsa & Bachata. All type of Salsa. \n💃 Dancer Level: Mostly beginner and intermediate. \n👥 Average Age: 25-60 years old\, all ages welcome. \n🔄 Recurrence: Occasionally.
URL:https://bcnsalsacalendar.com/es/event/salsa-bachata-terrace-maremagnum/2025-11-29/
LOCATION:Time Out Market Barcelona\, Moll d´Espanya\, 5\, Cuitat Vella\, Barcelona\, Cataluna\, 08039\, Spain
CATEGORIES:Salsa Cubana,Salsa&Bachata,SalsaOn1,SalsaOn2,Son Cubano,Timba
ATTACH;FMTTYPE=image/png:https://bcnsalsacalendar.com/wp-content/uploads/2025/10/image.png
END:VEVENT
BEGIN:VEVENT
DTSTART;TZID=UTC:20251129T200000
DTEND;TZID=UTC:20251130T020000
DTSTAMP:20260423T000259
CREATED:20251126T111535Z
LAST-MODIFIED:20260318T115036Z
UID:10022956-1764446400-1764468000@bcnsalsacalendar.com
SUMMARY:Buena Vista Barcelona - Live Salsa/Mambo/Timba/Bachata
DESCRIPTION:📝 Description and Salsa Style: Live salsa concert and salsa\, mambo\, timba and bachata music. \n💃 Dancer Level: All level. \n👥 Average Age:  All ages welcome. \n🔄 Recurrence: Occasionally.
URL:https://bcnsalsacalendar.com/es/event/buena-vista-barcelona-live-salsa-mambo-timba-bachata/2025-11-29/
LOCATION:Laeitana Cultural\, Via Laietana\, 64\, Bajos izq\, Ciutat Vella\, Barcelona\, Catalonia\, 08003\, Spain
CATEGORIES:Live Salsa,Salsa Cubana,Salsa&Bachata,SalsaOn1,SalsaOn2,Son Cubano,Timba
ATTACH;FMTTYPE=image/jpeg:https://bcnsalsacalendar.com/wp-content/uploads/2025/11/Screenshot_20260102_113235_Chrome.jpg
END:VEVENT
BEGIN:VEVENT
DTSTART;TZID=UTC:20251129T230000
DTEND;TZID=UTC:20251130T030000
DTSTAMP:20260423T000259
CREATED:20250904T085543Z
LAST-MODIFIED:20250904T085543Z
UID:10004653-1764457200-1764471600@bcnsalsacalendar.com
SUMMARY:Dioclub Salsa & Bachata
DESCRIPTION:📝 Description and Salsa Style: Two rooms. Big room mostly for Salsa ON1 and On2. Also some Cuban Salsa and Timba. Small room for Bachata. \n💃 Dancer Level: Regarding Salsa\, level mostly intermediate and advanced. \n👥 Average Age: 25-45 years old\, all ages welcome. \n🔄 Recurrence: Every Saturday. \n  \n 
URL:https://bcnsalsacalendar.com/es/event/dioclub-bachata-salsa-2-2-2-2-2-2/2025-11-29/
LOCATION:Seven Dance Gràcia\, Carrer del Perill\, 10\, Gràcia\, 08012 Barcelona\, Barcelona\, Catalonia\, 08012\, Spain
CATEGORIES:Salsa&Bachata,SalsaOn1,SalsaOn2
ATTACH;FMTTYPE=image/png:https://bcnsalsacalendar.com/wp-content/uploads/2024/12/dioc.png
END:VEVENT
BEGIN:VEVENT
DTSTART;TZID=UTC:20251129T230000
DTEND;TZID=UTC:20251130T040000
DTSTAMP:20260423T000259
CREATED:20250603T124617Z
LAST-MODIFIED:20250614T173712Z
UID:10012258-1764457200-1764475200@bcnsalsacalendar.com
SUMMARY:Antilla Sants - Salsa Timba Bachata
DESCRIPTION:📝 Description and Salsa Style: Salsa\, Timba and Bachata. \n💃 Dancer Level: All levels. \n👥 Average Age: 20-50 years old\, all ages welcome. \n🔄 Recurrence: Occasionaly.
URL:https://bcnsalsacalendar.com/es/event/antilla-from-18-00-to-23-00-2-2/2025-11-29/
LOCATION:Antilla Sants\, Carrer d'Alcolea\, 100\, Sants-Montjuïc\, Barcelona\, Catalonia\, 08014\, Spain
CATEGORIES:Salsa Cubana,Salsa&Bachata,Son Cubano,Timba
ATTACH;FMTTYPE=image/png:https://bcnsalsacalendar.com/wp-content/uploads/2025/06/Antilla-Nuevo.png
GEO:41.3797977;2.1352267
X-APPLE-STRUCTURED-LOCATION;VALUE=URI;X-ADDRESS=Antilla Sants Carrer d'Alcolea 100 Sants-Montjuïc Barcelona Catalonia 08014 Spain;X-APPLE-RADIUS=500;X-TITLE=Carrer d'Alcolea\, 100\, Sants-Montjuïc:geo:2.1352267,41.3797977
END:VEVENT
END:VCALENDAR