BEGIN:VCALENDAR
VERSION:2.0
PRODID:-//Welcome - ECPv6.15.20//NONSGML v1.0//EN
CALSCALE:GREGORIAN
METHOD:PUBLISH
X-ORIGINAL-URL:https://bcnsalsacalendar.com
X-WR-CALDESC:Events for Welcome
REFRESH-INTERVAL;VALUE=DURATION:PT1H
X-Robots-Tag:noindex
X-PUBLISHED-TTL:PT1H
BEGIN:VTIMEZONE
TZID:UTC
BEGIN:STANDARD
TZOFFSETFROM:+0000
TZOFFSETTO:+0000
TZNAME:UTC
DTSTART:20240101T000000
END:STANDARD
END:VTIMEZONE
BEGIN:VEVENT
DTSTART;TZID=UTC:20251130T180000
DTEND;TZID=UTC:20251130T220000
DTSTAMP:20260421T202027
CREATED:20250319T132256Z
LAST-MODIFIED:20251113T165520Z
UID:10022945-1764525600-1764540000@bcnsalsacalendar.com
SUMMARY:Salsa and latin music - Sala La Paloma
DESCRIPTION:📝 Description and Salsa Style: Live salsa and latin music in an amazing room. \n💃 Dancer Level: Mostly beginner and intermediate. \n👥 Average Age: All ages welcome. \n🔄 Recurrence: Occasionally.
URL:https://bcnsalsacalendar.com/event/live-concert-compota-de-manana-sala-la-paloma/2025-11-30/
LOCATION:Sala La Paloma\, Carrer del Tigre\, 27\, Ciutat Vella\, Barcelona\, Catalonia\, 08001\, Spain
CATEGORIES:Live Salsa,Salsa Cubana,SalsaOn1,SalsaOn2,Son Cubano
ATTACH;FMTTYPE=image/png:https://bcnsalsacalendar.com/wp-content/uploads/2025/03/Captura-de-pantalla-2025-11-13-173420.png
END:VEVENT
BEGIN:VEVENT
DTSTART;TZID=UTC:20251130T180000
DTEND;TZID=UTC:20251130T230000
DTSTAMP:20260421T202027
CREATED:20250605T114406Z
LAST-MODIFIED:20250629T094840Z
UID:10013042-1764525600-1764543600@bcnsalsacalendar.com
SUMMARY:Antilla Sants Tardeo - SBT
DESCRIPTION:📝 Description and Salsa Style: Workshop from 18.00 to 19.00. Social from 19.oo. Salsa\, Timba\, Bachata. \n💃 Dancer Level: All levels. \n👥 Average Age: 20-40 years old\, all ages welcome. \n🔄 Recurrence: Every Sunday.
URL:https://bcnsalsacalendar.com/event/antilla-from-18-00-to-23-00-2/2025-11-30/
LOCATION:Antilla Sants\, Carrer d'Alcolea\, 100\, Sants-Montjuïc\, Barcelona\, Catalonia\, 08014\, Spain
CATEGORIES:Salsa Cubana,Salsa&Bachata,Son Cubano,Timba
ATTACH;FMTTYPE=image/png:https://bcnsalsacalendar.com/wp-content/uploads/2025/06/Antilla-Nuevo.png
GEO:41.3797977;2.1352267
X-APPLE-STRUCTURED-LOCATION;VALUE=URI;X-ADDRESS=Antilla Sants Carrer d'Alcolea 100 Sants-Montjuïc Barcelona Catalonia 08014 Spain;X-APPLE-RADIUS=500;X-TITLE=Carrer d'Alcolea\, 100\, Sants-Montjuïc:geo:2.1352267,41.3797977
END:VEVENT
BEGIN:VEVENT
DTSTART;TZID=UTC:20251130T180000
DTEND;TZID=UTC:20251130T230000
DTSTAMP:20260421T202027
CREATED:20251113T164003Z
LAST-MODIFIED:20251212T112423Z
UID:10022939-1764525600-1764543600@bcnsalsacalendar.com
SUMMARY:Sonido de Barrio - 100% Salsa
DESCRIPTION:📝 Description and Salsa Style: 100% Salsa. \n💃 Dancer Level: All level. \n👥 Average Age: 25-60 years old\, all ages welcome. \n🔄 Recurrence: Occasionally.
URL:https://bcnsalsacalendar.com/event/sonido-de-barrio-100-salsa-brava/2025-11-30/
LOCATION:Antilla Sants\, Carrer d'Alcolea\, 100\, Sants-Montjuïc\, Barcelona\, Catalonia\, 08014\, Spain
CATEGORIES:SalsaOn1,SalsaOn2,Son Cubano
ATTACH;FMTTYPE=image/jpeg:https://bcnsalsacalendar.com/wp-content/uploads/2025/11/Screenshot_20251212_122235_Instagram.jpg
GEO:41.3797977;2.1352267
X-APPLE-STRUCTURED-LOCATION;VALUE=URI;X-ADDRESS=Antilla Sants Carrer d'Alcolea 100 Sants-Montjuïc Barcelona Catalonia 08014 Spain;X-APPLE-RADIUS=500;X-TITLE=Carrer d'Alcolea\, 100\, Sants-Montjuïc:geo:2.1352267,41.3797977
END:VEVENT
BEGIN:VEVENT
DTSTART;TZID=UTC:20251130T190000
DTEND;TZID=UTC:20251130T230000
DTSTAMP:20260421T202027
CREATED:20250628T162908Z
LAST-MODIFIED:20250918T092443Z
UID:10021814-1764529200-1764543600@bcnsalsacalendar.com
SUMMARY:Salamandra Salsa Bachata Timba
DESCRIPTION:📝 Description and Salsa Style: Timba\, Salsa On1 and On2\, Bachata. \n💃 Dancer Level: Regarding Salsa\, all levels. \n👥 Average Age: 25-45 years old\, all ages welcome. \n🔄 Recurrence: Every Sunday.
URL:https://bcnsalsacalendar.com/event/salamandra-sbt-2/2025-11-30/
LOCATION:Sala Salamandra\, Avinguda del Carrilet\, 235\, L'Hospitalet de Llobregat\, Barcelona\, 08907\, Spain
CATEGORIES:Salsa Cubana,Salsa&Bachata,SalsaOn1,SalsaOn2,Son Cubano,Timba
ATTACH;FMTTYPE=image/jpeg:https://bcnsalsacalendar.com/wp-content/uploads/2024/12/Salamandra-2.jpg
END:VEVENT
BEGIN:VEVENT
DTSTART;TZID=UTC:20251130T210000
DTEND;TZID=UTC:20251201T023000
DTSTAMP:20260421T202027
CREATED:20250227T112354Z
LAST-MODIFIED:20251103T091425Z
UID:10009267-1764536400-1764556200@bcnsalsacalendar.com
SUMMARY:AfroLatin Jam All Stars in Marula
DESCRIPTION:📝 Description and Salsa Style: Live Salsa concert. Rather a place where people (dancers or not) gathers to enjoy live music. Salsa brava and salsa dura music. Dancers are dancing any type of Salsa. \n💃 Dancer Level: All levels. Mostly beginner and intermediate. \n👥 Average Age: 25-45 years old\, all ages welcome. \n🔄 Recurrence: Every Sunday. \n  \n 
URL:https://bcnsalsacalendar.com/event/afro-latin-jam-in-marula-2/2025-11-30/
LOCATION:Marula Café Barcelona\, Carrer dels Escudellers\, 49\, Ciutat Vella\, 08002 Barcelona\, Barcelona\, Barcelona\, 08002\, Spain
CATEGORIES:Live Salsa,Salsa Cubana,SalsaOn1,SalsaOn2
ATTACH;FMTTYPE=image/png:https://bcnsalsacalendar.com/wp-content/uploads/2024/12/marula-2.png
END:VEVENT
END:VCALENDAR