BEGIN:VCALENDAR
VERSION:2.0
PRODID:-//Welcome - ECPv6.15.20//NONSGML v1.0//EN
CALSCALE:GREGORIAN
METHOD:PUBLISH
X-WR-CALNAME:Welcome
X-ORIGINAL-URL:https://bcnsalsacalendar.com
X-WR-CALDESC:Events for Welcome
REFRESH-INTERVAL;VALUE=DURATION:PT1H
X-Robots-Tag:noindex
X-PUBLISHED-TTL:PT1H
BEGIN:VTIMEZONE
TZID:UTC
BEGIN:STANDARD
TZOFFSETFROM:+0000
TZOFFSETTO:+0000
TZNAME:UTC
DTSTART:20250101T000000
END:STANDARD
END:VTIMEZONE
BEGIN:VEVENT
DTSTART;TZID=UTC:20260424T233000
DTEND;TZID=UTC:20260425T030000
DTSTAMP:20260420T210438
CREATED:20250711T091306Z
LAST-MODIFIED:20260213T085535Z
UID:10006303-1777073400-1777086000@bcnsalsacalendar.com
SUMMARY:Live Salsa Music & Dancing Diobar
DESCRIPTION:📝 Description and Salsa Style: Live Salsa concert in the basement of a restaurant. Rather a place where people (dancers or not) gathers to enjoy live music. Dancers are dancing any type of Salsa. Limited space for dancing. \n💃 Dancer Level: Mostly beginner. \n👥 Average Age: 25-45 years old\, all ages welcome. \n🔄 Recurrence: Occasionaly.
URL:https://bcnsalsacalendar.com/event/live-salsa-music-diobar-2-2/2026-04-24/
LOCATION:Diobar\, Av marques de Argentera 27\, Barcelona\, Barcelona\, 08003\, Spain
CATEGORIES:Live Salsa,Salsa Cubana,Salsa&Bachata,SalsaOn1,SalsaOn2,Son Cubano
ATTACH;FMTTYPE=image/png:https://bcnsalsacalendar.com/wp-content/uploads/2024/12/diobar-2.png
END:VEVENT
BEGIN:VEVENT
DTSTART;TZID=UTC:20260426T210000
DTEND;TZID=UTC:20260427T023000
DTSTAMP:20260420T210438
CREATED:20250227T112354Z
LAST-MODIFIED:20251103T091425Z
UID:10009288-1777237200-1777257000@bcnsalsacalendar.com
SUMMARY:AfroLatin Jam All Stars in Marula
DESCRIPTION:📝 Description and Salsa Style: Live Salsa concert. Rather a place where people (dancers or not) gathers to enjoy live music. Salsa brava and salsa dura music. Dancers are dancing any type of Salsa. \n💃 Dancer Level: All levels. Mostly beginner and intermediate. \n👥 Average Age: 25-45 years old\, all ages welcome. \n🔄 Recurrence: Every Sunday. \n  \n 
URL:https://bcnsalsacalendar.com/event/afro-latin-jam-in-marula-2/2026-04-26/
LOCATION:Marula Café Barcelona\, Carrer dels Escudellers\, 49\, Ciutat Vella\, 08002 Barcelona\, Barcelona\, Barcelona\, 08002\, Spain
CATEGORIES:Live Salsa,Salsa Cubana,SalsaOn1,SalsaOn2
ATTACH;FMTTYPE=image/png:https://bcnsalsacalendar.com/wp-content/uploads/2024/12/marula-2.png
END:VEVENT
END:VCALENDAR