BEGIN:VCALENDAR
VERSION:2.0
PRODID:-//Welcome - ECPv6.15.20//NONSGML v1.0//EN
CALSCALE:GREGORIAN
METHOD:PUBLISH
X-WR-CALNAME:Welcome
X-ORIGINAL-URL:https://bcnsalsacalendar.com
X-WR-CALDESC:Events for Welcome
REFRESH-INTERVAL;VALUE=DURATION:PT1H
X-Robots-Tag:noindex
X-PUBLISHED-TTL:PT1H
BEGIN:VTIMEZONE
TZID:UTC
BEGIN:STANDARD
TZOFFSETFROM:+0000
TZOFFSETTO:+0000
TZNAME:UTC
DTSTART:20230101T000000
END:STANDARD
END:VTIMEZONE
BEGIN:VEVENT
DTSTART;TZID=UTC:20241213T183000
DTEND;TZID=UTC:20241213T213000
DTSTAMP:20260422T105836
CREATED:20241204T115403Z
LAST-MODIFIED:20241204T115403Z
UID:10000002-1734114600-1734125400@bcnsalsacalendar.com
SUMMARY:Timba Cuitadella
DESCRIPTION:At the kiosk\, near to the waterfall\, every friday from 18.30 to 21.30\, \n100% Timba (cuban salsa type)
URL:https://bcnsalsacalendar.com/event/timba-cuitadella-2/
LOCATION:Cuitadella park\, Plaça de Sonia Rescalvo Zafra\, Barcelona\, Barcelona\, 08003\, Spain
CATEGORIES:Timba
ATTACH;FMTTYPE=image/png:https://bcnsalsacalendar.com/wp-content/uploads/2024/11/Sin-salsa-no-hay.png
END:VEVENT
BEGIN:VEVENT
DTSTART;TZID=UTC:20241213T190000
DTEND;TZID=UTC:20241213T230000
DTSTAMP:20260422T105836
CREATED:20241204T122331Z
LAST-MODIFIED:20241204T122331Z
UID:10000004-1734116400-1734130800@bcnsalsacalendar.com
SUMMARY:Street Timba
DESCRIPTION:Street Timba is a 100% Timba party\, organized by renowned Timba DJs in Barcelona. You will find one of the highest level of Timba dancers in Barcelona Timba socials.
URL:https://bcnsalsacalendar.com/event/street-timba/
LOCATION:Sala Delirio\, Calle de Aribau\, 191\, Barcelona\, Barcelona\, 08021\, Spain
CATEGORIES:Timba
ATTACH;FMTTYPE=image/png:https://bcnsalsacalendar.com/wp-content/uploads/2024/12/Street-Timba.png
END:VEVENT
BEGIN:VEVENT
DTSTART;TZID=UTC:20241215T190000
DTEND;TZID=UTC:20241215T230000
DTSTAMP:20260422T105836
CREATED:20241209T173402Z
LAST-MODIFIED:20250314T124804Z
UID:10006212-1734289200-1734303600@bcnsalsacalendar.com
SUMMARY:Salamandra SBT
DESCRIPTION:📝 Description and Salsa Style: Timba\, Salsa On1 and On2\, Bachata. \n💃 Dancer Level: Regarding Salsa\, all levels. \n👥 Average Age: 25-45 years old\, all ages welcome. \n🔄 Recurrence: Every Sunday.
URL:https://bcnsalsacalendar.com/event/salamandra-sbt/2024-12-15/
LOCATION:Sala Salamandra\, Avinguda del Carrilet\, 235\, L'Hospitalet de Llobregat\, Barcelona\, 08907\, Spain
CATEGORIES:Salsa Cubana,Salsa&Bachata,SalsaOn1,SalsaOn2,Timba
ATTACH;FMTTYPE=image/jpeg:https://bcnsalsacalendar.com/wp-content/uploads/2024/12/Salamandra-2.jpg
END:VEVENT
BEGIN:VEVENT
DTSTART;TZID=UTC:20241220T184500
DTEND;TZID=UTC:20241220T213000
DTSTAMP:20260422T105836
CREATED:20241204T115811Z
LAST-MODIFIED:20250521T090108Z
UID:10010454-1734720300-1734730200@bcnsalsacalendar.com
SUMMARY:Free Outdoor Salsa and Timba Social
DESCRIPTION:📝 Description and Salsa Style: Free outdoor event\, in the kiosk\, right next to the water fountain. 100% Timba. \n💃 Dancer Level: All levels. \n👥 Average Age: 25-45 years old\, all ages welcome. \n🔄 Recurrence: Every Friday.
URL:https://bcnsalsacalendar.com/event/timba-cuitadella-3/2024-12-20/
LOCATION:Cuitadella park\, Plaça de Sonia Rescalvo Zafra\, Barcelona\, Barcelona\, 08003\, Spain
CATEGORIES:Salsa Cubana,Timba
ATTACH;FMTTYPE=image/jpeg:https://bcnsalsacalendar.com/wp-content/uploads/2024/12/WhatsApp-Image-2025-05-02-at-10.34.25-AM.jpeg
END:VEVENT
BEGIN:VEVENT
DTSTART;TZID=UTC:20241222T190000
DTEND;TZID=UTC:20241222T230000
DTSTAMP:20260422T105836
CREATED:20241209T173402Z
LAST-MODIFIED:20250314T124804Z
UID:10006213-1734894000-1734908400@bcnsalsacalendar.com
SUMMARY:Salamandra SBT
DESCRIPTION:📝 Description and Salsa Style: Timba\, Salsa On1 and On2\, Bachata. \n💃 Dancer Level: Regarding Salsa\, all levels. \n👥 Average Age: 25-45 years old\, all ages welcome. \n🔄 Recurrence: Every Sunday.
URL:https://bcnsalsacalendar.com/event/salamandra-sbt/2024-12-22/
LOCATION:Sala Salamandra\, Avinguda del Carrilet\, 235\, L'Hospitalet de Llobregat\, Barcelona\, 08907\, Spain
CATEGORIES:Salsa Cubana,Salsa&Bachata,SalsaOn1,SalsaOn2,Timba
ATTACH;FMTTYPE=image/jpeg:https://bcnsalsacalendar.com/wp-content/uploads/2024/12/Salamandra-2.jpg
END:VEVENT
BEGIN:VEVENT
DTSTART;TZID=UTC:20241227T184500
DTEND;TZID=UTC:20241227T213000
DTSTAMP:20260422T105836
CREATED:20241204T115811Z
LAST-MODIFIED:20250521T090108Z
UID:10010455-1735325100-1735335000@bcnsalsacalendar.com
SUMMARY:Free Outdoor Salsa and Timba Social
DESCRIPTION:📝 Description and Salsa Style: Free outdoor event\, in the kiosk\, right next to the water fountain. 100% Timba. \n💃 Dancer Level: All levels. \n👥 Average Age: 25-45 years old\, all ages welcome. \n🔄 Recurrence: Every Friday.
URL:https://bcnsalsacalendar.com/event/timba-cuitadella-3/2024-12-27/
LOCATION:Cuitadella park\, Plaça de Sonia Rescalvo Zafra\, Barcelona\, Barcelona\, 08003\, Spain
CATEGORIES:Salsa Cubana,Timba
ATTACH;FMTTYPE=image/jpeg:https://bcnsalsacalendar.com/wp-content/uploads/2024/12/WhatsApp-Image-2025-05-02-at-10.34.25-AM.jpeg
END:VEVENT
BEGIN:VEVENT
DTSTART;TZID=UTC:20241229T190000
DTEND;TZID=UTC:20241229T230000
DTSTAMP:20260422T105836
CREATED:20241209T173402Z
LAST-MODIFIED:20250314T124804Z
UID:10006214-1735498800-1735513200@bcnsalsacalendar.com
SUMMARY:Salamandra SBT
DESCRIPTION:📝 Description and Salsa Style: Timba\, Salsa On1 and On2\, Bachata. \n💃 Dancer Level: Regarding Salsa\, all levels. \n👥 Average Age: 25-45 years old\, all ages welcome. \n🔄 Recurrence: Every Sunday.
URL:https://bcnsalsacalendar.com/event/salamandra-sbt/2024-12-29/
LOCATION:Sala Salamandra\, Avinguda del Carrilet\, 235\, L'Hospitalet de Llobregat\, Barcelona\, 08907\, Spain
CATEGORIES:Salsa Cubana,Salsa&Bachata,SalsaOn1,SalsaOn2,Timba
ATTACH;FMTTYPE=image/jpeg:https://bcnsalsacalendar.com/wp-content/uploads/2024/12/Salamandra-2.jpg
END:VEVENT
BEGIN:VEVENT
DTSTART;TZID=UTC:20250103T184500
DTEND;TZID=UTC:20250103T213000
DTSTAMP:20260422T105836
CREATED:20241204T115811Z
LAST-MODIFIED:20250521T090108Z
UID:10010456-1735929900-1735939800@bcnsalsacalendar.com
SUMMARY:Free Outdoor Salsa and Timba Social
DESCRIPTION:📝 Description and Salsa Style: Free outdoor event\, in the kiosk\, right next to the water fountain. 100% Timba. \n💃 Dancer Level: All levels. \n👥 Average Age: 25-45 years old\, all ages welcome. \n🔄 Recurrence: Every Friday.
URL:https://bcnsalsacalendar.com/event/timba-cuitadella-3/2025-01-03/
LOCATION:Cuitadella park\, Plaça de Sonia Rescalvo Zafra\, Barcelona\, Barcelona\, 08003\, Spain
CATEGORIES:Salsa Cubana,Timba
ATTACH;FMTTYPE=image/jpeg:https://bcnsalsacalendar.com/wp-content/uploads/2024/12/WhatsApp-Image-2025-05-02-at-10.34.25-AM.jpeg
END:VEVENT
BEGIN:VEVENT
DTSTART;TZID=UTC:20250105T190000
DTEND;TZID=UTC:20250105T230000
DTSTAMP:20260422T105836
CREATED:20241209T173402Z
LAST-MODIFIED:20250314T124804Z
UID:10006215-1736103600-1736118000@bcnsalsacalendar.com
SUMMARY:Salamandra SBT
DESCRIPTION:📝 Description and Salsa Style: Timba\, Salsa On1 and On2\, Bachata. \n💃 Dancer Level: Regarding Salsa\, all levels. \n👥 Average Age: 25-45 years old\, all ages welcome. \n🔄 Recurrence: Every Sunday.
URL:https://bcnsalsacalendar.com/event/salamandra-sbt/2025-01-05/
LOCATION:Sala Salamandra\, Avinguda del Carrilet\, 235\, L'Hospitalet de Llobregat\, Barcelona\, 08907\, Spain
CATEGORIES:Salsa Cubana,Salsa&Bachata,SalsaOn1,SalsaOn2,Timba
ATTACH;FMTTYPE=image/jpeg:https://bcnsalsacalendar.com/wp-content/uploads/2024/12/Salamandra-2.jpg
END:VEVENT
BEGIN:VEVENT
DTSTART;TZID=UTC:20250110T184500
DTEND;TZID=UTC:20250110T213000
DTSTAMP:20260422T105836
CREATED:20241204T115811Z
LAST-MODIFIED:20250521T090108Z
UID:10010457-1736534700-1736544600@bcnsalsacalendar.com
SUMMARY:Free Outdoor Salsa and Timba Social
DESCRIPTION:📝 Description and Salsa Style: Free outdoor event\, in the kiosk\, right next to the water fountain. 100% Timba. \n💃 Dancer Level: All levels. \n👥 Average Age: 25-45 years old\, all ages welcome. \n🔄 Recurrence: Every Friday.
URL:https://bcnsalsacalendar.com/event/timba-cuitadella-3/2025-01-10/
LOCATION:Cuitadella park\, Plaça de Sonia Rescalvo Zafra\, Barcelona\, Barcelona\, 08003\, Spain
CATEGORIES:Salsa Cubana,Timba
ATTACH;FMTTYPE=image/jpeg:https://bcnsalsacalendar.com/wp-content/uploads/2024/12/WhatsApp-Image-2025-05-02-at-10.34.25-AM.jpeg
END:VEVENT
BEGIN:VEVENT
DTSTART;TZID=UTC:20250112T190000
DTEND;TZID=UTC:20250112T230000
DTSTAMP:20260422T105836
CREATED:20241209T173402Z
LAST-MODIFIED:20250314T124804Z
UID:10006216-1736708400-1736722800@bcnsalsacalendar.com
SUMMARY:Salamandra SBT
DESCRIPTION:📝 Description and Salsa Style: Timba\, Salsa On1 and On2\, Bachata. \n💃 Dancer Level: Regarding Salsa\, all levels. \n👥 Average Age: 25-45 years old\, all ages welcome. \n🔄 Recurrence: Every Sunday.
URL:https://bcnsalsacalendar.com/event/salamandra-sbt/2025-01-12/
LOCATION:Sala Salamandra\, Avinguda del Carrilet\, 235\, L'Hospitalet de Llobregat\, Barcelona\, 08907\, Spain
CATEGORIES:Salsa Cubana,Salsa&Bachata,SalsaOn1,SalsaOn2,Timba
ATTACH;FMTTYPE=image/jpeg:https://bcnsalsacalendar.com/wp-content/uploads/2024/12/Salamandra-2.jpg
END:VEVENT
BEGIN:VEVENT
DTSTART;TZID=UTC:20250115T220000
DTEND;TZID=UTC:20250116T030000
DTSTAMP:20260422T105836
CREATED:20250109T115113Z
LAST-MODIFIED:20250609T095953Z
UID:10004596-1736978400-1736996400@bcnsalsacalendar.com
SUMMARY:Antilla - Salsa Timba Bachata
DESCRIPTION:📝 Description and Salsa Style: Workshop from 22.00 to 23.00. Social from 23.00. Salsa\, Timba\, Bachata. \n💃 Dancer Level: All levels. \n👥 Average Age: 20-50 years old\, all ages welcome. \n🔄 Recurrence: Every Wednesday. \n 
URL:https://bcnsalsacalendar.com/event/antilla/2025-01-15/
LOCATION:Antilla\, Carrer de Viladomat\, 211\, L'Eixample\, Barcelona\, Catalonia\, 08015\, Spain
CATEGORIES:Salsa Cubana,Salsa&Bachata,Son Cubano,Timba
ATTACH;FMTTYPE=image/png:https://bcnsalsacalendar.com/wp-content/uploads/2025/02/Antilla.png
END:VEVENT
BEGIN:VEVENT
DTSTART;TZID=UTC:20250116T210000
DTEND;TZID=UTC:20250117T023000
DTSTAMP:20260422T105836
CREATED:20250116T125259Z
LAST-MODIFIED:20250806T093253Z
UID:10004332-1737061200-1737081000@bcnsalsacalendar.com
SUMMARY:Sala Vivaldi - Cuban Salsa & Bachata
DESCRIPTION:📝 Description and Salsa Style: 21.00 – 23.00 : Workshops with 2 levels of Cuban Salsa and Bachata. Social from 23.00. \n💃 Dancer Level: Dancers mostly beginners and intermediates. Advanced dancers later during social. \n👥 Average Age: 20-40 years old\, all ages welcome. \n🔄 Recurrence: Every Thursday.
URL:https://bcnsalsacalendar.com/event/sala-vivaldi-2/2025-01-16/
LOCATION:Sala Vivaldi\, Carrer de Llança\, 5\, L'Eixample\, Barcelona\, Catalonia\, 08015\, Spain
CATEGORIES:Salsa Cubana,Salsa&Bachata,Son Cubano,Timba
ATTACH;FMTTYPE=image/png:https://bcnsalsacalendar.com/wp-content/uploads/2025/01/sala-vi.png
END:VEVENT
BEGIN:VEVENT
DTSTART;TZID=UTC:20250117T184500
DTEND;TZID=UTC:20250117T213000
DTSTAMP:20260422T105836
CREATED:20241204T115811Z
LAST-MODIFIED:20250521T090108Z
UID:10010458-1737139500-1737149400@bcnsalsacalendar.com
SUMMARY:Free Outdoor Salsa and Timba Social
DESCRIPTION:📝 Description and Salsa Style: Free outdoor event\, in the kiosk\, right next to the water fountain. 100% Timba. \n💃 Dancer Level: All levels. \n👥 Average Age: 25-45 years old\, all ages welcome. \n🔄 Recurrence: Every Friday.
URL:https://bcnsalsacalendar.com/event/timba-cuitadella-3/2025-01-17/
LOCATION:Cuitadella park\, Plaça de Sonia Rescalvo Zafra\, Barcelona\, Barcelona\, 08003\, Spain
CATEGORIES:Salsa Cubana,Timba
ATTACH;FMTTYPE=image/jpeg:https://bcnsalsacalendar.com/wp-content/uploads/2024/12/WhatsApp-Image-2025-05-02-at-10.34.25-AM.jpeg
END:VEVENT
BEGIN:VEVENT
DTSTART;TZID=UTC:20250119T180000
DTEND;TZID=UTC:20250119T230000
DTSTAMP:20260422T105836
CREATED:20250105T113250Z
LAST-MODIFIED:20250105T113250Z
UID:10001342-1737309600-1737327600@bcnsalsacalendar.com
SUMMARY:La Descarguita
DESCRIPTION:Live Timba concert. All levels\, many advanced. \n  \n 
URL:https://bcnsalsacalendar.com/event/la-descarguita/
LOCATION:Sala La Nau\, Carrer d´àlaba\, 30\, Barcelona\, Barcelona
CATEGORIES:Live Salsa,Timba
END:VEVENT
BEGIN:VEVENT
DTSTART;TZID=UTC:20250119T190000
DTEND;TZID=UTC:20250119T230000
DTSTAMP:20260422T105836
CREATED:20241209T173402Z
LAST-MODIFIED:20250314T124804Z
UID:10006217-1737313200-1737327600@bcnsalsacalendar.com
SUMMARY:Salamandra SBT
DESCRIPTION:📝 Description and Salsa Style: Timba\, Salsa On1 and On2\, Bachata. \n💃 Dancer Level: Regarding Salsa\, all levels. \n👥 Average Age: 25-45 years old\, all ages welcome. \n🔄 Recurrence: Every Sunday.
URL:https://bcnsalsacalendar.com/event/salamandra-sbt/2025-01-19/
LOCATION:Sala Salamandra\, Avinguda del Carrilet\, 235\, L'Hospitalet de Llobregat\, Barcelona\, 08907\, Spain
CATEGORIES:Salsa Cubana,Salsa&Bachata,SalsaOn1,SalsaOn2,Timba
ATTACH;FMTTYPE=image/jpeg:https://bcnsalsacalendar.com/wp-content/uploads/2024/12/Salamandra-2.jpg
END:VEVENT
BEGIN:VEVENT
DTSTART;TZID=UTC:20250122T220000
DTEND;TZID=UTC:20250123T030000
DTSTAMP:20260422T105836
CREATED:20250109T115113Z
LAST-MODIFIED:20250609T095953Z
UID:10004597-1737583200-1737601200@bcnsalsacalendar.com
SUMMARY:Antilla - Salsa Timba Bachata
DESCRIPTION:📝 Description and Salsa Style: Workshop from 22.00 to 23.00. Social from 23.00. Salsa\, Timba\, Bachata. \n💃 Dancer Level: All levels. \n👥 Average Age: 20-50 years old\, all ages welcome. \n🔄 Recurrence: Every Wednesday. \n 
URL:https://bcnsalsacalendar.com/event/antilla/2025-01-22/
LOCATION:Antilla\, Carrer de Viladomat\, 211\, L'Eixample\, Barcelona\, Catalonia\, 08015\, Spain
CATEGORIES:Salsa Cubana,Salsa&Bachata,Son Cubano,Timba
ATTACH;FMTTYPE=image/png:https://bcnsalsacalendar.com/wp-content/uploads/2025/02/Antilla.png
END:VEVENT
BEGIN:VEVENT
DTSTART;TZID=UTC:20250123T210000
DTEND;TZID=UTC:20250124T023000
DTSTAMP:20260422T105836
CREATED:20250116T125259Z
LAST-MODIFIED:20250806T093253Z
UID:10004333-1737666000-1737685800@bcnsalsacalendar.com
SUMMARY:Sala Vivaldi - Cuban Salsa & Bachata
DESCRIPTION:📝 Description and Salsa Style: 21.00 – 23.00 : Workshops with 2 levels of Cuban Salsa and Bachata. Social from 23.00. \n💃 Dancer Level: Dancers mostly beginners and intermediates. Advanced dancers later during social. \n👥 Average Age: 20-40 years old\, all ages welcome. \n🔄 Recurrence: Every Thursday.
URL:https://bcnsalsacalendar.com/event/sala-vivaldi-2/2025-01-23/
LOCATION:Sala Vivaldi\, Carrer de Llança\, 5\, L'Eixample\, Barcelona\, Catalonia\, 08015\, Spain
CATEGORIES:Salsa Cubana,Salsa&Bachata,Son Cubano,Timba
ATTACH;FMTTYPE=image/png:https://bcnsalsacalendar.com/wp-content/uploads/2025/01/sala-vi.png
END:VEVENT
BEGIN:VEVENT
DTSTART;TZID=UTC:20250124T184500
DTEND;TZID=UTC:20250124T213000
DTSTAMP:20260422T105836
CREATED:20241204T115811Z
LAST-MODIFIED:20250521T090108Z
UID:10010459-1737744300-1737754200@bcnsalsacalendar.com
SUMMARY:Free Outdoor Salsa and Timba Social
DESCRIPTION:📝 Description and Salsa Style: Free outdoor event\, in the kiosk\, right next to the water fountain. 100% Timba. \n💃 Dancer Level: All levels. \n👥 Average Age: 25-45 years old\, all ages welcome. \n🔄 Recurrence: Every Friday.
URL:https://bcnsalsacalendar.com/event/timba-cuitadella-3/2025-01-24/
LOCATION:Cuitadella park\, Plaça de Sonia Rescalvo Zafra\, Barcelona\, Barcelona\, 08003\, Spain
CATEGORIES:Salsa Cubana,Timba
ATTACH;FMTTYPE=image/jpeg:https://bcnsalsacalendar.com/wp-content/uploads/2024/12/WhatsApp-Image-2025-05-02-at-10.34.25-AM.jpeg
END:VEVENT
BEGIN:VEVENT
DTSTART;TZID=UTC:20250126T190000
DTEND;TZID=UTC:20250126T230000
DTSTAMP:20260422T105836
CREATED:20241209T173402Z
LAST-MODIFIED:20250314T124804Z
UID:10006218-1737918000-1737932400@bcnsalsacalendar.com
SUMMARY:Salamandra SBT
DESCRIPTION:📝 Description and Salsa Style: Timba\, Salsa On1 and On2\, Bachata. \n💃 Dancer Level: Regarding Salsa\, all levels. \n👥 Average Age: 25-45 years old\, all ages welcome. \n🔄 Recurrence: Every Sunday.
URL:https://bcnsalsacalendar.com/event/salamandra-sbt/2025-01-26/
LOCATION:Sala Salamandra\, Avinguda del Carrilet\, 235\, L'Hospitalet de Llobregat\, Barcelona\, 08907\, Spain
CATEGORIES:Salsa Cubana,Salsa&Bachata,SalsaOn1,SalsaOn2,Timba
ATTACH;FMTTYPE=image/jpeg:https://bcnsalsacalendar.com/wp-content/uploads/2024/12/Salamandra-2.jpg
END:VEVENT
BEGIN:VEVENT
DTSTART;TZID=UTC:20250129T220000
DTEND;TZID=UTC:20250130T030000
DTSTAMP:20260422T105836
CREATED:20250109T115113Z
LAST-MODIFIED:20250609T095953Z
UID:10004598-1738188000-1738206000@bcnsalsacalendar.com
SUMMARY:Antilla - Salsa Timba Bachata
DESCRIPTION:📝 Description and Salsa Style: Workshop from 22.00 to 23.00. Social from 23.00. Salsa\, Timba\, Bachata. \n💃 Dancer Level: All levels. \n👥 Average Age: 20-50 years old\, all ages welcome. \n🔄 Recurrence: Every Wednesday. \n 
URL:https://bcnsalsacalendar.com/event/antilla/2025-01-29/
LOCATION:Antilla\, Carrer de Viladomat\, 211\, L'Eixample\, Barcelona\, Catalonia\, 08015\, Spain
CATEGORIES:Salsa Cubana,Salsa&Bachata,Son Cubano,Timba
ATTACH;FMTTYPE=image/png:https://bcnsalsacalendar.com/wp-content/uploads/2025/02/Antilla.png
END:VEVENT
BEGIN:VEVENT
DTSTART;TZID=UTC:20250130T210000
DTEND;TZID=UTC:20250131T023000
DTSTAMP:20260422T105836
CREATED:20250116T125259Z
LAST-MODIFIED:20250806T093253Z
UID:10004334-1738270800-1738290600@bcnsalsacalendar.com
SUMMARY:Sala Vivaldi - Cuban Salsa & Bachata
DESCRIPTION:📝 Description and Salsa Style: 21.00 – 23.00 : Workshops with 2 levels of Cuban Salsa and Bachata. Social from 23.00. \n💃 Dancer Level: Dancers mostly beginners and intermediates. Advanced dancers later during social. \n👥 Average Age: 20-40 years old\, all ages welcome. \n🔄 Recurrence: Every Thursday.
URL:https://bcnsalsacalendar.com/event/sala-vivaldi-2/2025-01-30/
LOCATION:Sala Vivaldi\, Carrer de Llança\, 5\, L'Eixample\, Barcelona\, Catalonia\, 08015\, Spain
CATEGORIES:Salsa Cubana,Salsa&Bachata,Son Cubano,Timba
ATTACH;FMTTYPE=image/png:https://bcnsalsacalendar.com/wp-content/uploads/2025/01/sala-vi.png
END:VEVENT
BEGIN:VEVENT
DTSTART;TZID=UTC:20250131T184500
DTEND;TZID=UTC:20250131T213000
DTSTAMP:20260422T105836
CREATED:20241204T115811Z
LAST-MODIFIED:20250521T090108Z
UID:10010460-1738349100-1738359000@bcnsalsacalendar.com
SUMMARY:Free Outdoor Salsa and Timba Social
DESCRIPTION:📝 Description and Salsa Style: Free outdoor event\, in the kiosk\, right next to the water fountain. 100% Timba. \n💃 Dancer Level: All levels. \n👥 Average Age: 25-45 years old\, all ages welcome. \n🔄 Recurrence: Every Friday.
URL:https://bcnsalsacalendar.com/event/timba-cuitadella-3/2025-01-31/
LOCATION:Cuitadella park\, Plaça de Sonia Rescalvo Zafra\, Barcelona\, Barcelona\, 08003\, Spain
CATEGORIES:Salsa Cubana,Timba
ATTACH;FMTTYPE=image/jpeg:https://bcnsalsacalendar.com/wp-content/uploads/2024/12/WhatsApp-Image-2025-05-02-at-10.34.25-AM.jpeg
END:VEVENT
BEGIN:VEVENT
DTSTART;TZID=UTC:20250202T190000
DTEND;TZID=UTC:20250202T230000
DTSTAMP:20260422T105836
CREATED:20241209T173402Z
LAST-MODIFIED:20250314T124804Z
UID:10006219-1738522800-1738537200@bcnsalsacalendar.com
SUMMARY:Salamandra SBT
DESCRIPTION:📝 Description and Salsa Style: Timba\, Salsa On1 and On2\, Bachata. \n💃 Dancer Level: Regarding Salsa\, all levels. \n👥 Average Age: 25-45 years old\, all ages welcome. \n🔄 Recurrence: Every Sunday.
URL:https://bcnsalsacalendar.com/event/salamandra-sbt/2025-02-02/
LOCATION:Sala Salamandra\, Avinguda del Carrilet\, 235\, L'Hospitalet de Llobregat\, Barcelona\, 08907\, Spain
CATEGORIES:Salsa Cubana,Salsa&Bachata,SalsaOn1,SalsaOn2,Timba
ATTACH;FMTTYPE=image/jpeg:https://bcnsalsacalendar.com/wp-content/uploads/2024/12/Salamandra-2.jpg
END:VEVENT
BEGIN:VEVENT
DTSTART;TZID=UTC:20250205T220000
DTEND;TZID=UTC:20250206T030000
DTSTAMP:20260422T105836
CREATED:20250109T115113Z
LAST-MODIFIED:20250609T095953Z
UID:10004599-1738792800-1738810800@bcnsalsacalendar.com
SUMMARY:Antilla - Salsa Timba Bachata
DESCRIPTION:📝 Description and Salsa Style: Workshop from 22.00 to 23.00. Social from 23.00. Salsa\, Timba\, Bachata. \n💃 Dancer Level: All levels. \n👥 Average Age: 20-50 years old\, all ages welcome. \n🔄 Recurrence: Every Wednesday. \n 
URL:https://bcnsalsacalendar.com/event/antilla/2025-02-05/
LOCATION:Antilla\, Carrer de Viladomat\, 211\, L'Eixample\, Barcelona\, Catalonia\, 08015\, Spain
CATEGORIES:Salsa Cubana,Salsa&Bachata,Son Cubano,Timba
ATTACH;FMTTYPE=image/png:https://bcnsalsacalendar.com/wp-content/uploads/2025/02/Antilla.png
END:VEVENT
BEGIN:VEVENT
DTSTART;TZID=UTC:20250206T210000
DTEND;TZID=UTC:20250207T023000
DTSTAMP:20260422T105836
CREATED:20250116T125259Z
LAST-MODIFIED:20250806T093253Z
UID:10004335-1738875600-1738895400@bcnsalsacalendar.com
SUMMARY:Sala Vivaldi - Cuban Salsa & Bachata
DESCRIPTION:📝 Description and Salsa Style: 21.00 – 23.00 : Workshops with 2 levels of Cuban Salsa and Bachata. Social from 23.00. \n💃 Dancer Level: Dancers mostly beginners and intermediates. Advanced dancers later during social. \n👥 Average Age: 20-40 years old\, all ages welcome. \n🔄 Recurrence: Every Thursday.
URL:https://bcnsalsacalendar.com/event/sala-vivaldi-2/2025-02-06/
LOCATION:Sala Vivaldi\, Carrer de Llança\, 5\, L'Eixample\, Barcelona\, Catalonia\, 08015\, Spain
CATEGORIES:Salsa Cubana,Salsa&Bachata,Son Cubano,Timba
ATTACH;FMTTYPE=image/png:https://bcnsalsacalendar.com/wp-content/uploads/2025/01/sala-vi.png
END:VEVENT
BEGIN:VEVENT
DTSTART;TZID=UTC:20250207T184500
DTEND;TZID=UTC:20250207T213000
DTSTAMP:20260422T105836
CREATED:20241204T115811Z
LAST-MODIFIED:20250521T090108Z
UID:10010461-1738953900-1738963800@bcnsalsacalendar.com
SUMMARY:Free Outdoor Salsa and Timba Social
DESCRIPTION:📝 Description and Salsa Style: Free outdoor event\, in the kiosk\, right next to the water fountain. 100% Timba. \n💃 Dancer Level: All levels. \n👥 Average Age: 25-45 years old\, all ages welcome. \n🔄 Recurrence: Every Friday.
URL:https://bcnsalsacalendar.com/event/timba-cuitadella-3/2025-02-07/
LOCATION:Cuitadella park\, Plaça de Sonia Rescalvo Zafra\, Barcelona\, Barcelona\, 08003\, Spain
CATEGORIES:Salsa Cubana,Timba
ATTACH;FMTTYPE=image/jpeg:https://bcnsalsacalendar.com/wp-content/uploads/2024/12/WhatsApp-Image-2025-05-02-at-10.34.25-AM.jpeg
END:VEVENT
BEGIN:VEVENT
DTSTART;TZID=UTC:20250209T180000
DTEND;TZID=UTC:20250209T230000
DTSTAMP:20260422T105836
CREATED:20250204T101443Z
LAST-MODIFIED:20250614T174015Z
UID:10004322-1739124000-1739142000@bcnsalsacalendar.com
SUMMARY:Antilla Sants Tardeo - SBT
DESCRIPTION:📝 Description and Salsa Style: Workshop from 18.00 to 19.00. Social from 19.oo. Salsa\, Timba\, Bachata. \n💃 Dancer Level: All levels. \n👥 Average Age: 20-40 years old\, all ages welcome. \n🔄 Recurrence: Every Sunday.
URL:https://bcnsalsacalendar.com/event/antilla-from-18-00-to-23-00/2025-02-09/
LOCATION:Antilla Sants\, Carrer d'Alcolea\, 100\, Sants-Montjuïc\, Barcelona\, Catalonia\, 08014\, Spain
CATEGORIES:Salsa Cubana,Salsa&Bachata,Son Cubano,Timba
ATTACH;FMTTYPE=image/png:https://bcnsalsacalendar.com/wp-content/uploads/2025/06/Antilla-Nuevo.png
GEO:41.3797977;2.1352267
X-APPLE-STRUCTURED-LOCATION;VALUE=URI;X-ADDRESS=Antilla Sants Carrer d'Alcolea 100 Sants-Montjuïc Barcelona Catalonia 08014 Spain;X-APPLE-RADIUS=500;X-TITLE=Carrer d'Alcolea\, 100\, Sants-Montjuïc:geo:2.1352267,41.3797977
END:VEVENT
BEGIN:VEVENT
DTSTART;TZID=UTC:20250209T190000
DTEND;TZID=UTC:20250209T230000
DTSTAMP:20260422T105836
CREATED:20241209T173402Z
LAST-MODIFIED:20250314T124804Z
UID:10006220-1739127600-1739142000@bcnsalsacalendar.com
SUMMARY:Salamandra SBT
DESCRIPTION:📝 Description and Salsa Style: Timba\, Salsa On1 and On2\, Bachata. \n💃 Dancer Level: Regarding Salsa\, all levels. \n👥 Average Age: 25-45 years old\, all ages welcome. \n🔄 Recurrence: Every Sunday.
URL:https://bcnsalsacalendar.com/event/salamandra-sbt/2025-02-09/
LOCATION:Sala Salamandra\, Avinguda del Carrilet\, 235\, L'Hospitalet de Llobregat\, Barcelona\, 08907\, Spain
CATEGORIES:Salsa Cubana,Salsa&Bachata,SalsaOn1,SalsaOn2,Timba
ATTACH;FMTTYPE=image/jpeg:https://bcnsalsacalendar.com/wp-content/uploads/2024/12/Salamandra-2.jpg
END:VEVENT
BEGIN:VEVENT
DTSTART;TZID=UTC:20250212T220000
DTEND;TZID=UTC:20250213T030000
DTSTAMP:20260422T105836
CREATED:20250109T115113Z
LAST-MODIFIED:20250609T095953Z
UID:10004600-1739397600-1739415600@bcnsalsacalendar.com
SUMMARY:Antilla - Salsa Timba Bachata
DESCRIPTION:📝 Description and Salsa Style: Workshop from 22.00 to 23.00. Social from 23.00. Salsa\, Timba\, Bachata. \n💃 Dancer Level: All levels. \n👥 Average Age: 20-50 years old\, all ages welcome. \n🔄 Recurrence: Every Wednesday. \n 
URL:https://bcnsalsacalendar.com/event/antilla/2025-02-12/
LOCATION:Antilla\, Carrer de Viladomat\, 211\, L'Eixample\, Barcelona\, Catalonia\, 08015\, Spain
CATEGORIES:Salsa Cubana,Salsa&Bachata,Son Cubano,Timba
ATTACH;FMTTYPE=image/png:https://bcnsalsacalendar.com/wp-content/uploads/2025/02/Antilla.png
END:VEVENT
END:VCALENDAR