BEGIN:VCALENDAR
VERSION:2.0
PRODID:-//Welcome - ECPv6.15.20//NONSGML v1.0//EN
CALSCALE:GREGORIAN
METHOD:PUBLISH
X-WR-CALNAME:Welcome
X-ORIGINAL-URL:https://bcnsalsacalendar.com
X-WR-CALDESC:Events for Welcome
REFRESH-INTERVAL;VALUE=DURATION:PT1H
X-Robots-Tag:noindex
X-PUBLISHED-TTL:PT1H
BEGIN:VTIMEZONE
TZID:UTC
BEGIN:STANDARD
TZOFFSETFROM:+0000
TZOFFSETTO:+0000
TZNAME:UTC
DTSTART:20240101T000000
END:STANDARD
END:VTIMEZONE
BEGIN:VEVENT
DTSTART;TZID=UTC:20250810T190000
DTEND;TZID=UTC:20250811T020000
DTSTAMP:20260420T142700
CREATED:20250717T092137Z
LAST-MODIFIED:20250717T092138Z
UID:10013364-1754852400-1754877600@bcnsalsacalendar.com
SUMMARY:Barcelona Baila Timba - Sitges - Greater Barcelona
DESCRIPTION:📝 Description and Salsa Style: Workshop from 18.00 to 19.00 . Social from 19.00 to 00.00. Timba\, Son and Cuban Salsa. Concert from 00.00 to 2.00. \n💃 Dancer Level: Mostly advanced. \n👥 Average Age: 20-50 years old\, all ages welcome. \n🔄 Recurrence: Occasionally. \n 
URL:https://bcnsalsacalendar.com/event/barcelona-baila-timba-3/
LOCATION:Hotel Estela\, Av. del Port d'Aiguadolç\, 8\, Sitges\, Catalonia\, 08870\, Spain
CATEGORIES:Live Salsa,Salsa Cubana,Son Cubano,Timba
ATTACH;FMTTYPE=image/png:https://bcnsalsacalendar.com/wp-content/uploads/2025/02/Captura-de-pantalla-2025-07-15-124504.png
END:VEVENT
BEGIN:VEVENT
DTSTART;TZID=UTC:20250706T170000
DTEND;TZID=UTC:20250706T230000
DTSTAMP:20260420T142700
CREATED:20250630T131713Z
LAST-MODIFIED:20250630T131713Z
UID:10013281-1751821200-1751842800@bcnsalsacalendar.com
SUMMARY:Barcelona Baila Timba - Badalona - Greater Barcelona
DESCRIPTION:📝 Description and Salsa Style: Workshop from 17.00 to 19.00. Social from 19.00. Timba\, Son and Cuban Salsa. \n💃 Dancer Level: Mostly advanced. \n👥 Average Age: 20-50 years old\, all ages welcome. \n🔄 Recurrence: Occasionally. \n 
URL:https://bcnsalsacalendar.com/event/barcelona-baila-timba-2/2025-07-06/
LOCATION:Edifici de Capitania Port Esportiu i Pesquer de Badalona\, Edifici de Capitania Port Esportiu i Pesquer de Badalona\, s/n\,\, Badalona\, Barcelona\, 08912\, Spain
CATEGORIES:Salsa Cubana,Son Cubano,Timba
ATTACH;FMTTYPE=image/png:https://bcnsalsacalendar.com/wp-content/uploads/2025/02/maykels-fonts.png
END:VEVENT
BEGIN:VEVENT
DTSTART;TZID=UTC:20250601T170000
DTEND;TZID=UTC:20250601T230000
DTSTAMP:20260420T142700
CREATED:20250630T131713Z
LAST-MODIFIED:20250630T131713Z
UID:10011922-1748797200-1748818800@bcnsalsacalendar.com
SUMMARY:Barcelona Baila Timba - Badalona - Greater Barcelona
DESCRIPTION:📝 Description and Salsa Style: Workshop from 17.00 to 19.00. Social from 19.00. Timba\, Son and Cuban Salsa. \n💃 Dancer Level: Mostly advanced. \n👥 Average Age: 20-50 years old\, all ages welcome. \n🔄 Recurrence: Occasionally. \n 
URL:https://bcnsalsacalendar.com/event/barcelona-baila-timba-2/2025-06-01/
LOCATION:Edifici de Capitania Port Esportiu i Pesquer de Badalona\, Edifici de Capitania Port Esportiu i Pesquer de Badalona\, s/n\,\, Badalona\, Barcelona\, 08912\, Spain
CATEGORIES:Salsa Cubana,Son Cubano,Timba
ATTACH;FMTTYPE=image/png:https://bcnsalsacalendar.com/wp-content/uploads/2025/02/maykels-fonts.png
END:VEVENT
BEGIN:VEVENT
DTSTART;TZID=UTC:20250302T170000
DTEND;TZID=UTC:20250302T223000
DTSTAMP:20260420T142700
CREATED:20250227T120232Z
LAST-MODIFIED:20250715T104802Z
UID:10007306-1740934800-1740954600@bcnsalsacalendar.com
SUMMARY:Barcelona Baila Timba - Sitges - Greater Barcelona
DESCRIPTION:📝 Description and Salsa Style: Workshop from 18.00 to 19.00 . Social from 19.00 to 00.00. Timba\, Son and Cuban Salsa. Concert from 00.00 to 2.00. \n💃 Dancer Level: Mostly advanced. \n👥 Average Age: 20-50 years old\, all ages welcome. \n🔄 Recurrence: Occasionally. \n 
URL:https://bcnsalsacalendar.com/event/barcelona-baila-timba/
LOCATION:Hotel Estela\, Av. del Port d'Aiguadolç\, 8\, Sitges\, Catalonia\, 08870\, Spain
CATEGORIES:Live Salsa,Salsa Cubana,Son Cubano,Timba
ATTACH;FMTTYPE=image/png:https://bcnsalsacalendar.com/wp-content/uploads/2025/02/Captura-de-pantalla-2025-07-15-124504.png
END:VEVENT
END:VCALENDAR