BEGIN:VCALENDAR
VERSION:2.0
PRODID:-//Welcome - ECPv6.15.20//NONSGML v1.0//EN
CALSCALE:GREGORIAN
METHOD:PUBLISH
X-ORIGINAL-URL:https://bcnsalsacalendar.com
X-WR-CALDESC:Events for Welcome
REFRESH-INTERVAL;VALUE=DURATION:PT1H
X-Robots-Tag:noindex
X-PUBLISHED-TTL:PT1H
BEGIN:VTIMEZONE
TZID:UTC
BEGIN:STANDARD
TZOFFSETFROM:+0000
TZOFFSETTO:+0000
TZNAME:UTC
DTSTART:20240101T000000
END:STANDARD
END:VTIMEZONE
BEGIN:VEVENT
DTSTART;TZID=UTC:20250412T230000
DTEND;TZID=UTC:20250413T040000
DTSTAMP:20260420T020358
CREATED:20250328T112718Z
LAST-MODIFIED:20250411T134631Z
UID:10010101-1744498800-1744516800@bcnsalsacalendar.com
SUMMARY:Fusion Dance Night
DESCRIPTION:📝 Description and Salsa Style: 50% Salsa 50% Bachata \n💃 Dancer Level: All levels. \n👥 Average Age: 20-45 years old\, all ages welcome. \n🔄 Recurrence: Twice a month.
URL:https://bcnsalsacalendar.com/event/fusion-dance-night/2025-04-12/
LOCATION:Escuela de baile Standard Latino\, Plaça del Sol\, 3\, 4 1º 1ª\, Esplugues de Llobregat\, Barcelona\, Catalonia\, 08950\, Spain
CATEGORIES:Salsa Cubana,Salsa&Bachata,SalsaOn1,SalsaOn2,Timba
ATTACH;FMTTYPE=image/png:https://bcnsalsacalendar.com/wp-content/uploads/2025/03/fusion-dance.png
END:VEVENT
BEGIN:VEVENT
DTSTART;TZID=UTC:20250329T230000
DTEND;TZID=UTC:20250330T040000
DTSTAMP:20260420T020358
CREATED:20250328T112718Z
LAST-MODIFIED:20250411T134631Z
UID:10009767-1743289200-1743307200@bcnsalsacalendar.com
SUMMARY:Fusion Dance Night
DESCRIPTION:📝 Description and Salsa Style: 50% Salsa 50% Bachata \n💃 Dancer Level: All levels. \n👥 Average Age: 20-45 years old\, all ages welcome. \n🔄 Recurrence: Twice a month.
URL:https://bcnsalsacalendar.com/event/fusion-dance-night/2025-03-29/
LOCATION:Escuela de baile Standard Latino\, Plaça del Sol\, 3\, 4 1º 1ª\, Esplugues de Llobregat\, Barcelona\, Catalonia\, 08950\, Spain
CATEGORIES:Salsa Cubana,Salsa&Bachata,SalsaOn1,SalsaOn2,Timba
ATTACH;FMTTYPE=image/png:https://bcnsalsacalendar.com/wp-content/uploads/2025/03/fusion-dance.png
END:VEVENT
END:VCALENDAR