BEGIN:VCALENDAR
VERSION:2.0
PRODID:-//Welcome - ECPv6.15.20//NONSGML v1.0//EN
CALSCALE:GREGORIAN
METHOD:PUBLISH
X-ORIGINAL-URL:https://bcnsalsacalendar.com
X-WR-CALDESC:Events for Welcome
REFRESH-INTERVAL;VALUE=DURATION:PT1H
X-Robots-Tag:noindex
X-PUBLISHED-TTL:PT1H
BEGIN:VTIMEZONE
TZID:UTC
BEGIN:STANDARD
TZOFFSETFROM:+0000
TZOFFSETTO:+0000
TZNAME:UTC
DTSTART:20240101T000000
END:STANDARD
END:VTIMEZONE
BEGIN:VEVENT
DTSTART;TZID=UTC:20260322T183000
DTEND;TZID=UTC:20260322T223000
DTSTAMP:20260419T235219
CREATED:20250221T143846Z
LAST-MODIFIED:20260318T115214Z
UID:10023080-1774204200-1774218600@bcnsalsacalendar.com
SUMMARY:La Mambera
DESCRIPTION:📝 Description and Salsa Style: Fully dedicated to Salsa On2 and On1. \n💃 Dancer Level: Advanced dancers. \n👥 Average Age: 25-50 years old\, all ages welcome. \n🔄 Recurrence: Occasionally. \n  \n  \n 
URL:https://bcnsalsacalendar.com/event/la-mambera-4/2026-03-22/
LOCATION:La Mambera BCN\, Carrer Calbria\, 89\, Barcelona\, Catalonia\, 08015\, Spain
CATEGORIES:SalsaOn1,SalsaOn2,Son Cubano
ATTACH;FMTTYPE=image/png:https://bcnsalsacalendar.com/wp-content/uploads/2025/02/Mambera-1.png
END:VEVENT
BEGIN:VEVENT
DTSTART;TZID=UTC:20251207T183000
DTEND;TZID=UTC:20251207T223000
DTSTAMP:20260419T235219
CREATED:20250221T143846Z
LAST-MODIFIED:20260318T115214Z
UID:10022961-1765132200-1765146600@bcnsalsacalendar.com
SUMMARY:La Mambera
DESCRIPTION:📝 Description and Salsa Style: Fully dedicated to Salsa On2 and On1. \n💃 Dancer Level: Advanced dancers. \n👥 Average Age: 25-50 years old\, all ages welcome. \n🔄 Recurrence: Occasionally. \n  \n  \n 
URL:https://bcnsalsacalendar.com/event/la-mambera-4/2025-12-07/
LOCATION:La Mambera BCN\, Carrer Calbria\, 89\, Barcelona\, Catalonia\, 08015\, Spain
CATEGORIES:SalsaOn1,SalsaOn2,Son Cubano
ATTACH;FMTTYPE=image/png:https://bcnsalsacalendar.com/wp-content/uploads/2025/02/Mambera-1.png
END:VEVENT
BEGIN:VEVENT
DTSTART;TZID=UTC:20251116T183000
DTEND;TZID=UTC:20251116T223000
DTSTAMP:20260419T235219
CREATED:20250221T143846Z
LAST-MODIFIED:20260318T115214Z
UID:10011939-1763317800-1763332200@bcnsalsacalendar.com
SUMMARY:La Mambera
DESCRIPTION:📝 Description and Salsa Style: Fully dedicated to Salsa On2 and On1. \n💃 Dancer Level: Advanced dancers. \n👥 Average Age: 25-50 years old\, all ages welcome. \n🔄 Recurrence: Occasionally. \n  \n  \n 
URL:https://bcnsalsacalendar.com/event/la-mambera-4/2025-11-16/
LOCATION:La Mambera BCN\, Carrer Calbria\, 89\, Barcelona\, Catalonia\, 08015\, Spain
CATEGORIES:SalsaOn1,SalsaOn2,Son Cubano
ATTACH;FMTTYPE=image/png:https://bcnsalsacalendar.com/wp-content/uploads/2025/02/Mambera-1.png
END:VEVENT
BEGIN:VEVENT
DTSTART;TZID=UTC:20251102T183000
DTEND;TZID=UTC:20251102T223000
DTSTAMP:20260419T235219
CREATED:20250221T143846Z
LAST-MODIFIED:20260318T115214Z
UID:10011938-1762108200-1762122600@bcnsalsacalendar.com
SUMMARY:La Mambera
DESCRIPTION:📝 Description and Salsa Style: Fully dedicated to Salsa On2 and On1. \n💃 Dancer Level: Advanced dancers. \n👥 Average Age: 25-50 years old\, all ages welcome. \n🔄 Recurrence: Occasionally. \n  \n  \n 
URL:https://bcnsalsacalendar.com/event/la-mambera-4/2025-11-02/
LOCATION:La Mambera BCN\, Carrer Calbria\, 89\, Barcelona\, Catalonia\, 08015\, Spain
CATEGORIES:SalsaOn1,SalsaOn2,Son Cubano
ATTACH;FMTTYPE=image/png:https://bcnsalsacalendar.com/wp-content/uploads/2025/02/Mambera-1.png
END:VEVENT
BEGIN:VEVENT
DTSTART;TZID=UTC:20251012T183000
DTEND;TZID=UTC:20251012T223000
DTSTAMP:20260419T235219
CREATED:20250221T143846Z
LAST-MODIFIED:20260318T115214Z
UID:10011937-1760293800-1760308200@bcnsalsacalendar.com
SUMMARY:La Mambera
DESCRIPTION:📝 Description and Salsa Style: Fully dedicated to Salsa On2 and On1. \n💃 Dancer Level: Advanced dancers. \n👥 Average Age: 25-50 years old\, all ages welcome. \n🔄 Recurrence: Occasionally. \n  \n  \n 
URL:https://bcnsalsacalendar.com/event/la-mambera-4/2025-10-12/
LOCATION:La Mambera BCN\, Carrer Calbria\, 89\, Barcelona\, Catalonia\, 08015\, Spain
CATEGORIES:SalsaOn1,SalsaOn2,Son Cubano
ATTACH;FMTTYPE=image/png:https://bcnsalsacalendar.com/wp-content/uploads/2025/02/Mambera-1.png
END:VEVENT
BEGIN:VEVENT
DTSTART;TZID=UTC:20250907T190000
DTEND;TZID=UTC:20250907T230000
DTSTAMP:20260419T235219
CREATED:20250221T143846Z
LAST-MODIFIED:20260318T115214Z
UID:10020036-1757271600-1757286000@bcnsalsacalendar.com
SUMMARY:La Mambera
DESCRIPTION:📝 Description and Salsa Style: Fully dedicated to Salsa On2 and On1. \n💃 Dancer Level: Advanced dancers. \n👥 Average Age: 25-50 years old\, all ages welcome. \n🔄 Recurrence: Occasionally. \n  \n  \n 
URL:https://bcnsalsacalendar.com/event/la-mambera-4/2025-09-07/
LOCATION:La Mambera BCN\, Carrer Calbria\, 89\, Barcelona\, Catalonia\, 08015\, Spain
CATEGORIES:SalsaOn1,SalsaOn2,Son Cubano
ATTACH;FMTTYPE=image/png:https://bcnsalsacalendar.com/wp-content/uploads/2025/02/Mambera-1.png
END:VEVENT
BEGIN:VEVENT
DTSTART;TZID=UTC:20250803T183000
DTEND;TZID=UTC:20250803T223000
DTSTAMP:20260419T235219
CREATED:20250221T143846Z
LAST-MODIFIED:20260318T115214Z
UID:10011935-1754245800-1754260200@bcnsalsacalendar.com
SUMMARY:La Mambera
DESCRIPTION:📝 Description and Salsa Style: Fully dedicated to Salsa On2 and On1. \n💃 Dancer Level: Advanced dancers. \n👥 Average Age: 25-50 years old\, all ages welcome. \n🔄 Recurrence: Occasionally. \n  \n  \n 
URL:https://bcnsalsacalendar.com/event/la-mambera-4/2025-08-03/
LOCATION:La Mambera BCN\, Carrer Calbria\, 89\, Barcelona\, Catalonia\, 08015\, Spain
CATEGORIES:SalsaOn1,SalsaOn2,Son Cubano
ATTACH;FMTTYPE=image/png:https://bcnsalsacalendar.com/wp-content/uploads/2025/02/Mambera-1.png
END:VEVENT
BEGIN:VEVENT
DTSTART;TZID=UTC:20250706T183000
DTEND;TZID=UTC:20250706T223000
DTSTAMP:20260419T235219
CREATED:20250221T143846Z
LAST-MODIFIED:20260318T115214Z
UID:10011934-1751826600-1751841000@bcnsalsacalendar.com
SUMMARY:La Mambera
DESCRIPTION:📝 Description and Salsa Style: Fully dedicated to Salsa On2 and On1. \n💃 Dancer Level: Advanced dancers. \n👥 Average Age: 25-50 years old\, all ages welcome. \n🔄 Recurrence: Occasionally. \n  \n  \n 
URL:https://bcnsalsacalendar.com/event/la-mambera-4/2025-07-06/
LOCATION:La Mambera BCN\, Carrer Calbria\, 89\, Barcelona\, Catalonia\, 08015\, Spain
CATEGORIES:SalsaOn1,SalsaOn2,Son Cubano
ATTACH;FMTTYPE=image/png:https://bcnsalsacalendar.com/wp-content/uploads/2025/02/Mambera-1.png
END:VEVENT
BEGIN:VEVENT
DTSTART;TZID=UTC:20250615T183000
DTEND;TZID=UTC:20250615T223000
DTSTAMP:20260419T235219
CREATED:20250221T143846Z
LAST-MODIFIED:20260318T115214Z
UID:10011933-1750012200-1750026600@bcnsalsacalendar.com
SUMMARY:La Mambera
DESCRIPTION:📝 Description and Salsa Style: Fully dedicated to Salsa On2 and On1. \n💃 Dancer Level: Advanced dancers. \n👥 Average Age: 25-50 years old\, all ages welcome. \n🔄 Recurrence: Occasionally. \n  \n  \n 
URL:https://bcnsalsacalendar.com/event/la-mambera-4/2025-06-15/
LOCATION:La Mambera BCN\, Carrer Calbria\, 89\, Barcelona\, Catalonia\, 08015\, Spain
CATEGORIES:SalsaOn1,SalsaOn2,Son Cubano
ATTACH;FMTTYPE=image/png:https://bcnsalsacalendar.com/wp-content/uploads/2025/02/Mambera-1.png
END:VEVENT
BEGIN:VEVENT
DTSTART;TZID=UTC:20250601T183000
DTEND;TZID=UTC:20250601T223000
DTSTAMP:20260419T235219
CREATED:20250221T143846Z
LAST-MODIFIED:20260318T115214Z
UID:10011921-1748802600-1748817000@bcnsalsacalendar.com
SUMMARY:La Mambera
DESCRIPTION:📝 Description and Salsa Style: Fully dedicated to Salsa On2 and On1. \n💃 Dancer Level: Advanced dancers. \n👥 Average Age: 25-50 years old\, all ages welcome. \n🔄 Recurrence: Occasionally. \n  \n  \n 
URL:https://bcnsalsacalendar.com/event/la-mambera-4/2025-06-01/
LOCATION:La Mambera BCN\, Carrer Calbria\, 89\, Barcelona\, Catalonia\, 08015\, Spain
CATEGORIES:SalsaOn1,SalsaOn2,Son Cubano
ATTACH;FMTTYPE=image/png:https://bcnsalsacalendar.com/wp-content/uploads/2025/02/Mambera-1.png
END:VEVENT
BEGIN:VEVENT
DTSTART;TZID=UTC:20250511T183000
DTEND;TZID=UTC:20250511T223000
DTSTAMP:20260419T235219
CREATED:20250221T143846Z
LAST-MODIFIED:20260318T115214Z
UID:10007593-1746988200-1747002600@bcnsalsacalendar.com
SUMMARY:La Mambera
DESCRIPTION:📝 Description and Salsa Style: Fully dedicated to Salsa On2 and On1. \n💃 Dancer Level: Advanced dancers. \n👥 Average Age: 25-50 years old\, all ages welcome. \n🔄 Recurrence: Occasionally. \n  \n  \n 
URL:https://bcnsalsacalendar.com/event/la-mambera-4/2025-05-11/
LOCATION:La Mambera BCN\, Carrer Calbria\, 89\, Barcelona\, Catalonia\, 08015\, Spain
CATEGORIES:SalsaOn1,SalsaOn2,Son Cubano
ATTACH;FMTTYPE=image/png:https://bcnsalsacalendar.com/wp-content/uploads/2025/02/Mambera-1.png
END:VEVENT
BEGIN:VEVENT
DTSTART;TZID=UTC:20250316T183000
DTEND;TZID=UTC:20250316T223000
DTSTAMP:20260419T235219
CREATED:20250221T143846Z
LAST-MODIFIED:20260318T115214Z
UID:10006770-1742149800-1742164200@bcnsalsacalendar.com
SUMMARY:La Mambera
DESCRIPTION:📝 Description and Salsa Style: Fully dedicated to Salsa On2 and On1. \n💃 Dancer Level: Advanced dancers. \n👥 Average Age: 25-50 years old\, all ages welcome. \n🔄 Recurrence: Occasionally. \n  \n  \n 
URL:https://bcnsalsacalendar.com/event/la-mambera-4/2025-03-16/
LOCATION:La Mambera BCN\, Carrer Calbria\, 89\, Barcelona\, Catalonia\, 08015\, Spain
CATEGORIES:SalsaOn1,SalsaOn2,Son Cubano
ATTACH;FMTTYPE=image/png:https://bcnsalsacalendar.com/wp-content/uploads/2025/02/Mambera-1.png
END:VEVENT
BEGIN:VEVENT
DTSTART;TZID=UTC:20250215T210000
DTEND;TZID=UTC:20250216T003000
DTSTAMP:20260419T235219
CREATED:20250213T113543Z
LAST-MODIFIED:20250213T113543Z
UID:10006769-1739653200-1739665800@bcnsalsacalendar.com
SUMMARY:La Mambera
DESCRIPTION:📝 Description and Salsa Style: Fully dedicated to Salsa On2 and On1. \n💃 Dancer Level: Mostly advanced and intermediate dancers. \n👥 Average Age: 25-50 years old\, all ages welcome. \n🔄 Recurrence: Occasionally. \n  \n  \n 
URL:https://bcnsalsacalendar.com/event/la-mambera-3/
LOCATION:La Mambera BCN\, Carrer Calbria\, 89\, Barcelona\, Catalonia\, 08015\, Spain
CATEGORIES:SalsaOn1,SalsaOn2
ATTACH;FMTTYPE=image/png:https://bcnsalsacalendar.com/wp-content/uploads/2025/02/Mambera-1.png
END:VEVENT
END:VCALENDAR