BEGIN:VCALENDAR
VERSION:2.0
PRODID:-//Welcome - ECPv6.15.20//NONSGML v1.0//EN
CALSCALE:GREGORIAN
METHOD:PUBLISH
X-WR-CALNAME:Welcome
X-ORIGINAL-URL:https://bcnsalsacalendar.com
X-WR-CALDESC:Events for Welcome
REFRESH-INTERVAL;VALUE=DURATION:PT1H
X-Robots-Tag:noindex
X-PUBLISHED-TTL:PT1H
BEGIN:VTIMEZONE
TZID:UTC
BEGIN:STANDARD
TZOFFSETFROM:+0000
TZOFFSETTO:+0000
TZNAME:UTC
DTSTART:20250101T000000
END:STANDARD
END:VTIMEZONE
BEGIN:VEVENT
DTSTART;TZID=UTC:20260705T190000
DTEND;TZID=UTC:20260705T230000
DTSTAMP:20260420T194452
CREATED:20250628T162908Z
LAST-MODIFIED:20250918T092443Z
UID:10021845-1783278000-1783292400@bcnsalsacalendar.com
SUMMARY:Salamandra Salsa Bachata Timba
DESCRIPTION:📝 Description and Salsa Style: Timba\, Salsa On1 and On2\, Bachata. \n💃 Dancer Level: Regarding Salsa\, all levels. \n👥 Average Age: 25-45 years old\, all ages welcome. \n🔄 Recurrence: Every Sunday.
URL:https://bcnsalsacalendar.com/event/salamandra-sbt-2/2026-07-05/
LOCATION:Sala Salamandra\, Avinguda del Carrilet\, 235\, L'Hospitalet de Llobregat\, Barcelona\, 08907\, Spain
CATEGORIES:Salsa Cubana,Salsa&Bachata,SalsaOn1,SalsaOn2,Son Cubano,Timba
ATTACH;FMTTYPE=image/jpeg:https://bcnsalsacalendar.com/wp-content/uploads/2024/12/Salamandra-2.jpg
END:VEVENT
BEGIN:VEVENT
DTSTART;TZID=UTC:20260712T190000
DTEND;TZID=UTC:20260712T230000
DTSTAMP:20260420T194452
CREATED:20250628T162908Z
LAST-MODIFIED:20250918T092443Z
UID:10021846-1783882800-1783897200@bcnsalsacalendar.com
SUMMARY:Salamandra Salsa Bachata Timba
DESCRIPTION:📝 Description and Salsa Style: Timba\, Salsa On1 and On2\, Bachata. \n💃 Dancer Level: Regarding Salsa\, all levels. \n👥 Average Age: 25-45 years old\, all ages welcome. \n🔄 Recurrence: Every Sunday.
URL:https://bcnsalsacalendar.com/event/salamandra-sbt-2/2026-07-12/
LOCATION:Sala Salamandra\, Avinguda del Carrilet\, 235\, L'Hospitalet de Llobregat\, Barcelona\, 08907\, Spain
CATEGORIES:Salsa Cubana,Salsa&Bachata,SalsaOn1,SalsaOn2,Son Cubano,Timba
ATTACH;FMTTYPE=image/jpeg:https://bcnsalsacalendar.com/wp-content/uploads/2024/12/Salamandra-2.jpg
END:VEVENT
BEGIN:VEVENT
DTSTART;TZID=UTC:20260719T190000
DTEND;TZID=UTC:20260719T230000
DTSTAMP:20260420T194452
CREATED:20250628T162908Z
LAST-MODIFIED:20250918T092443Z
UID:10021847-1784487600-1784502000@bcnsalsacalendar.com
SUMMARY:Salamandra Salsa Bachata Timba
DESCRIPTION:📝 Description and Salsa Style: Timba\, Salsa On1 and On2\, Bachata. \n💃 Dancer Level: Regarding Salsa\, all levels. \n👥 Average Age: 25-45 years old\, all ages welcome. \n🔄 Recurrence: Every Sunday.
URL:https://bcnsalsacalendar.com/event/salamandra-sbt-2/2026-07-19/
LOCATION:Sala Salamandra\, Avinguda del Carrilet\, 235\, L'Hospitalet de Llobregat\, Barcelona\, 08907\, Spain
CATEGORIES:Salsa Cubana,Salsa&Bachata,SalsaOn1,SalsaOn2,Son Cubano,Timba
ATTACH;FMTTYPE=image/jpeg:https://bcnsalsacalendar.com/wp-content/uploads/2024/12/Salamandra-2.jpg
END:VEVENT
BEGIN:VEVENT
DTSTART;TZID=UTC:20260726T190000
DTEND;TZID=UTC:20260726T230000
DTSTAMP:20260420T194452
CREATED:20250628T162908Z
LAST-MODIFIED:20250918T092443Z
UID:10021848-1785092400-1785106800@bcnsalsacalendar.com
SUMMARY:Salamandra Salsa Bachata Timba
DESCRIPTION:📝 Description and Salsa Style: Timba\, Salsa On1 and On2\, Bachata. \n💃 Dancer Level: Regarding Salsa\, all levels. \n👥 Average Age: 25-45 years old\, all ages welcome. \n🔄 Recurrence: Every Sunday.
URL:https://bcnsalsacalendar.com/event/salamandra-sbt-2/2026-07-26/
LOCATION:Sala Salamandra\, Avinguda del Carrilet\, 235\, L'Hospitalet de Llobregat\, Barcelona\, 08907\, Spain
CATEGORIES:Salsa Cubana,Salsa&Bachata,SalsaOn1,SalsaOn2,Son Cubano,Timba
ATTACH;FMTTYPE=image/jpeg:https://bcnsalsacalendar.com/wp-content/uploads/2024/12/Salamandra-2.jpg
END:VEVENT
BEGIN:VEVENT
DTSTART;TZID=UTC:20260802T190000
DTEND;TZID=UTC:20260802T230000
DTSTAMP:20260420T194452
CREATED:20250628T162908Z
LAST-MODIFIED:20250918T092443Z
UID:10021849-1785697200-1785711600@bcnsalsacalendar.com
SUMMARY:Salamandra Salsa Bachata Timba
DESCRIPTION:📝 Description and Salsa Style: Timba\, Salsa On1 and On2\, Bachata. \n💃 Dancer Level: Regarding Salsa\, all levels. \n👥 Average Age: 25-45 years old\, all ages welcome. \n🔄 Recurrence: Every Sunday.
URL:https://bcnsalsacalendar.com/event/salamandra-sbt-2/2026-08-02/
LOCATION:Sala Salamandra\, Avinguda del Carrilet\, 235\, L'Hospitalet de Llobregat\, Barcelona\, 08907\, Spain
CATEGORIES:Salsa Cubana,Salsa&Bachata,SalsaOn1,SalsaOn2,Son Cubano,Timba
ATTACH;FMTTYPE=image/jpeg:https://bcnsalsacalendar.com/wp-content/uploads/2024/12/Salamandra-2.jpg
END:VEVENT
BEGIN:VEVENT
DTSTART;TZID=UTC:20260809T190000
DTEND;TZID=UTC:20260809T230000
DTSTAMP:20260420T194452
CREATED:20250628T162908Z
LAST-MODIFIED:20250918T092443Z
UID:10021850-1786302000-1786316400@bcnsalsacalendar.com
SUMMARY:Salamandra Salsa Bachata Timba
DESCRIPTION:📝 Description and Salsa Style: Timba\, Salsa On1 and On2\, Bachata. \n💃 Dancer Level: Regarding Salsa\, all levels. \n👥 Average Age: 25-45 years old\, all ages welcome. \n🔄 Recurrence: Every Sunday.
URL:https://bcnsalsacalendar.com/event/salamandra-sbt-2/2026-08-09/
LOCATION:Sala Salamandra\, Avinguda del Carrilet\, 235\, L'Hospitalet de Llobregat\, Barcelona\, 08907\, Spain
CATEGORIES:Salsa Cubana,Salsa&Bachata,SalsaOn1,SalsaOn2,Son Cubano,Timba
ATTACH;FMTTYPE=image/jpeg:https://bcnsalsacalendar.com/wp-content/uploads/2024/12/Salamandra-2.jpg
END:VEVENT
BEGIN:VEVENT
DTSTART;TZID=UTC:20260816T190000
DTEND;TZID=UTC:20260816T230000
DTSTAMP:20260420T194452
CREATED:20250628T162908Z
LAST-MODIFIED:20250918T092443Z
UID:10021851-1786906800-1786921200@bcnsalsacalendar.com
SUMMARY:Salamandra Salsa Bachata Timba
DESCRIPTION:📝 Description and Salsa Style: Timba\, Salsa On1 and On2\, Bachata. \n💃 Dancer Level: Regarding Salsa\, all levels. \n👥 Average Age: 25-45 years old\, all ages welcome. \n🔄 Recurrence: Every Sunday.
URL:https://bcnsalsacalendar.com/event/salamandra-sbt-2/2026-08-16/
LOCATION:Sala Salamandra\, Avinguda del Carrilet\, 235\, L'Hospitalet de Llobregat\, Barcelona\, 08907\, Spain
CATEGORIES:Salsa Cubana,Salsa&Bachata,SalsaOn1,SalsaOn2,Son Cubano,Timba
ATTACH;FMTTYPE=image/jpeg:https://bcnsalsacalendar.com/wp-content/uploads/2024/12/Salamandra-2.jpg
END:VEVENT
BEGIN:VEVENT
DTSTART;TZID=UTC:20260823T190000
DTEND;TZID=UTC:20260823T230000
DTSTAMP:20260420T194452
CREATED:20250628T162908Z
LAST-MODIFIED:20250918T092443Z
UID:10021852-1787511600-1787526000@bcnsalsacalendar.com
SUMMARY:Salamandra Salsa Bachata Timba
DESCRIPTION:📝 Description and Salsa Style: Timba\, Salsa On1 and On2\, Bachata. \n💃 Dancer Level: Regarding Salsa\, all levels. \n👥 Average Age: 25-45 years old\, all ages welcome. \n🔄 Recurrence: Every Sunday.
URL:https://bcnsalsacalendar.com/event/salamandra-sbt-2/2026-08-23/
LOCATION:Sala Salamandra\, Avinguda del Carrilet\, 235\, L'Hospitalet de Llobregat\, Barcelona\, 08907\, Spain
CATEGORIES:Salsa Cubana,Salsa&Bachata,SalsaOn1,SalsaOn2,Son Cubano,Timba
ATTACH;FMTTYPE=image/jpeg:https://bcnsalsacalendar.com/wp-content/uploads/2024/12/Salamandra-2.jpg
END:VEVENT
BEGIN:VEVENT
DTSTART;TZID=UTC:20260830T190000
DTEND;TZID=UTC:20260830T230000
DTSTAMP:20260420T194452
CREATED:20250628T162908Z
LAST-MODIFIED:20250918T092443Z
UID:10021853-1788116400-1788130800@bcnsalsacalendar.com
SUMMARY:Salamandra Salsa Bachata Timba
DESCRIPTION:📝 Description and Salsa Style: Timba\, Salsa On1 and On2\, Bachata. \n💃 Dancer Level: Regarding Salsa\, all levels. \n👥 Average Age: 25-45 years old\, all ages welcome. \n🔄 Recurrence: Every Sunday.
URL:https://bcnsalsacalendar.com/event/salamandra-sbt-2/2026-08-30/
LOCATION:Sala Salamandra\, Avinguda del Carrilet\, 235\, L'Hospitalet de Llobregat\, Barcelona\, 08907\, Spain
CATEGORIES:Salsa Cubana,Salsa&Bachata,SalsaOn1,SalsaOn2,Son Cubano,Timba
ATTACH;FMTTYPE=image/jpeg:https://bcnsalsacalendar.com/wp-content/uploads/2024/12/Salamandra-2.jpg
END:VEVENT
BEGIN:VEVENT
DTSTART;TZID=UTC:20260906T190000
DTEND;TZID=UTC:20260906T230000
DTSTAMP:20260420T194452
CREATED:20250628T162908Z
LAST-MODIFIED:20250918T092443Z
UID:10021854-1788721200-1788735600@bcnsalsacalendar.com
SUMMARY:Salamandra Salsa Bachata Timba
DESCRIPTION:📝 Description and Salsa Style: Timba\, Salsa On1 and On2\, Bachata. \n💃 Dancer Level: Regarding Salsa\, all levels. \n👥 Average Age: 25-45 years old\, all ages welcome. \n🔄 Recurrence: Every Sunday.
URL:https://bcnsalsacalendar.com/event/salamandra-sbt-2/2026-09-06/
LOCATION:Sala Salamandra\, Avinguda del Carrilet\, 235\, L'Hospitalet de Llobregat\, Barcelona\, 08907\, Spain
CATEGORIES:Salsa Cubana,Salsa&Bachata,SalsaOn1,SalsaOn2,Son Cubano,Timba
ATTACH;FMTTYPE=image/jpeg:https://bcnsalsacalendar.com/wp-content/uploads/2024/12/Salamandra-2.jpg
END:VEVENT
BEGIN:VEVENT
DTSTART;TZID=UTC:20260913T190000
DTEND;TZID=UTC:20260913T230000
DTSTAMP:20260420T194452
CREATED:20250628T162908Z
LAST-MODIFIED:20250918T092443Z
UID:10021855-1789326000-1789340400@bcnsalsacalendar.com
SUMMARY:Salamandra Salsa Bachata Timba
DESCRIPTION:📝 Description and Salsa Style: Timba\, Salsa On1 and On2\, Bachata. \n💃 Dancer Level: Regarding Salsa\, all levels. \n👥 Average Age: 25-45 years old\, all ages welcome. \n🔄 Recurrence: Every Sunday.
URL:https://bcnsalsacalendar.com/event/salamandra-sbt-2/2026-09-13/
LOCATION:Sala Salamandra\, Avinguda del Carrilet\, 235\, L'Hospitalet de Llobregat\, Barcelona\, 08907\, Spain
CATEGORIES:Salsa Cubana,Salsa&Bachata,SalsaOn1,SalsaOn2,Son Cubano,Timba
ATTACH;FMTTYPE=image/jpeg:https://bcnsalsacalendar.com/wp-content/uploads/2024/12/Salamandra-2.jpg
END:VEVENT
BEGIN:VEVENT
DTSTART;TZID=UTC:20260920T190000
DTEND;TZID=UTC:20260920T230000
DTSTAMP:20260420T194452
CREATED:20250628T162908Z
LAST-MODIFIED:20250918T092443Z
UID:10021856-1789930800-1789945200@bcnsalsacalendar.com
SUMMARY:Salamandra Salsa Bachata Timba
DESCRIPTION:📝 Description and Salsa Style: Timba\, Salsa On1 and On2\, Bachata. \n💃 Dancer Level: Regarding Salsa\, all levels. \n👥 Average Age: 25-45 years old\, all ages welcome. \n🔄 Recurrence: Every Sunday.
URL:https://bcnsalsacalendar.com/event/salamandra-sbt-2/2026-09-20/
LOCATION:Sala Salamandra\, Avinguda del Carrilet\, 235\, L'Hospitalet de Llobregat\, Barcelona\, 08907\, Spain
CATEGORIES:Salsa Cubana,Salsa&Bachata,SalsaOn1,SalsaOn2,Son Cubano,Timba
ATTACH;FMTTYPE=image/jpeg:https://bcnsalsacalendar.com/wp-content/uploads/2024/12/Salamandra-2.jpg
END:VEVENT
BEGIN:VEVENT
DTSTART;TZID=UTC:20260927T190000
DTEND;TZID=UTC:20260927T230000
DTSTAMP:20260420T194452
CREATED:20250628T162908Z
LAST-MODIFIED:20250918T092443Z
UID:10021857-1790535600-1790550000@bcnsalsacalendar.com
SUMMARY:Salamandra Salsa Bachata Timba
DESCRIPTION:📝 Description and Salsa Style: Timba\, Salsa On1 and On2\, Bachata. \n💃 Dancer Level: Regarding Salsa\, all levels. \n👥 Average Age: 25-45 years old\, all ages welcome. \n🔄 Recurrence: Every Sunday.
URL:https://bcnsalsacalendar.com/event/salamandra-sbt-2/2026-09-27/
LOCATION:Sala Salamandra\, Avinguda del Carrilet\, 235\, L'Hospitalet de Llobregat\, Barcelona\, 08907\, Spain
CATEGORIES:Salsa Cubana,Salsa&Bachata,SalsaOn1,SalsaOn2,Son Cubano,Timba
ATTACH;FMTTYPE=image/jpeg:https://bcnsalsacalendar.com/wp-content/uploads/2024/12/Salamandra-2.jpg
END:VEVENT
BEGIN:VEVENT
DTSTART;TZID=UTC:20261004T190000
DTEND;TZID=UTC:20261004T230000
DTSTAMP:20260420T194452
CREATED:20250628T162908Z
LAST-MODIFIED:20250918T092443Z
UID:10021858-1791140400-1791154800@bcnsalsacalendar.com
SUMMARY:Salamandra Salsa Bachata Timba
DESCRIPTION:📝 Description and Salsa Style: Timba\, Salsa On1 and On2\, Bachata. \n💃 Dancer Level: Regarding Salsa\, all levels. \n👥 Average Age: 25-45 years old\, all ages welcome. \n🔄 Recurrence: Every Sunday.
URL:https://bcnsalsacalendar.com/event/salamandra-sbt-2/2026-10-04/
LOCATION:Sala Salamandra\, Avinguda del Carrilet\, 235\, L'Hospitalet de Llobregat\, Barcelona\, 08907\, Spain
CATEGORIES:Salsa Cubana,Salsa&Bachata,SalsaOn1,SalsaOn2,Son Cubano,Timba
ATTACH;FMTTYPE=image/jpeg:https://bcnsalsacalendar.com/wp-content/uploads/2024/12/Salamandra-2.jpg
END:VEVENT
BEGIN:VEVENT
DTSTART;TZID=UTC:20261011T190000
DTEND;TZID=UTC:20261011T230000
DTSTAMP:20260420T194452
CREATED:20250628T162908Z
LAST-MODIFIED:20250918T092443Z
UID:10021859-1791745200-1791759600@bcnsalsacalendar.com
SUMMARY:Salamandra Salsa Bachata Timba
DESCRIPTION:📝 Description and Salsa Style: Timba\, Salsa On1 and On2\, Bachata. \n💃 Dancer Level: Regarding Salsa\, all levels. \n👥 Average Age: 25-45 years old\, all ages welcome. \n🔄 Recurrence: Every Sunday.
URL:https://bcnsalsacalendar.com/event/salamandra-sbt-2/2026-10-11/
LOCATION:Sala Salamandra\, Avinguda del Carrilet\, 235\, L'Hospitalet de Llobregat\, Barcelona\, 08907\, Spain
CATEGORIES:Salsa Cubana,Salsa&Bachata,SalsaOn1,SalsaOn2,Son Cubano,Timba
ATTACH;FMTTYPE=image/jpeg:https://bcnsalsacalendar.com/wp-content/uploads/2024/12/Salamandra-2.jpg
END:VEVENT
BEGIN:VEVENT
DTSTART;TZID=UTC:20261018T190000
DTEND;TZID=UTC:20261018T230000
DTSTAMP:20260420T194452
CREATED:20250628T162908Z
LAST-MODIFIED:20250918T092443Z
UID:10021860-1792350000-1792364400@bcnsalsacalendar.com
SUMMARY:Salamandra Salsa Bachata Timba
DESCRIPTION:📝 Description and Salsa Style: Timba\, Salsa On1 and On2\, Bachata. \n💃 Dancer Level: Regarding Salsa\, all levels. \n👥 Average Age: 25-45 years old\, all ages welcome. \n🔄 Recurrence: Every Sunday.
URL:https://bcnsalsacalendar.com/event/salamandra-sbt-2/2026-10-18/
LOCATION:Sala Salamandra\, Avinguda del Carrilet\, 235\, L'Hospitalet de Llobregat\, Barcelona\, 08907\, Spain
CATEGORIES:Salsa Cubana,Salsa&Bachata,SalsaOn1,SalsaOn2,Son Cubano,Timba
ATTACH;FMTTYPE=image/jpeg:https://bcnsalsacalendar.com/wp-content/uploads/2024/12/Salamandra-2.jpg
END:VEVENT
BEGIN:VEVENT
DTSTART;TZID=UTC:20261025T190000
DTEND;TZID=UTC:20261025T230000
DTSTAMP:20260420T194452
CREATED:20250628T162908Z
LAST-MODIFIED:20250918T092443Z
UID:10021861-1792954800-1792969200@bcnsalsacalendar.com
SUMMARY:Salamandra Salsa Bachata Timba
DESCRIPTION:📝 Description and Salsa Style: Timba\, Salsa On1 and On2\, Bachata. \n💃 Dancer Level: Regarding Salsa\, all levels. \n👥 Average Age: 25-45 years old\, all ages welcome. \n🔄 Recurrence: Every Sunday.
URL:https://bcnsalsacalendar.com/event/salamandra-sbt-2/2026-10-25/
LOCATION:Sala Salamandra\, Avinguda del Carrilet\, 235\, L'Hospitalet de Llobregat\, Barcelona\, 08907\, Spain
CATEGORIES:Salsa Cubana,Salsa&Bachata,SalsaOn1,SalsaOn2,Son Cubano,Timba
ATTACH;FMTTYPE=image/jpeg:https://bcnsalsacalendar.com/wp-content/uploads/2024/12/Salamandra-2.jpg
END:VEVENT
BEGIN:VEVENT
DTSTART;TZID=UTC:20261101T190000
DTEND;TZID=UTC:20261101T230000
DTSTAMP:20260420T194452
CREATED:20250628T162908Z
LAST-MODIFIED:20250918T092443Z
UID:10021862-1793559600-1793574000@bcnsalsacalendar.com
SUMMARY:Salamandra Salsa Bachata Timba
DESCRIPTION:📝 Description and Salsa Style: Timba\, Salsa On1 and On2\, Bachata. \n💃 Dancer Level: Regarding Salsa\, all levels. \n👥 Average Age: 25-45 years old\, all ages welcome. \n🔄 Recurrence: Every Sunday.
URL:https://bcnsalsacalendar.com/event/salamandra-sbt-2/2026-11-01/
LOCATION:Sala Salamandra\, Avinguda del Carrilet\, 235\, L'Hospitalet de Llobregat\, Barcelona\, 08907\, Spain
CATEGORIES:Salsa Cubana,Salsa&Bachata,SalsaOn1,SalsaOn2,Son Cubano,Timba
ATTACH;FMTTYPE=image/jpeg:https://bcnsalsacalendar.com/wp-content/uploads/2024/12/Salamandra-2.jpg
END:VEVENT
BEGIN:VEVENT
DTSTART;TZID=UTC:20261108T190000
DTEND;TZID=UTC:20261108T230000
DTSTAMP:20260420T194452
CREATED:20250628T162908Z
LAST-MODIFIED:20250918T092443Z
UID:10021863-1794164400-1794178800@bcnsalsacalendar.com
SUMMARY:Salamandra Salsa Bachata Timba
DESCRIPTION:📝 Description and Salsa Style: Timba\, Salsa On1 and On2\, Bachata. \n💃 Dancer Level: Regarding Salsa\, all levels. \n👥 Average Age: 25-45 years old\, all ages welcome. \n🔄 Recurrence: Every Sunday.
URL:https://bcnsalsacalendar.com/event/salamandra-sbt-2/2026-11-08/
LOCATION:Sala Salamandra\, Avinguda del Carrilet\, 235\, L'Hospitalet de Llobregat\, Barcelona\, 08907\, Spain
CATEGORIES:Salsa Cubana,Salsa&Bachata,SalsaOn1,SalsaOn2,Son Cubano,Timba
ATTACH;FMTTYPE=image/jpeg:https://bcnsalsacalendar.com/wp-content/uploads/2024/12/Salamandra-2.jpg
END:VEVENT
BEGIN:VEVENT
DTSTART;TZID=UTC:20261115T190000
DTEND;TZID=UTC:20261115T230000
DTSTAMP:20260420T194452
CREATED:20250628T162908Z
LAST-MODIFIED:20250918T092443Z
UID:10021864-1794769200-1794783600@bcnsalsacalendar.com
SUMMARY:Salamandra Salsa Bachata Timba
DESCRIPTION:📝 Description and Salsa Style: Timba\, Salsa On1 and On2\, Bachata. \n💃 Dancer Level: Regarding Salsa\, all levels. \n👥 Average Age: 25-45 years old\, all ages welcome. \n🔄 Recurrence: Every Sunday.
URL:https://bcnsalsacalendar.com/event/salamandra-sbt-2/2026-11-15/
LOCATION:Sala Salamandra\, Avinguda del Carrilet\, 235\, L'Hospitalet de Llobregat\, Barcelona\, 08907\, Spain
CATEGORIES:Salsa Cubana,Salsa&Bachata,SalsaOn1,SalsaOn2,Son Cubano,Timba
ATTACH;FMTTYPE=image/jpeg:https://bcnsalsacalendar.com/wp-content/uploads/2024/12/Salamandra-2.jpg
END:VEVENT
BEGIN:VEVENT
DTSTART;TZID=UTC:20261122T190000
DTEND;TZID=UTC:20261122T230000
DTSTAMP:20260420T194452
CREATED:20250628T162908Z
LAST-MODIFIED:20250918T092443Z
UID:10021865-1795374000-1795388400@bcnsalsacalendar.com
SUMMARY:Salamandra Salsa Bachata Timba
DESCRIPTION:📝 Description and Salsa Style: Timba\, Salsa On1 and On2\, Bachata. \n💃 Dancer Level: Regarding Salsa\, all levels. \n👥 Average Age: 25-45 years old\, all ages welcome. \n🔄 Recurrence: Every Sunday.
URL:https://bcnsalsacalendar.com/event/salamandra-sbt-2/2026-11-22/
LOCATION:Sala Salamandra\, Avinguda del Carrilet\, 235\, L'Hospitalet de Llobregat\, Barcelona\, 08907\, Spain
CATEGORIES:Salsa Cubana,Salsa&Bachata,SalsaOn1,SalsaOn2,Son Cubano,Timba
ATTACH;FMTTYPE=image/jpeg:https://bcnsalsacalendar.com/wp-content/uploads/2024/12/Salamandra-2.jpg
END:VEVENT
BEGIN:VEVENT
DTSTART;TZID=UTC:20261129T190000
DTEND;TZID=UTC:20261129T230000
DTSTAMP:20260420T194452
CREATED:20250628T162908Z
LAST-MODIFIED:20250918T092443Z
UID:10021866-1795978800-1795993200@bcnsalsacalendar.com
SUMMARY:Salamandra Salsa Bachata Timba
DESCRIPTION:📝 Description and Salsa Style: Timba\, Salsa On1 and On2\, Bachata. \n💃 Dancer Level: Regarding Salsa\, all levels. \n👥 Average Age: 25-45 years old\, all ages welcome. \n🔄 Recurrence: Every Sunday.
URL:https://bcnsalsacalendar.com/event/salamandra-sbt-2/2026-11-29/
LOCATION:Sala Salamandra\, Avinguda del Carrilet\, 235\, L'Hospitalet de Llobregat\, Barcelona\, 08907\, Spain
CATEGORIES:Salsa Cubana,Salsa&Bachata,SalsaOn1,SalsaOn2,Son Cubano,Timba
ATTACH;FMTTYPE=image/jpeg:https://bcnsalsacalendar.com/wp-content/uploads/2024/12/Salamandra-2.jpg
END:VEVENT
BEGIN:VEVENT
DTSTART;TZID=UTC:20261206T190000
DTEND;TZID=UTC:20261206T230000
DTSTAMP:20260420T194452
CREATED:20250628T162908Z
LAST-MODIFIED:20250918T092443Z
UID:10021867-1796583600-1796598000@bcnsalsacalendar.com
SUMMARY:Salamandra Salsa Bachata Timba
DESCRIPTION:📝 Description and Salsa Style: Timba\, Salsa On1 and On2\, Bachata. \n💃 Dancer Level: Regarding Salsa\, all levels. \n👥 Average Age: 25-45 years old\, all ages welcome. \n🔄 Recurrence: Every Sunday.
URL:https://bcnsalsacalendar.com/event/salamandra-sbt-2/2026-12-06/
LOCATION:Sala Salamandra\, Avinguda del Carrilet\, 235\, L'Hospitalet de Llobregat\, Barcelona\, 08907\, Spain
CATEGORIES:Salsa Cubana,Salsa&Bachata,SalsaOn1,SalsaOn2,Son Cubano,Timba
ATTACH;FMTTYPE=image/jpeg:https://bcnsalsacalendar.com/wp-content/uploads/2024/12/Salamandra-2.jpg
END:VEVENT
BEGIN:VEVENT
DTSTART;TZID=UTC:20261213T190000
DTEND;TZID=UTC:20261213T230000
DTSTAMP:20260420T194452
CREATED:20250628T162908Z
LAST-MODIFIED:20250918T092443Z
UID:10021868-1797188400-1797202800@bcnsalsacalendar.com
SUMMARY:Salamandra Salsa Bachata Timba
DESCRIPTION:📝 Description and Salsa Style: Timba\, Salsa On1 and On2\, Bachata. \n💃 Dancer Level: Regarding Salsa\, all levels. \n👥 Average Age: 25-45 years old\, all ages welcome. \n🔄 Recurrence: Every Sunday.
URL:https://bcnsalsacalendar.com/event/salamandra-sbt-2/2026-12-13/
LOCATION:Sala Salamandra\, Avinguda del Carrilet\, 235\, L'Hospitalet de Llobregat\, Barcelona\, 08907\, Spain
CATEGORIES:Salsa Cubana,Salsa&Bachata,SalsaOn1,SalsaOn2,Son Cubano,Timba
ATTACH;FMTTYPE=image/jpeg:https://bcnsalsacalendar.com/wp-content/uploads/2024/12/Salamandra-2.jpg
END:VEVENT
BEGIN:VEVENT
DTSTART;TZID=UTC:20261220T190000
DTEND;TZID=UTC:20261220T230000
DTSTAMP:20260420T194452
CREATED:20250628T162908Z
LAST-MODIFIED:20250918T092443Z
UID:10021869-1797793200-1797807600@bcnsalsacalendar.com
SUMMARY:Salamandra Salsa Bachata Timba
DESCRIPTION:📝 Description and Salsa Style: Timba\, Salsa On1 and On2\, Bachata. \n💃 Dancer Level: Regarding Salsa\, all levels. \n👥 Average Age: 25-45 years old\, all ages welcome. \n🔄 Recurrence: Every Sunday.
URL:https://bcnsalsacalendar.com/event/salamandra-sbt-2/2026-12-20/
LOCATION:Sala Salamandra\, Avinguda del Carrilet\, 235\, L'Hospitalet de Llobregat\, Barcelona\, 08907\, Spain
CATEGORIES:Salsa Cubana,Salsa&Bachata,SalsaOn1,SalsaOn2,Son Cubano,Timba
ATTACH;FMTTYPE=image/jpeg:https://bcnsalsacalendar.com/wp-content/uploads/2024/12/Salamandra-2.jpg
END:VEVENT
BEGIN:VEVENT
DTSTART;TZID=UTC:20261227T190000
DTEND;TZID=UTC:20261227T230000
DTSTAMP:20260420T194452
CREATED:20250628T162908Z
LAST-MODIFIED:20250918T092443Z
UID:10021870-1798398000-1798412400@bcnsalsacalendar.com
SUMMARY:Salamandra Salsa Bachata Timba
DESCRIPTION:📝 Description and Salsa Style: Timba\, Salsa On1 and On2\, Bachata. \n💃 Dancer Level: Regarding Salsa\, all levels. \n👥 Average Age: 25-45 years old\, all ages welcome. \n🔄 Recurrence: Every Sunday.
URL:https://bcnsalsacalendar.com/event/salamandra-sbt-2/2026-12-27/
LOCATION:Sala Salamandra\, Avinguda del Carrilet\, 235\, L'Hospitalet de Llobregat\, Barcelona\, 08907\, Spain
CATEGORIES:Salsa Cubana,Salsa&Bachata,SalsaOn1,SalsaOn2,Son Cubano,Timba
ATTACH;FMTTYPE=image/jpeg:https://bcnsalsacalendar.com/wp-content/uploads/2024/12/Salamandra-2.jpg
END:VEVENT
BEGIN:VEVENT
DTSTART;TZID=UTC:20270103T190000
DTEND;TZID=UTC:20270103T230000
DTSTAMP:20260420T194452
CREATED:20250628T162908Z
LAST-MODIFIED:20250918T092443Z
UID:10021871-1799002800-1799017200@bcnsalsacalendar.com
SUMMARY:Salamandra Salsa Bachata Timba
DESCRIPTION:📝 Description and Salsa Style: Timba\, Salsa On1 and On2\, Bachata. \n💃 Dancer Level: Regarding Salsa\, all levels. \n👥 Average Age: 25-45 years old\, all ages welcome. \n🔄 Recurrence: Every Sunday.
URL:https://bcnsalsacalendar.com/event/salamandra-sbt-2/2027-01-03/
LOCATION:Sala Salamandra\, Avinguda del Carrilet\, 235\, L'Hospitalet de Llobregat\, Barcelona\, 08907\, Spain
CATEGORIES:Salsa Cubana,Salsa&Bachata,SalsaOn1,SalsaOn2,Son Cubano,Timba
ATTACH;FMTTYPE=image/jpeg:https://bcnsalsacalendar.com/wp-content/uploads/2024/12/Salamandra-2.jpg
END:VEVENT
BEGIN:VEVENT
DTSTART;TZID=UTC:20270110T190000
DTEND;TZID=UTC:20270110T230000
DTSTAMP:20260420T194452
CREATED:20250628T162908Z
LAST-MODIFIED:20250918T092443Z
UID:10021872-1799607600-1799622000@bcnsalsacalendar.com
SUMMARY:Salamandra Salsa Bachata Timba
DESCRIPTION:📝 Description and Salsa Style: Timba\, Salsa On1 and On2\, Bachata. \n💃 Dancer Level: Regarding Salsa\, all levels. \n👥 Average Age: 25-45 years old\, all ages welcome. \n🔄 Recurrence: Every Sunday.
URL:https://bcnsalsacalendar.com/event/salamandra-sbt-2/2027-01-10/
LOCATION:Sala Salamandra\, Avinguda del Carrilet\, 235\, L'Hospitalet de Llobregat\, Barcelona\, 08907\, Spain
CATEGORIES:Salsa Cubana,Salsa&Bachata,SalsaOn1,SalsaOn2,Son Cubano,Timba
ATTACH;FMTTYPE=image/jpeg:https://bcnsalsacalendar.com/wp-content/uploads/2024/12/Salamandra-2.jpg
END:VEVENT
BEGIN:VEVENT
DTSTART;TZID=UTC:20270117T190000
DTEND;TZID=UTC:20270117T230000
DTSTAMP:20260420T194452
CREATED:20250628T162908Z
LAST-MODIFIED:20250918T092443Z
UID:10021873-1800212400-1800226800@bcnsalsacalendar.com
SUMMARY:Salamandra Salsa Bachata Timba
DESCRIPTION:📝 Description and Salsa Style: Timba\, Salsa On1 and On2\, Bachata. \n💃 Dancer Level: Regarding Salsa\, all levels. \n👥 Average Age: 25-45 years old\, all ages welcome. \n🔄 Recurrence: Every Sunday.
URL:https://bcnsalsacalendar.com/event/salamandra-sbt-2/2027-01-17/
LOCATION:Sala Salamandra\, Avinguda del Carrilet\, 235\, L'Hospitalet de Llobregat\, Barcelona\, 08907\, Spain
CATEGORIES:Salsa Cubana,Salsa&Bachata,SalsaOn1,SalsaOn2,Son Cubano,Timba
ATTACH;FMTTYPE=image/jpeg:https://bcnsalsacalendar.com/wp-content/uploads/2024/12/Salamandra-2.jpg
END:VEVENT
BEGIN:VEVENT
DTSTART;TZID=UTC:20270124T190000
DTEND;TZID=UTC:20270124T230000
DTSTAMP:20260420T194452
CREATED:20250628T162908Z
LAST-MODIFIED:20250918T092443Z
UID:10021874-1800817200-1800831600@bcnsalsacalendar.com
SUMMARY:Salamandra Salsa Bachata Timba
DESCRIPTION:📝 Description and Salsa Style: Timba\, Salsa On1 and On2\, Bachata. \n💃 Dancer Level: Regarding Salsa\, all levels. \n👥 Average Age: 25-45 years old\, all ages welcome. \n🔄 Recurrence: Every Sunday.
URL:https://bcnsalsacalendar.com/event/salamandra-sbt-2/2027-01-24/
LOCATION:Sala Salamandra\, Avinguda del Carrilet\, 235\, L'Hospitalet de Llobregat\, Barcelona\, 08907\, Spain
CATEGORIES:Salsa Cubana,Salsa&Bachata,SalsaOn1,SalsaOn2,Son Cubano,Timba
ATTACH;FMTTYPE=image/jpeg:https://bcnsalsacalendar.com/wp-content/uploads/2024/12/Salamandra-2.jpg
END:VEVENT
END:VCALENDAR