BEGIN:VCALENDAR
VERSION:2.0
PRODID:-//Welcome - ECPv6.15.20//NONSGML v1.0//EN
CALSCALE:GREGORIAN
METHOD:PUBLISH
X-WR-CALNAME:Welcome
X-ORIGINAL-URL:https://bcnsalsacalendar.com
X-WR-CALDESC:Events for Welcome
REFRESH-INTERVAL;VALUE=DURATION:PT1H
X-Robots-Tag:noindex
X-PUBLISHED-TTL:PT1H
BEGIN:VTIMEZONE
TZID:UTC
BEGIN:STANDARD
TZOFFSETFROM:+0000
TZOFFSETTO:+0000
TZNAME:UTC
DTSTART:20250101T000000
END:STANDARD
END:VTIMEZONE
BEGIN:VEVENT
DTSTART;TZID=UTC:20260419T190000
DTEND;TZID=UTC:20260419T230000
DTSTAMP:20260420T145929
CREATED:20250921T133403Z
LAST-MODIFIED:20251126T110934Z
UID:10022095-1776625200-1776639600@bcnsalsacalendar.com
SUMMARY:Salsa Bachata Timba - Estación de Francia
DESCRIPTION:📝 Description and Salsa Style: All type of Salsa\, Bachata and Timba. \n💃 Dancer Level: Mostly beginner and intermediate. \n👥 Average Age: 40-65 years old\, all ages welcome. \n🔄 Recurrence: Occasionally.
URL:https://bcnsalsacalendar.com/event/salsa-time-sbt-2/2026-04-19/
LOCATION:Estación de Francia\, Avinguda del Marqués de L'Argentera\, s/n\, Ciutat Vella\, 08003 Barcelona\, Barcelona\, Catalonia\, 08003\, Spain
CATEGORIES:Salsa Cubana,Salsa&Bachata,SalsaOn1,SalsaOn2,Son Cubano,Timba
ATTACH;FMTTYPE=image/png:https://bcnsalsacalendar.com/wp-content/uploads/2025/03/Estacion-de-francia.png
END:VEVENT
BEGIN:VEVENT
DTSTART;TZID=UTC:20260416T193000
DTEND;TZID=UTC:20260416T223000
DTSTAMP:20260420T145929
CREATED:20250304T124512Z
LAST-MODIFIED:20250724T084911Z
UID:10009892-1776367800-1776378600@bcnsalsacalendar.com
SUMMARY:Safestay Hostel - Salsa & Bachata
DESCRIPTION:📝 Description and Salsa Style: All type of Salsa and Bachata. \n💃 Dancer Level: Mostly beginner and intermediate. \n👥 Average Age: 30-50 years old\, all ages welcome. \n🔄 Recurrence: Occasionally.
URL:https://bcnsalsacalendar.com/event/safestay-hostel-salsabachata/2026-04-16/
LOCATION:Safestay Hostel\, Pg. de Gràcia\, 33\, Barcelona\, Cataluna\, 08007\, Spain
CATEGORIES:Salsa Cubana,Salsa&Bachata,SalsaOn1,SalsaOn2,Timba
ATTACH;FMTTYPE=image/png:https://bcnsalsacalendar.com/wp-content/uploads/2025/03/Gallo-Loco-1.png
END:VEVENT
BEGIN:VEVENT
DTSTART;TZID=UTC:20260412T190000
DTEND;TZID=UTC:20260412T230000
DTSTAMP:20260420T145929
CREATED:20250921T133403Z
LAST-MODIFIED:20251126T110934Z
UID:10022094-1776020400-1776034800@bcnsalsacalendar.com
SUMMARY:Salsa Bachata Timba - Estación de Francia
DESCRIPTION:📝 Description and Salsa Style: All type of Salsa\, Bachata and Timba. \n💃 Dancer Level: Mostly beginner and intermediate. \n👥 Average Age: 40-65 years old\, all ages welcome. \n🔄 Recurrence: Occasionally.
URL:https://bcnsalsacalendar.com/event/salsa-time-sbt-2/2026-04-12/
LOCATION:Estación de Francia\, Avinguda del Marqués de L'Argentera\, s/n\, Ciutat Vella\, 08003 Barcelona\, Barcelona\, Catalonia\, 08003\, Spain
CATEGORIES:Salsa Cubana,Salsa&Bachata,SalsaOn1,SalsaOn2,Son Cubano,Timba
ATTACH;FMTTYPE=image/png:https://bcnsalsacalendar.com/wp-content/uploads/2025/03/Estacion-de-francia.png
END:VEVENT
BEGIN:VEVENT
DTSTART;TZID=UTC:20260409T193000
DTEND;TZID=UTC:20260409T223000
DTSTAMP:20260420T145929
CREATED:20250304T124512Z
LAST-MODIFIED:20250724T084911Z
UID:10009891-1775763000-1775773800@bcnsalsacalendar.com
SUMMARY:Safestay Hostel - Salsa & Bachata
DESCRIPTION:📝 Description and Salsa Style: All type of Salsa and Bachata. \n💃 Dancer Level: Mostly beginner and intermediate. \n👥 Average Age: 30-50 years old\, all ages welcome. \n🔄 Recurrence: Occasionally.
URL:https://bcnsalsacalendar.com/event/safestay-hostel-salsabachata/2026-04-09/
LOCATION:Safestay Hostel\, Pg. de Gràcia\, 33\, Barcelona\, Cataluna\, 08007\, Spain
CATEGORIES:Salsa Cubana,Salsa&Bachata,SalsaOn1,SalsaOn2,Timba
ATTACH;FMTTYPE=image/png:https://bcnsalsacalendar.com/wp-content/uploads/2025/03/Gallo-Loco-1.png
END:VEVENT
BEGIN:VEVENT
DTSTART;TZID=UTC:20260405T190000
DTEND;TZID=UTC:20260405T230000
DTSTAMP:20260420T145929
CREATED:20250921T133403Z
LAST-MODIFIED:20251126T110934Z
UID:10022093-1775415600-1775430000@bcnsalsacalendar.com
SUMMARY:Salsa Bachata Timba - Estación de Francia
DESCRIPTION:📝 Description and Salsa Style: All type of Salsa\, Bachata and Timba. \n💃 Dancer Level: Mostly beginner and intermediate. \n👥 Average Age: 40-65 years old\, all ages welcome. \n🔄 Recurrence: Occasionally.
URL:https://bcnsalsacalendar.com/event/salsa-time-sbt-2/2026-04-05/
LOCATION:Estación de Francia\, Avinguda del Marqués de L'Argentera\, s/n\, Ciutat Vella\, 08003 Barcelona\, Barcelona\, Catalonia\, 08003\, Spain
CATEGORIES:Salsa Cubana,Salsa&Bachata,SalsaOn1,SalsaOn2,Son Cubano,Timba
ATTACH;FMTTYPE=image/png:https://bcnsalsacalendar.com/wp-content/uploads/2025/03/Estacion-de-francia.png
END:VEVENT
BEGIN:VEVENT
DTSTART;TZID=UTC:20260402T193000
DTEND;TZID=UTC:20260402T223000
DTSTAMP:20260420T145929
CREATED:20250304T124512Z
LAST-MODIFIED:20250724T084911Z
UID:10009890-1775158200-1775169000@bcnsalsacalendar.com
SUMMARY:Safestay Hostel - Salsa & Bachata
DESCRIPTION:📝 Description and Salsa Style: All type of Salsa and Bachata. \n💃 Dancer Level: Mostly beginner and intermediate. \n👥 Average Age: 30-50 years old\, all ages welcome. \n🔄 Recurrence: Occasionally.
URL:https://bcnsalsacalendar.com/event/safestay-hostel-salsabachata/2026-04-02/
LOCATION:Safestay Hostel\, Pg. de Gràcia\, 33\, Barcelona\, Cataluna\, 08007\, Spain
CATEGORIES:Salsa Cubana,Salsa&Bachata,SalsaOn1,SalsaOn2,Timba
ATTACH;FMTTYPE=image/png:https://bcnsalsacalendar.com/wp-content/uploads/2025/03/Gallo-Loco-1.png
END:VEVENT
BEGIN:VEVENT
DTSTART;TZID=UTC:20260329T190000
DTEND;TZID=UTC:20260329T230000
DTSTAMP:20260420T145929
CREATED:20250921T133403Z
LAST-MODIFIED:20251126T110934Z
UID:10022092-1774810800-1774825200@bcnsalsacalendar.com
SUMMARY:Salsa Bachata Timba - Estación de Francia
DESCRIPTION:📝 Description and Salsa Style: All type of Salsa\, Bachata and Timba. \n💃 Dancer Level: Mostly beginner and intermediate. \n👥 Average Age: 40-65 years old\, all ages welcome. \n🔄 Recurrence: Occasionally.
URL:https://bcnsalsacalendar.com/event/salsa-time-sbt-2/2026-03-29/
LOCATION:Estación de Francia\, Avinguda del Marqués de L'Argentera\, s/n\, Ciutat Vella\, 08003 Barcelona\, Barcelona\, Catalonia\, 08003\, Spain
CATEGORIES:Salsa Cubana,Salsa&Bachata,SalsaOn1,SalsaOn2,Son Cubano,Timba
ATTACH;FMTTYPE=image/png:https://bcnsalsacalendar.com/wp-content/uploads/2025/03/Estacion-de-francia.png
END:VEVENT
BEGIN:VEVENT
DTSTART;TZID=UTC:20260326T193000
DTEND;TZID=UTC:20260326T223000
DTSTAMP:20260420T145929
CREATED:20250304T124512Z
LAST-MODIFIED:20250724T084911Z
UID:10009889-1774553400-1774564200@bcnsalsacalendar.com
SUMMARY:Safestay Hostel - Salsa & Bachata
DESCRIPTION:📝 Description and Salsa Style: All type of Salsa and Bachata. \n💃 Dancer Level: Mostly beginner and intermediate. \n👥 Average Age: 30-50 years old\, all ages welcome. \n🔄 Recurrence: Occasionally.
URL:https://bcnsalsacalendar.com/event/safestay-hostel-salsabachata/2026-03-26/
LOCATION:Safestay Hostel\, Pg. de Gràcia\, 33\, Barcelona\, Cataluna\, 08007\, Spain
CATEGORIES:Salsa Cubana,Salsa&Bachata,SalsaOn1,SalsaOn2,Timba
ATTACH;FMTTYPE=image/png:https://bcnsalsacalendar.com/wp-content/uploads/2025/03/Gallo-Loco-1.png
END:VEVENT
BEGIN:VEVENT
DTSTART;TZID=UTC:20260322T190000
DTEND;TZID=UTC:20260322T230000
DTSTAMP:20260420T145929
CREATED:20250921T133403Z
LAST-MODIFIED:20251126T110934Z
UID:10022091-1774206000-1774220400@bcnsalsacalendar.com
SUMMARY:Salsa Bachata Timba - Estación de Francia
DESCRIPTION:📝 Description and Salsa Style: All type of Salsa\, Bachata and Timba. \n💃 Dancer Level: Mostly beginner and intermediate. \n👥 Average Age: 40-65 years old\, all ages welcome. \n🔄 Recurrence: Occasionally.
URL:https://bcnsalsacalendar.com/event/salsa-time-sbt-2/2026-03-22/
LOCATION:Estación de Francia\, Avinguda del Marqués de L'Argentera\, s/n\, Ciutat Vella\, 08003 Barcelona\, Barcelona\, Catalonia\, 08003\, Spain
CATEGORIES:Salsa Cubana,Salsa&Bachata,SalsaOn1,SalsaOn2,Son Cubano,Timba
ATTACH;FMTTYPE=image/png:https://bcnsalsacalendar.com/wp-content/uploads/2025/03/Estacion-de-francia.png
END:VEVENT
BEGIN:VEVENT
DTSTART;TZID=UTC:20260319T193000
DTEND;TZID=UTC:20260319T223000
DTSTAMP:20260420T145929
CREATED:20250304T124512Z
LAST-MODIFIED:20250724T084911Z
UID:10009888-1773948600-1773959400@bcnsalsacalendar.com
SUMMARY:Safestay Hostel - Salsa & Bachata
DESCRIPTION:📝 Description and Salsa Style: All type of Salsa and Bachata. \n💃 Dancer Level: Mostly beginner and intermediate. \n👥 Average Age: 30-50 years old\, all ages welcome. \n🔄 Recurrence: Occasionally.
URL:https://bcnsalsacalendar.com/event/safestay-hostel-salsabachata/2026-03-19/
LOCATION:Safestay Hostel\, Pg. de Gràcia\, 33\, Barcelona\, Cataluna\, 08007\, Spain
CATEGORIES:Salsa Cubana,Salsa&Bachata,SalsaOn1,SalsaOn2,Timba
ATTACH;FMTTYPE=image/png:https://bcnsalsacalendar.com/wp-content/uploads/2025/03/Gallo-Loco-1.png
END:VEVENT
BEGIN:VEVENT
DTSTART;TZID=UTC:20260315T190000
DTEND;TZID=UTC:20260315T230000
DTSTAMP:20260420T145929
CREATED:20250921T133403Z
LAST-MODIFIED:20251126T110934Z
UID:10022090-1773601200-1773615600@bcnsalsacalendar.com
SUMMARY:Salsa Bachata Timba - Estación de Francia
DESCRIPTION:📝 Description and Salsa Style: All type of Salsa\, Bachata and Timba. \n💃 Dancer Level: Mostly beginner and intermediate. \n👥 Average Age: 40-65 years old\, all ages welcome. \n🔄 Recurrence: Occasionally.
URL:https://bcnsalsacalendar.com/event/salsa-time-sbt-2/2026-03-15/
LOCATION:Estación de Francia\, Avinguda del Marqués de L'Argentera\, s/n\, Ciutat Vella\, 08003 Barcelona\, Barcelona\, Catalonia\, 08003\, Spain
CATEGORIES:Salsa Cubana,Salsa&Bachata,SalsaOn1,SalsaOn2,Son Cubano,Timba
ATTACH;FMTTYPE=image/png:https://bcnsalsacalendar.com/wp-content/uploads/2025/03/Estacion-de-francia.png
END:VEVENT
BEGIN:VEVENT
DTSTART;TZID=UTC:20260312T193000
DTEND;TZID=UTC:20260312T223000
DTSTAMP:20260420T145929
CREATED:20250304T124512Z
LAST-MODIFIED:20250724T084911Z
UID:10009887-1773343800-1773354600@bcnsalsacalendar.com
SUMMARY:Safestay Hostel - Salsa & Bachata
DESCRIPTION:📝 Description and Salsa Style: All type of Salsa and Bachata. \n💃 Dancer Level: Mostly beginner and intermediate. \n👥 Average Age: 30-50 years old\, all ages welcome. \n🔄 Recurrence: Occasionally.
URL:https://bcnsalsacalendar.com/event/safestay-hostel-salsabachata/2026-03-12/
LOCATION:Safestay Hostel\, Pg. de Gràcia\, 33\, Barcelona\, Cataluna\, 08007\, Spain
CATEGORIES:Salsa Cubana,Salsa&Bachata,SalsaOn1,SalsaOn2,Timba
ATTACH;FMTTYPE=image/png:https://bcnsalsacalendar.com/wp-content/uploads/2025/03/Gallo-Loco-1.png
END:VEVENT
BEGIN:VEVENT
DTSTART;TZID=UTC:20260308T190000
DTEND;TZID=UTC:20260308T230000
DTSTAMP:20260420T145929
CREATED:20250921T133403Z
LAST-MODIFIED:20251126T110934Z
UID:10022089-1772996400-1773010800@bcnsalsacalendar.com
SUMMARY:Salsa Bachata Timba - Estación de Francia
DESCRIPTION:📝 Description and Salsa Style: All type of Salsa\, Bachata and Timba. \n💃 Dancer Level: Mostly beginner and intermediate. \n👥 Average Age: 40-65 years old\, all ages welcome. \n🔄 Recurrence: Occasionally.
URL:https://bcnsalsacalendar.com/event/salsa-time-sbt-2/2026-03-08/
LOCATION:Estación de Francia\, Avinguda del Marqués de L'Argentera\, s/n\, Ciutat Vella\, 08003 Barcelona\, Barcelona\, Catalonia\, 08003\, Spain
CATEGORIES:Salsa Cubana,Salsa&Bachata,SalsaOn1,SalsaOn2,Son Cubano,Timba
ATTACH;FMTTYPE=image/png:https://bcnsalsacalendar.com/wp-content/uploads/2025/03/Estacion-de-francia.png
END:VEVENT
BEGIN:VEVENT
DTSTART;TZID=UTC:20260305T193000
DTEND;TZID=UTC:20260305T223000
DTSTAMP:20260420T145929
CREATED:20250304T124512Z
LAST-MODIFIED:20250724T084911Z
UID:10009886-1772739000-1772749800@bcnsalsacalendar.com
SUMMARY:Safestay Hostel - Salsa & Bachata
DESCRIPTION:📝 Description and Salsa Style: All type of Salsa and Bachata. \n💃 Dancer Level: Mostly beginner and intermediate. \n👥 Average Age: 30-50 years old\, all ages welcome. \n🔄 Recurrence: Occasionally.
URL:https://bcnsalsacalendar.com/event/safestay-hostel-salsabachata/2026-03-05/
LOCATION:Safestay Hostel\, Pg. de Gràcia\, 33\, Barcelona\, Cataluna\, 08007\, Spain
CATEGORIES:Salsa Cubana,Salsa&Bachata,SalsaOn1,SalsaOn2,Timba
ATTACH;FMTTYPE=image/png:https://bcnsalsacalendar.com/wp-content/uploads/2025/03/Gallo-Loco-1.png
END:VEVENT
BEGIN:VEVENT
DTSTART;TZID=UTC:20260301T190000
DTEND;TZID=UTC:20260301T230000
DTSTAMP:20260420T145929
CREATED:20250921T133403Z
LAST-MODIFIED:20251126T110934Z
UID:10022088-1772391600-1772406000@bcnsalsacalendar.com
SUMMARY:Salsa Bachata Timba - Estación de Francia
DESCRIPTION:📝 Description and Salsa Style: All type of Salsa\, Bachata and Timba. \n💃 Dancer Level: Mostly beginner and intermediate. \n👥 Average Age: 40-65 years old\, all ages welcome. \n🔄 Recurrence: Occasionally.
URL:https://bcnsalsacalendar.com/event/salsa-time-sbt-2/2026-03-01/
LOCATION:Estación de Francia\, Avinguda del Marqués de L'Argentera\, s/n\, Ciutat Vella\, 08003 Barcelona\, Barcelona\, Catalonia\, 08003\, Spain
CATEGORIES:Salsa Cubana,Salsa&Bachata,SalsaOn1,SalsaOn2,Son Cubano,Timba
ATTACH;FMTTYPE=image/png:https://bcnsalsacalendar.com/wp-content/uploads/2025/03/Estacion-de-francia.png
END:VEVENT
BEGIN:VEVENT
DTSTART;TZID=UTC:20260226T193000
DTEND;TZID=UTC:20260226T223000
DTSTAMP:20260420T145929
CREATED:20250304T124512Z
LAST-MODIFIED:20250724T084911Z
UID:10009885-1772134200-1772145000@bcnsalsacalendar.com
SUMMARY:Safestay Hostel - Salsa & Bachata
DESCRIPTION:📝 Description and Salsa Style: All type of Salsa and Bachata. \n💃 Dancer Level: Mostly beginner and intermediate. \n👥 Average Age: 30-50 years old\, all ages welcome. \n🔄 Recurrence: Occasionally.
URL:https://bcnsalsacalendar.com/event/safestay-hostel-salsabachata/2026-02-26/
LOCATION:Safestay Hostel\, Pg. de Gràcia\, 33\, Barcelona\, Cataluna\, 08007\, Spain
CATEGORIES:Salsa Cubana,Salsa&Bachata,SalsaOn1,SalsaOn2,Timba
ATTACH;FMTTYPE=image/png:https://bcnsalsacalendar.com/wp-content/uploads/2025/03/Gallo-Loco-1.png
END:VEVENT
BEGIN:VEVENT
DTSTART;TZID=UTC:20260222T190000
DTEND;TZID=UTC:20260222T230000
DTSTAMP:20260420T145929
CREATED:20250921T133403Z
LAST-MODIFIED:20251126T110934Z
UID:10022087-1771786800-1771801200@bcnsalsacalendar.com
SUMMARY:Salsa Bachata Timba - Estación de Francia
DESCRIPTION:📝 Description and Salsa Style: All type of Salsa\, Bachata and Timba. \n💃 Dancer Level: Mostly beginner and intermediate. \n👥 Average Age: 40-65 years old\, all ages welcome. \n🔄 Recurrence: Occasionally.
URL:https://bcnsalsacalendar.com/event/salsa-time-sbt-2/2026-02-22/
LOCATION:Estación de Francia\, Avinguda del Marqués de L'Argentera\, s/n\, Ciutat Vella\, 08003 Barcelona\, Barcelona\, Catalonia\, 08003\, Spain
CATEGORIES:Salsa Cubana,Salsa&Bachata,SalsaOn1,SalsaOn2,Son Cubano,Timba
ATTACH;FMTTYPE=image/png:https://bcnsalsacalendar.com/wp-content/uploads/2025/03/Estacion-de-francia.png
END:VEVENT
BEGIN:VEVENT
DTSTART;TZID=UTC:20260219T193000
DTEND;TZID=UTC:20260219T223000
DTSTAMP:20260420T145929
CREATED:20250304T124512Z
LAST-MODIFIED:20250724T084911Z
UID:10009884-1771529400-1771540200@bcnsalsacalendar.com
SUMMARY:Safestay Hostel - Salsa & Bachata
DESCRIPTION:📝 Description and Salsa Style: All type of Salsa and Bachata. \n💃 Dancer Level: Mostly beginner and intermediate. \n👥 Average Age: 30-50 years old\, all ages welcome. \n🔄 Recurrence: Occasionally.
URL:https://bcnsalsacalendar.com/event/safestay-hostel-salsabachata/2026-02-19/
LOCATION:Safestay Hostel\, Pg. de Gràcia\, 33\, Barcelona\, Cataluna\, 08007\, Spain
CATEGORIES:Salsa Cubana,Salsa&Bachata,SalsaOn1,SalsaOn2,Timba
ATTACH;FMTTYPE=image/png:https://bcnsalsacalendar.com/wp-content/uploads/2025/03/Gallo-Loco-1.png
END:VEVENT
BEGIN:VEVENT
DTSTART;TZID=UTC:20260215T190000
DTEND;TZID=UTC:20260215T230000
DTSTAMP:20260420T145929
CREATED:20250921T133403Z
LAST-MODIFIED:20251126T110934Z
UID:10022086-1771182000-1771196400@bcnsalsacalendar.com
SUMMARY:Salsa Bachata Timba - Estación de Francia
DESCRIPTION:📝 Description and Salsa Style: All type of Salsa\, Bachata and Timba. \n💃 Dancer Level: Mostly beginner and intermediate. \n👥 Average Age: 40-65 years old\, all ages welcome. \n🔄 Recurrence: Occasionally.
URL:https://bcnsalsacalendar.com/event/salsa-time-sbt-2/2026-02-15/
LOCATION:Estación de Francia\, Avinguda del Marqués de L'Argentera\, s/n\, Ciutat Vella\, 08003 Barcelona\, Barcelona\, Catalonia\, 08003\, Spain
CATEGORIES:Salsa Cubana,Salsa&Bachata,SalsaOn1,SalsaOn2,Son Cubano,Timba
ATTACH;FMTTYPE=image/png:https://bcnsalsacalendar.com/wp-content/uploads/2025/03/Estacion-de-francia.png
END:VEVENT
BEGIN:VEVENT
DTSTART;TZID=UTC:20260212T193000
DTEND;TZID=UTC:20260212T223000
DTSTAMP:20260420T145929
CREATED:20250304T124512Z
LAST-MODIFIED:20250724T084911Z
UID:10009883-1770924600-1770935400@bcnsalsacalendar.com
SUMMARY:Safestay Hostel - Salsa & Bachata
DESCRIPTION:📝 Description and Salsa Style: All type of Salsa and Bachata. \n💃 Dancer Level: Mostly beginner and intermediate. \n👥 Average Age: 30-50 years old\, all ages welcome. \n🔄 Recurrence: Occasionally.
URL:https://bcnsalsacalendar.com/event/safestay-hostel-salsabachata/2026-02-12/
LOCATION:Safestay Hostel\, Pg. de Gràcia\, 33\, Barcelona\, Cataluna\, 08007\, Spain
CATEGORIES:Salsa Cubana,Salsa&Bachata,SalsaOn1,SalsaOn2,Timba
ATTACH;FMTTYPE=image/png:https://bcnsalsacalendar.com/wp-content/uploads/2025/03/Gallo-Loco-1.png
END:VEVENT
BEGIN:VEVENT
DTSTART;TZID=UTC:20260208T190000
DTEND;TZID=UTC:20260208T230000
DTSTAMP:20260420T145929
CREATED:20251126T112038Z
LAST-MODIFIED:20260207T143920Z
UID:10022075-1770577200-1770591600@bcnsalsacalendar.com
SUMMARY:Salsa Bachata Timba - Estación de Francia
DESCRIPTION:📝 Description and Salsa Style: All type of Salsa\, Bachata and Timba. \n💃 Dancer Level: Mostly beginner and intermediate. \n👥 Average Age: 40-65 years old\, all ages welcome. \n🔄 Recurrence: Occasionally.
URL:https://bcnsalsacalendar.com/event/salsa-time-sbt-2-2/
LOCATION:Sala Delirio\, Calle de Aribau\, 191\, Barcelona\, Barcelona\, 08021\, Spain
CATEGORIES:Salsa Cubana,Salsa&Bachata,SalsaOn1,SalsaOn2,Son Cubano,Timba
ATTACH;FMTTYPE=image/png:https://bcnsalsacalendar.com/wp-content/uploads/2025/03/Estacion-de-francia.png
END:VEVENT
BEGIN:VEVENT
DTSTART;TZID=UTC:20260208T190000
DTEND;TZID=UTC:20260208T230000
DTSTAMP:20260420T145929
CREATED:20250921T133403Z
LAST-MODIFIED:20251126T110934Z
UID:10022085-1770577200-1770591600@bcnsalsacalendar.com
SUMMARY:Salsa Bachata Timba - Estación de Francia
DESCRIPTION:📝 Description and Salsa Style: All type of Salsa\, Bachata and Timba. \n💃 Dancer Level: Mostly beginner and intermediate. \n👥 Average Age: 40-65 years old\, all ages welcome. \n🔄 Recurrence: Occasionally.
URL:https://bcnsalsacalendar.com/event/salsa-time-sbt-2/2026-02-08/
LOCATION:Estación de Francia\, Avinguda del Marqués de L'Argentera\, s/n\, Ciutat Vella\, 08003 Barcelona\, Barcelona\, Catalonia\, 08003\, Spain
CATEGORIES:Salsa Cubana,Salsa&Bachata,SalsaOn1,SalsaOn2,Son Cubano,Timba
ATTACH;FMTTYPE=image/png:https://bcnsalsacalendar.com/wp-content/uploads/2025/03/Estacion-de-francia.png
END:VEVENT
BEGIN:VEVENT
DTSTART;TZID=UTC:20260207T190000
DTEND;TZID=UTC:20260207T220000
DTSTAMP:20260420T145929
CREATED:20251017T075923Z
LAST-MODIFIED:20260207T143539Z
UID:10023062-1770490800-1770501600@bcnsalsacalendar.com
SUMMARY:Salsa & Bachata - Terrace Maremagnum
DESCRIPTION:📝 Description and Salsa Style: Salsa & Bachata. All type of Salsa. \n💃 Dancer Level: Mostly beginner and intermediate. \n👥 Average Age: 25-60 years old\, all ages welcome. \n🔄 Recurrence: Occasionally.
URL:https://bcnsalsacalendar.com/event/salsa-bachata-terrace-maremagnum/2026-02-07/
LOCATION:Time Out Market Barcelona\, Moll d´Espanya\, 5\, Cuitat Vella\, Barcelona\, Cataluna\, 08039\, Spain
CATEGORIES:Salsa Cubana,Salsa&Bachata,SalsaOn1,SalsaOn2,Son Cubano,Timba
ATTACH;FMTTYPE=image/png:https://bcnsalsacalendar.com/wp-content/uploads/2025/10/image.png
END:VEVENT
BEGIN:VEVENT
DTSTART;TZID=UTC:20260205T193000
DTEND;TZID=UTC:20260205T223000
DTSTAMP:20260420T145929
CREATED:20250304T124512Z
LAST-MODIFIED:20250724T084911Z
UID:10009882-1770319800-1770330600@bcnsalsacalendar.com
SUMMARY:Safestay Hostel - Salsa & Bachata
DESCRIPTION:📝 Description and Salsa Style: All type of Salsa and Bachata. \n💃 Dancer Level: Mostly beginner and intermediate. \n👥 Average Age: 30-50 years old\, all ages welcome. \n🔄 Recurrence: Occasionally.
URL:https://bcnsalsacalendar.com/event/safestay-hostel-salsabachata/2026-02-05/
LOCATION:Safestay Hostel\, Pg. de Gràcia\, 33\, Barcelona\, Cataluna\, 08007\, Spain
CATEGORIES:Salsa Cubana,Salsa&Bachata,SalsaOn1,SalsaOn2,Timba
ATTACH;FMTTYPE=image/png:https://bcnsalsacalendar.com/wp-content/uploads/2025/03/Gallo-Loco-1.png
END:VEVENT
BEGIN:VEVENT
DTSTART;TZID=UTC:20260201T190000
DTEND;TZID=UTC:20260201T230000
DTSTAMP:20260420T145929
CREATED:20250921T133403Z
LAST-MODIFIED:20251126T110934Z
UID:10022084-1769972400-1769986800@bcnsalsacalendar.com
SUMMARY:Salsa Bachata Timba - Estación de Francia
DESCRIPTION:📝 Description and Salsa Style: All type of Salsa\, Bachata and Timba. \n💃 Dancer Level: Mostly beginner and intermediate. \n👥 Average Age: 40-65 years old\, all ages welcome. \n🔄 Recurrence: Occasionally.
URL:https://bcnsalsacalendar.com/event/salsa-time-sbt-2/2026-02-01/
LOCATION:Estación de Francia\, Avinguda del Marqués de L'Argentera\, s/n\, Ciutat Vella\, 08003 Barcelona\, Barcelona\, Catalonia\, 08003\, Spain
CATEGORIES:Salsa Cubana,Salsa&Bachata,SalsaOn1,SalsaOn2,Son Cubano,Timba
ATTACH;FMTTYPE=image/png:https://bcnsalsacalendar.com/wp-content/uploads/2025/03/Estacion-de-francia.png
END:VEVENT
BEGIN:VEVENT
DTSTART;TZID=UTC:20260129T193000
DTEND;TZID=UTC:20260129T223000
DTSTAMP:20260420T145929
CREATED:20250304T124512Z
LAST-MODIFIED:20250724T084911Z
UID:10009881-1769715000-1769725800@bcnsalsacalendar.com
SUMMARY:Safestay Hostel - Salsa & Bachata
DESCRIPTION:📝 Description and Salsa Style: All type of Salsa and Bachata. \n💃 Dancer Level: Mostly beginner and intermediate. \n👥 Average Age: 30-50 years old\, all ages welcome. \n🔄 Recurrence: Occasionally.
URL:https://bcnsalsacalendar.com/event/safestay-hostel-salsabachata/2026-01-29/
LOCATION:Safestay Hostel\, Pg. de Gràcia\, 33\, Barcelona\, Cataluna\, 08007\, Spain
CATEGORIES:Salsa Cubana,Salsa&Bachata,SalsaOn1,SalsaOn2,Timba
ATTACH;FMTTYPE=image/png:https://bcnsalsacalendar.com/wp-content/uploads/2025/03/Gallo-Loco-1.png
END:VEVENT
BEGIN:VEVENT
DTSTART;TZID=UTC:20260125T190000
DTEND;TZID=UTC:20260125T230000
DTSTAMP:20260420T145929
CREATED:20250921T133403Z
LAST-MODIFIED:20251126T110934Z
UID:10022083-1769367600-1769382000@bcnsalsacalendar.com
SUMMARY:Salsa Bachata Timba - Estación de Francia
DESCRIPTION:📝 Description and Salsa Style: All type of Salsa\, Bachata and Timba. \n💃 Dancer Level: Mostly beginner and intermediate. \n👥 Average Age: 40-65 years old\, all ages welcome. \n🔄 Recurrence: Occasionally.
URL:https://bcnsalsacalendar.com/event/salsa-time-sbt-2/2026-01-25/
LOCATION:Estación de Francia\, Avinguda del Marqués de L'Argentera\, s/n\, Ciutat Vella\, 08003 Barcelona\, Barcelona\, Catalonia\, 08003\, Spain
CATEGORIES:Salsa Cubana,Salsa&Bachata,SalsaOn1,SalsaOn2,Son Cubano,Timba
ATTACH;FMTTYPE=image/png:https://bcnsalsacalendar.com/wp-content/uploads/2025/03/Estacion-de-francia.png
END:VEVENT
BEGIN:VEVENT
DTSTART;TZID=UTC:20260122T193000
DTEND;TZID=UTC:20260122T223000
DTSTAMP:20260420T145929
CREATED:20250304T124512Z
LAST-MODIFIED:20250724T084911Z
UID:10009880-1769110200-1769121000@bcnsalsacalendar.com
SUMMARY:Safestay Hostel - Salsa & Bachata
DESCRIPTION:📝 Description and Salsa Style: All type of Salsa and Bachata. \n💃 Dancer Level: Mostly beginner and intermediate. \n👥 Average Age: 30-50 years old\, all ages welcome. \n🔄 Recurrence: Occasionally.
URL:https://bcnsalsacalendar.com/event/safestay-hostel-salsabachata/2026-01-22/
LOCATION:Safestay Hostel\, Pg. de Gràcia\, 33\, Barcelona\, Cataluna\, 08007\, Spain
CATEGORIES:Salsa Cubana,Salsa&Bachata,SalsaOn1,SalsaOn2,Timba
ATTACH;FMTTYPE=image/png:https://bcnsalsacalendar.com/wp-content/uploads/2025/03/Gallo-Loco-1.png
END:VEVENT
BEGIN:VEVENT
DTSTART;TZID=UTC:20260118T190000
DTEND;TZID=UTC:20260118T230000
DTSTAMP:20260420T145929
CREATED:20250921T133403Z
LAST-MODIFIED:20251126T110934Z
UID:10022082-1768762800-1768777200@bcnsalsacalendar.com
SUMMARY:Salsa Bachata Timba - Estación de Francia
DESCRIPTION:📝 Description and Salsa Style: All type of Salsa\, Bachata and Timba. \n💃 Dancer Level: Mostly beginner and intermediate. \n👥 Average Age: 40-65 years old\, all ages welcome. \n🔄 Recurrence: Occasionally.
URL:https://bcnsalsacalendar.com/event/salsa-time-sbt-2/2026-01-18/
LOCATION:Estación de Francia\, Avinguda del Marqués de L'Argentera\, s/n\, Ciutat Vella\, 08003 Barcelona\, Barcelona\, Catalonia\, 08003\, Spain
CATEGORIES:Salsa Cubana,Salsa&Bachata,SalsaOn1,SalsaOn2,Son Cubano,Timba
ATTACH;FMTTYPE=image/png:https://bcnsalsacalendar.com/wp-content/uploads/2025/03/Estacion-de-francia.png
END:VEVENT
BEGIN:VEVENT
DTSTART;TZID=UTC:20260115T193000
DTEND;TZID=UTC:20260115T223000
DTSTAMP:20260420T145929
CREATED:20250304T124512Z
LAST-MODIFIED:20250724T084911Z
UID:10009879-1768505400-1768516200@bcnsalsacalendar.com
SUMMARY:Safestay Hostel - Salsa & Bachata
DESCRIPTION:📝 Description and Salsa Style: All type of Salsa and Bachata. \n💃 Dancer Level: Mostly beginner and intermediate. \n👥 Average Age: 30-50 years old\, all ages welcome. \n🔄 Recurrence: Occasionally.
URL:https://bcnsalsacalendar.com/event/safestay-hostel-salsabachata/2026-01-15/
LOCATION:Safestay Hostel\, Pg. de Gràcia\, 33\, Barcelona\, Cataluna\, 08007\, Spain
CATEGORIES:Salsa Cubana,Salsa&Bachata,SalsaOn1,SalsaOn2,Timba
ATTACH;FMTTYPE=image/png:https://bcnsalsacalendar.com/wp-content/uploads/2025/03/Gallo-Loco-1.png
END:VEVENT
END:VCALENDAR