BEGIN:VCALENDAR
VERSION:2.0
PRODID:-//Welcome - ECPv6.15.20//NONSGML v1.0//EN
CALSCALE:GREGORIAN
METHOD:PUBLISH
X-WR-CALNAME:Welcome
X-ORIGINAL-URL:https://bcnsalsacalendar.com
X-WR-CALDESC:Events for Welcome
REFRESH-INTERVAL;VALUE=DURATION:PT1H
X-Robots-Tag:noindex
X-PUBLISHED-TTL:PT1H
BEGIN:VTIMEZONE
TZID:UTC
BEGIN:STANDARD
TZOFFSETFROM:+0000
TZOFFSETTO:+0000
TZNAME:UTC
DTSTART:20250101T000000
END:STANDARD
END:VTIMEZONE
BEGIN:VEVENT
DTSTART;TZID=UTC:20260419T190000
DTEND;TZID=UTC:20260419T230000
DTSTAMP:20260419T182127
CREATED:20250921T133403Z
LAST-MODIFIED:20251126T110934Z
UID:10022095-1776625200-1776639600@bcnsalsacalendar.com
SUMMARY:Salsa Bachata Timba - Estación de Francia
DESCRIPTION:📝 Description and Salsa Style: All type of Salsa\, Bachata and Timba. \n💃 Dancer Level: Mostly beginner and intermediate. \n👥 Average Age: 40-65 years old\, all ages welcome. \n🔄 Recurrence: Occasionally.
URL:https://bcnsalsacalendar.com/event/salsa-time-sbt-2/2026-04-19/
LOCATION:Estación de Francia\, Avinguda del Marqués de L'Argentera\, s/n\, Ciutat Vella\, 08003 Barcelona\, Barcelona\, Catalonia\, 08003\, Spain
CATEGORIES:Salsa Cubana,Salsa&Bachata,SalsaOn1,SalsaOn2,Son Cubano,Timba
ATTACH;FMTTYPE=image/png:https://bcnsalsacalendar.com/wp-content/uploads/2025/03/Estacion-de-francia.png
END:VEVENT
BEGIN:VEVENT
DTSTART;TZID=UTC:20260423T193000
DTEND;TZID=UTC:20260423T223000
DTSTAMP:20260419T182127
CREATED:20250304T124512Z
LAST-MODIFIED:20250724T084911Z
UID:10009893-1776972600-1776983400@bcnsalsacalendar.com
SUMMARY:Safestay Hostel - Salsa & Bachata
DESCRIPTION:📝 Description and Salsa Style: All type of Salsa and Bachata. \n💃 Dancer Level: Mostly beginner and intermediate. \n👥 Average Age: 30-50 years old\, all ages welcome. \n🔄 Recurrence: Occasionally.
URL:https://bcnsalsacalendar.com/event/safestay-hostel-salsabachata/2026-04-23/
LOCATION:Safestay Hostel\, Pg. de Gràcia\, 33\, Barcelona\, Cataluna\, 08007\, Spain
CATEGORIES:Salsa Cubana,Salsa&Bachata,SalsaOn1,SalsaOn2,Timba
ATTACH;FMTTYPE=image/png:https://bcnsalsacalendar.com/wp-content/uploads/2025/03/Gallo-Loco-1.png
END:VEVENT
BEGIN:VEVENT
DTSTART;TZID=UTC:20260426T190000
DTEND;TZID=UTC:20260426T230000
DTSTAMP:20260419T182127
CREATED:20250921T133403Z
LAST-MODIFIED:20251126T110934Z
UID:10022096-1777230000-1777244400@bcnsalsacalendar.com
SUMMARY:Salsa Bachata Timba - Estación de Francia
DESCRIPTION:📝 Description and Salsa Style: All type of Salsa\, Bachata and Timba. \n💃 Dancer Level: Mostly beginner and intermediate. \n👥 Average Age: 40-65 years old\, all ages welcome. \n🔄 Recurrence: Occasionally.
URL:https://bcnsalsacalendar.com/event/salsa-time-sbt-2/2026-04-26/
LOCATION:Estación de Francia\, Avinguda del Marqués de L'Argentera\, s/n\, Ciutat Vella\, 08003 Barcelona\, Barcelona\, Catalonia\, 08003\, Spain
CATEGORIES:Salsa Cubana,Salsa&Bachata,SalsaOn1,SalsaOn2,Son Cubano,Timba
ATTACH;FMTTYPE=image/png:https://bcnsalsacalendar.com/wp-content/uploads/2025/03/Estacion-de-francia.png
END:VEVENT
BEGIN:VEVENT
DTSTART;TZID=UTC:20260430T193000
DTEND;TZID=UTC:20260430T223000
DTSTAMP:20260419T182127
CREATED:20250304T124512Z
LAST-MODIFIED:20250724T084911Z
UID:10009894-1777577400-1777588200@bcnsalsacalendar.com
SUMMARY:Safestay Hostel - Salsa & Bachata
DESCRIPTION:📝 Description and Salsa Style: All type of Salsa and Bachata. \n💃 Dancer Level: Mostly beginner and intermediate. \n👥 Average Age: 30-50 years old\, all ages welcome. \n🔄 Recurrence: Occasionally.
URL:https://bcnsalsacalendar.com/event/safestay-hostel-salsabachata/2026-04-30/
LOCATION:Safestay Hostel\, Pg. de Gràcia\, 33\, Barcelona\, Cataluna\, 08007\, Spain
CATEGORIES:Salsa Cubana,Salsa&Bachata,SalsaOn1,SalsaOn2,Timba
ATTACH;FMTTYPE=image/png:https://bcnsalsacalendar.com/wp-content/uploads/2025/03/Gallo-Loco-1.png
END:VEVENT
BEGIN:VEVENT
DTSTART;TZID=UTC:20260503T190000
DTEND;TZID=UTC:20260503T230000
DTSTAMP:20260419T182127
CREATED:20250921T133403Z
LAST-MODIFIED:20251126T110934Z
UID:10022097-1777834800-1777849200@bcnsalsacalendar.com
SUMMARY:Salsa Bachata Timba - Estación de Francia
DESCRIPTION:📝 Description and Salsa Style: All type of Salsa\, Bachata and Timba. \n💃 Dancer Level: Mostly beginner and intermediate. \n👥 Average Age: 40-65 years old\, all ages welcome. \n🔄 Recurrence: Occasionally.
URL:https://bcnsalsacalendar.com/event/salsa-time-sbt-2/2026-05-03/
LOCATION:Estación de Francia\, Avinguda del Marqués de L'Argentera\, s/n\, Ciutat Vella\, 08003 Barcelona\, Barcelona\, Catalonia\, 08003\, Spain
CATEGORIES:Salsa Cubana,Salsa&Bachata,SalsaOn1,SalsaOn2,Son Cubano,Timba
ATTACH;FMTTYPE=image/png:https://bcnsalsacalendar.com/wp-content/uploads/2025/03/Estacion-de-francia.png
END:VEVENT
BEGIN:VEVENT
DTSTART;TZID=UTC:20260507T193000
DTEND;TZID=UTC:20260507T223000
DTSTAMP:20260419T182127
CREATED:20250304T124512Z
LAST-MODIFIED:20250724T084911Z
UID:10009895-1778182200-1778193000@bcnsalsacalendar.com
SUMMARY:Safestay Hostel - Salsa & Bachata
DESCRIPTION:📝 Description and Salsa Style: All type of Salsa and Bachata. \n💃 Dancer Level: Mostly beginner and intermediate. \n👥 Average Age: 30-50 years old\, all ages welcome. \n🔄 Recurrence: Occasionally.
URL:https://bcnsalsacalendar.com/event/safestay-hostel-salsabachata/2026-05-07/
LOCATION:Safestay Hostel\, Pg. de Gràcia\, 33\, Barcelona\, Cataluna\, 08007\, Spain
CATEGORIES:Salsa Cubana,Salsa&Bachata,SalsaOn1,SalsaOn2,Timba
ATTACH;FMTTYPE=image/png:https://bcnsalsacalendar.com/wp-content/uploads/2025/03/Gallo-Loco-1.png
END:VEVENT
BEGIN:VEVENT
DTSTART;TZID=UTC:20260510T190000
DTEND;TZID=UTC:20260510T230000
DTSTAMP:20260419T182127
CREATED:20250921T133403Z
LAST-MODIFIED:20251126T110934Z
UID:10022098-1778439600-1778454000@bcnsalsacalendar.com
SUMMARY:Salsa Bachata Timba - Estación de Francia
DESCRIPTION:📝 Description and Salsa Style: All type of Salsa\, Bachata and Timba. \n💃 Dancer Level: Mostly beginner and intermediate. \n👥 Average Age: 40-65 years old\, all ages welcome. \n🔄 Recurrence: Occasionally.
URL:https://bcnsalsacalendar.com/event/salsa-time-sbt-2/2026-05-10/
LOCATION:Estación de Francia\, Avinguda del Marqués de L'Argentera\, s/n\, Ciutat Vella\, 08003 Barcelona\, Barcelona\, Catalonia\, 08003\, Spain
CATEGORIES:Salsa Cubana,Salsa&Bachata,SalsaOn1,SalsaOn2,Son Cubano,Timba
ATTACH;FMTTYPE=image/png:https://bcnsalsacalendar.com/wp-content/uploads/2025/03/Estacion-de-francia.png
END:VEVENT
BEGIN:VEVENT
DTSTART;TZID=UTC:20260514T193000
DTEND;TZID=UTC:20260514T223000
DTSTAMP:20260419T182127
CREATED:20250304T124512Z
LAST-MODIFIED:20250724T084911Z
UID:10009896-1778787000-1778797800@bcnsalsacalendar.com
SUMMARY:Safestay Hostel - Salsa & Bachata
DESCRIPTION:📝 Description and Salsa Style: All type of Salsa and Bachata. \n💃 Dancer Level: Mostly beginner and intermediate. \n👥 Average Age: 30-50 years old\, all ages welcome. \n🔄 Recurrence: Occasionally.
URL:https://bcnsalsacalendar.com/event/safestay-hostel-salsabachata/2026-05-14/
LOCATION:Safestay Hostel\, Pg. de Gràcia\, 33\, Barcelona\, Cataluna\, 08007\, Spain
CATEGORIES:Salsa Cubana,Salsa&Bachata,SalsaOn1,SalsaOn2,Timba
ATTACH;FMTTYPE=image/png:https://bcnsalsacalendar.com/wp-content/uploads/2025/03/Gallo-Loco-1.png
END:VEVENT
BEGIN:VEVENT
DTSTART;TZID=UTC:20260517T190000
DTEND;TZID=UTC:20260517T230000
DTSTAMP:20260419T182127
CREATED:20250921T133403Z
LAST-MODIFIED:20251126T110934Z
UID:10022099-1779044400-1779058800@bcnsalsacalendar.com
SUMMARY:Salsa Bachata Timba - Estación de Francia
DESCRIPTION:📝 Description and Salsa Style: All type of Salsa\, Bachata and Timba. \n💃 Dancer Level: Mostly beginner and intermediate. \n👥 Average Age: 40-65 years old\, all ages welcome. \n🔄 Recurrence: Occasionally.
URL:https://bcnsalsacalendar.com/event/salsa-time-sbt-2/2026-05-17/
LOCATION:Estación de Francia\, Avinguda del Marqués de L'Argentera\, s/n\, Ciutat Vella\, 08003 Barcelona\, Barcelona\, Catalonia\, 08003\, Spain
CATEGORIES:Salsa Cubana,Salsa&Bachata,SalsaOn1,SalsaOn2,Son Cubano,Timba
ATTACH;FMTTYPE=image/png:https://bcnsalsacalendar.com/wp-content/uploads/2025/03/Estacion-de-francia.png
END:VEVENT
BEGIN:VEVENT
DTSTART;TZID=UTC:20260521T193000
DTEND;TZID=UTC:20260521T223000
DTSTAMP:20260419T182127
CREATED:20250304T124512Z
LAST-MODIFIED:20250724T084911Z
UID:10009897-1779391800-1779402600@bcnsalsacalendar.com
SUMMARY:Safestay Hostel - Salsa & Bachata
DESCRIPTION:📝 Description and Salsa Style: All type of Salsa and Bachata. \n💃 Dancer Level: Mostly beginner and intermediate. \n👥 Average Age: 30-50 years old\, all ages welcome. \n🔄 Recurrence: Occasionally.
URL:https://bcnsalsacalendar.com/event/safestay-hostel-salsabachata/2026-05-21/
LOCATION:Safestay Hostel\, Pg. de Gràcia\, 33\, Barcelona\, Cataluna\, 08007\, Spain
CATEGORIES:Salsa Cubana,Salsa&Bachata,SalsaOn1,SalsaOn2,Timba
ATTACH;FMTTYPE=image/png:https://bcnsalsacalendar.com/wp-content/uploads/2025/03/Gallo-Loco-1.png
END:VEVENT
BEGIN:VEVENT
DTSTART;TZID=UTC:20260524T190000
DTEND;TZID=UTC:20260524T230000
DTSTAMP:20260419T182127
CREATED:20250921T133403Z
LAST-MODIFIED:20251126T110934Z
UID:10022100-1779649200-1779663600@bcnsalsacalendar.com
SUMMARY:Salsa Bachata Timba - Estación de Francia
DESCRIPTION:📝 Description and Salsa Style: All type of Salsa\, Bachata and Timba. \n💃 Dancer Level: Mostly beginner and intermediate. \n👥 Average Age: 40-65 years old\, all ages welcome. \n🔄 Recurrence: Occasionally.
URL:https://bcnsalsacalendar.com/event/salsa-time-sbt-2/2026-05-24/
LOCATION:Estación de Francia\, Avinguda del Marqués de L'Argentera\, s/n\, Ciutat Vella\, 08003 Barcelona\, Barcelona\, Catalonia\, 08003\, Spain
CATEGORIES:Salsa Cubana,Salsa&Bachata,SalsaOn1,SalsaOn2,Son Cubano,Timba
ATTACH;FMTTYPE=image/png:https://bcnsalsacalendar.com/wp-content/uploads/2025/03/Estacion-de-francia.png
END:VEVENT
BEGIN:VEVENT
DTSTART;TZID=UTC:20260528T193000
DTEND;TZID=UTC:20260528T223000
DTSTAMP:20260419T182127
CREATED:20250304T124512Z
LAST-MODIFIED:20250724T084911Z
UID:10009898-1779996600-1780007400@bcnsalsacalendar.com
SUMMARY:Safestay Hostel - Salsa & Bachata
DESCRIPTION:📝 Description and Salsa Style: All type of Salsa and Bachata. \n💃 Dancer Level: Mostly beginner and intermediate. \n👥 Average Age: 30-50 years old\, all ages welcome. \n🔄 Recurrence: Occasionally.
URL:https://bcnsalsacalendar.com/event/safestay-hostel-salsabachata/2026-05-28/
LOCATION:Safestay Hostel\, Pg. de Gràcia\, 33\, Barcelona\, Cataluna\, 08007\, Spain
CATEGORIES:Salsa Cubana,Salsa&Bachata,SalsaOn1,SalsaOn2,Timba
ATTACH;FMTTYPE=image/png:https://bcnsalsacalendar.com/wp-content/uploads/2025/03/Gallo-Loco-1.png
END:VEVENT
BEGIN:VEVENT
DTSTART;TZID=UTC:20260531T190000
DTEND;TZID=UTC:20260531T230000
DTSTAMP:20260419T182127
CREATED:20250921T133403Z
LAST-MODIFIED:20251126T110934Z
UID:10022101-1780254000-1780268400@bcnsalsacalendar.com
SUMMARY:Salsa Bachata Timba - Estación de Francia
DESCRIPTION:📝 Description and Salsa Style: All type of Salsa\, Bachata and Timba. \n💃 Dancer Level: Mostly beginner and intermediate. \n👥 Average Age: 40-65 years old\, all ages welcome. \n🔄 Recurrence: Occasionally.
URL:https://bcnsalsacalendar.com/event/salsa-time-sbt-2/2026-05-31/
LOCATION:Estación de Francia\, Avinguda del Marqués de L'Argentera\, s/n\, Ciutat Vella\, 08003 Barcelona\, Barcelona\, Catalonia\, 08003\, Spain
CATEGORIES:Salsa Cubana,Salsa&Bachata,SalsaOn1,SalsaOn2,Son Cubano,Timba
ATTACH;FMTTYPE=image/png:https://bcnsalsacalendar.com/wp-content/uploads/2025/03/Estacion-de-francia.png
END:VEVENT
BEGIN:VEVENT
DTSTART;TZID=UTC:20260604T193000
DTEND;TZID=UTC:20260604T223000
DTSTAMP:20260419T182127
CREATED:20250304T124512Z
LAST-MODIFIED:20250724T084911Z
UID:10009899-1780601400-1780612200@bcnsalsacalendar.com
SUMMARY:Safestay Hostel - Salsa & Bachata
DESCRIPTION:📝 Description and Salsa Style: All type of Salsa and Bachata. \n💃 Dancer Level: Mostly beginner and intermediate. \n👥 Average Age: 30-50 years old\, all ages welcome. \n🔄 Recurrence: Occasionally.
URL:https://bcnsalsacalendar.com/event/safestay-hostel-salsabachata/2026-06-04/
LOCATION:Safestay Hostel\, Pg. de Gràcia\, 33\, Barcelona\, Cataluna\, 08007\, Spain
CATEGORIES:Salsa Cubana,Salsa&Bachata,SalsaOn1,SalsaOn2,Timba
ATTACH;FMTTYPE=image/png:https://bcnsalsacalendar.com/wp-content/uploads/2025/03/Gallo-Loco-1.png
END:VEVENT
BEGIN:VEVENT
DTSTART;TZID=UTC:20260607T190000
DTEND;TZID=UTC:20260607T230000
DTSTAMP:20260419T182127
CREATED:20250921T133403Z
LAST-MODIFIED:20251126T110934Z
UID:10022102-1780858800-1780873200@bcnsalsacalendar.com
SUMMARY:Salsa Bachata Timba - Estación de Francia
DESCRIPTION:📝 Description and Salsa Style: All type of Salsa\, Bachata and Timba. \n💃 Dancer Level: Mostly beginner and intermediate. \n👥 Average Age: 40-65 years old\, all ages welcome. \n🔄 Recurrence: Occasionally.
URL:https://bcnsalsacalendar.com/event/salsa-time-sbt-2/2026-06-07/
LOCATION:Estación de Francia\, Avinguda del Marqués de L'Argentera\, s/n\, Ciutat Vella\, 08003 Barcelona\, Barcelona\, Catalonia\, 08003\, Spain
CATEGORIES:Salsa Cubana,Salsa&Bachata,SalsaOn1,SalsaOn2,Son Cubano,Timba
ATTACH;FMTTYPE=image/png:https://bcnsalsacalendar.com/wp-content/uploads/2025/03/Estacion-de-francia.png
END:VEVENT
BEGIN:VEVENT
DTSTART;TZID=UTC:20260611T193000
DTEND;TZID=UTC:20260611T223000
DTSTAMP:20260419T182127
CREATED:20250304T124512Z
LAST-MODIFIED:20250724T084911Z
UID:10009900-1781206200-1781217000@bcnsalsacalendar.com
SUMMARY:Safestay Hostel - Salsa & Bachata
DESCRIPTION:📝 Description and Salsa Style: All type of Salsa and Bachata. \n💃 Dancer Level: Mostly beginner and intermediate. \n👥 Average Age: 30-50 years old\, all ages welcome. \n🔄 Recurrence: Occasionally.
URL:https://bcnsalsacalendar.com/event/safestay-hostel-salsabachata/2026-06-11/
LOCATION:Safestay Hostel\, Pg. de Gràcia\, 33\, Barcelona\, Cataluna\, 08007\, Spain
CATEGORIES:Salsa Cubana,Salsa&Bachata,SalsaOn1,SalsaOn2,Timba
ATTACH;FMTTYPE=image/png:https://bcnsalsacalendar.com/wp-content/uploads/2025/03/Gallo-Loco-1.png
END:VEVENT
BEGIN:VEVENT
DTSTART;TZID=UTC:20260614T190000
DTEND;TZID=UTC:20260614T230000
DTSTAMP:20260419T182127
CREATED:20250921T133403Z
LAST-MODIFIED:20251126T110934Z
UID:10022103-1781463600-1781478000@bcnsalsacalendar.com
SUMMARY:Salsa Bachata Timba - Estación de Francia
DESCRIPTION:📝 Description and Salsa Style: All type of Salsa\, Bachata and Timba. \n💃 Dancer Level: Mostly beginner and intermediate. \n👥 Average Age: 40-65 years old\, all ages welcome. \n🔄 Recurrence: Occasionally.
URL:https://bcnsalsacalendar.com/event/salsa-time-sbt-2/2026-06-14/
LOCATION:Estación de Francia\, Avinguda del Marqués de L'Argentera\, s/n\, Ciutat Vella\, 08003 Barcelona\, Barcelona\, Catalonia\, 08003\, Spain
CATEGORIES:Salsa Cubana,Salsa&Bachata,SalsaOn1,SalsaOn2,Son Cubano,Timba
ATTACH;FMTTYPE=image/png:https://bcnsalsacalendar.com/wp-content/uploads/2025/03/Estacion-de-francia.png
END:VEVENT
BEGIN:VEVENT
DTSTART;TZID=UTC:20260618T193000
DTEND;TZID=UTC:20260618T223000
DTSTAMP:20260419T182127
CREATED:20250304T124512Z
LAST-MODIFIED:20250724T084911Z
UID:10009901-1781811000-1781821800@bcnsalsacalendar.com
SUMMARY:Safestay Hostel - Salsa & Bachata
DESCRIPTION:📝 Description and Salsa Style: All type of Salsa and Bachata. \n💃 Dancer Level: Mostly beginner and intermediate. \n👥 Average Age: 30-50 years old\, all ages welcome. \n🔄 Recurrence: Occasionally.
URL:https://bcnsalsacalendar.com/event/safestay-hostel-salsabachata/2026-06-18/
LOCATION:Safestay Hostel\, Pg. de Gràcia\, 33\, Barcelona\, Cataluna\, 08007\, Spain
CATEGORIES:Salsa Cubana,Salsa&Bachata,SalsaOn1,SalsaOn2,Timba
ATTACH;FMTTYPE=image/png:https://bcnsalsacalendar.com/wp-content/uploads/2025/03/Gallo-Loco-1.png
END:VEVENT
BEGIN:VEVENT
DTSTART;TZID=UTC:20260621T190000
DTEND;TZID=UTC:20260621T230000
DTSTAMP:20260419T182127
CREATED:20250921T133403Z
LAST-MODIFIED:20251126T110934Z
UID:10022104-1782068400-1782082800@bcnsalsacalendar.com
SUMMARY:Salsa Bachata Timba - Estación de Francia
DESCRIPTION:📝 Description and Salsa Style: All type of Salsa\, Bachata and Timba. \n💃 Dancer Level: Mostly beginner and intermediate. \n👥 Average Age: 40-65 years old\, all ages welcome. \n🔄 Recurrence: Occasionally.
URL:https://bcnsalsacalendar.com/event/salsa-time-sbt-2/2026-06-21/
LOCATION:Estación de Francia\, Avinguda del Marqués de L'Argentera\, s/n\, Ciutat Vella\, 08003 Barcelona\, Barcelona\, Catalonia\, 08003\, Spain
CATEGORIES:Salsa Cubana,Salsa&Bachata,SalsaOn1,SalsaOn2,Son Cubano,Timba
ATTACH;FMTTYPE=image/png:https://bcnsalsacalendar.com/wp-content/uploads/2025/03/Estacion-de-francia.png
END:VEVENT
BEGIN:VEVENT
DTSTART;TZID=UTC:20260625T193000
DTEND;TZID=UTC:20260625T223000
DTSTAMP:20260419T182127
CREATED:20250304T124512Z
LAST-MODIFIED:20250724T084911Z
UID:10009902-1782415800-1782426600@bcnsalsacalendar.com
SUMMARY:Safestay Hostel - Salsa & Bachata
DESCRIPTION:📝 Description and Salsa Style: All type of Salsa and Bachata. \n💃 Dancer Level: Mostly beginner and intermediate. \n👥 Average Age: 30-50 years old\, all ages welcome. \n🔄 Recurrence: Occasionally.
URL:https://bcnsalsacalendar.com/event/safestay-hostel-salsabachata/2026-06-25/
LOCATION:Safestay Hostel\, Pg. de Gràcia\, 33\, Barcelona\, Cataluna\, 08007\, Spain
CATEGORIES:Salsa Cubana,Salsa&Bachata,SalsaOn1,SalsaOn2,Timba
ATTACH;FMTTYPE=image/png:https://bcnsalsacalendar.com/wp-content/uploads/2025/03/Gallo-Loco-1.png
END:VEVENT
BEGIN:VEVENT
DTSTART;TZID=UTC:20260628T190000
DTEND;TZID=UTC:20260628T230000
DTSTAMP:20260419T182127
CREATED:20250921T133403Z
LAST-MODIFIED:20251126T110934Z
UID:10022105-1782673200-1782687600@bcnsalsacalendar.com
SUMMARY:Salsa Bachata Timba - Estación de Francia
DESCRIPTION:📝 Description and Salsa Style: All type of Salsa\, Bachata and Timba. \n💃 Dancer Level: Mostly beginner and intermediate. \n👥 Average Age: 40-65 years old\, all ages welcome. \n🔄 Recurrence: Occasionally.
URL:https://bcnsalsacalendar.com/event/salsa-time-sbt-2/2026-06-28/
LOCATION:Estación de Francia\, Avinguda del Marqués de L'Argentera\, s/n\, Ciutat Vella\, 08003 Barcelona\, Barcelona\, Catalonia\, 08003\, Spain
CATEGORIES:Salsa Cubana,Salsa&Bachata,SalsaOn1,SalsaOn2,Son Cubano,Timba
ATTACH;FMTTYPE=image/png:https://bcnsalsacalendar.com/wp-content/uploads/2025/03/Estacion-de-francia.png
END:VEVENT
BEGIN:VEVENT
DTSTART;TZID=UTC:20260702T193000
DTEND;TZID=UTC:20260702T223000
DTSTAMP:20260419T182127
CREATED:20250304T124512Z
LAST-MODIFIED:20250724T084911Z
UID:10009903-1783020600-1783031400@bcnsalsacalendar.com
SUMMARY:Safestay Hostel - Salsa & Bachata
DESCRIPTION:📝 Description and Salsa Style: All type of Salsa and Bachata. \n💃 Dancer Level: Mostly beginner and intermediate. \n👥 Average Age: 30-50 years old\, all ages welcome. \n🔄 Recurrence: Occasionally.
URL:https://bcnsalsacalendar.com/event/safestay-hostel-salsabachata/2026-07-02/
LOCATION:Safestay Hostel\, Pg. de Gràcia\, 33\, Barcelona\, Cataluna\, 08007\, Spain
CATEGORIES:Salsa Cubana,Salsa&Bachata,SalsaOn1,SalsaOn2,Timba
ATTACH;FMTTYPE=image/png:https://bcnsalsacalendar.com/wp-content/uploads/2025/03/Gallo-Loco-1.png
END:VEVENT
BEGIN:VEVENT
DTSTART;TZID=UTC:20260705T190000
DTEND;TZID=UTC:20260705T230000
DTSTAMP:20260419T182127
CREATED:20250921T133403Z
LAST-MODIFIED:20251126T110934Z
UID:10022106-1783278000-1783292400@bcnsalsacalendar.com
SUMMARY:Salsa Bachata Timba - Estación de Francia
DESCRIPTION:📝 Description and Salsa Style: All type of Salsa\, Bachata and Timba. \n💃 Dancer Level: Mostly beginner and intermediate. \n👥 Average Age: 40-65 years old\, all ages welcome. \n🔄 Recurrence: Occasionally.
URL:https://bcnsalsacalendar.com/event/salsa-time-sbt-2/2026-07-05/
LOCATION:Estación de Francia\, Avinguda del Marqués de L'Argentera\, s/n\, Ciutat Vella\, 08003 Barcelona\, Barcelona\, Catalonia\, 08003\, Spain
CATEGORIES:Salsa Cubana,Salsa&Bachata,SalsaOn1,SalsaOn2,Son Cubano,Timba
ATTACH;FMTTYPE=image/png:https://bcnsalsacalendar.com/wp-content/uploads/2025/03/Estacion-de-francia.png
END:VEVENT
BEGIN:VEVENT
DTSTART;TZID=UTC:20260709T193000
DTEND;TZID=UTC:20260709T223000
DTSTAMP:20260419T182127
CREATED:20250304T124512Z
LAST-MODIFIED:20250724T084911Z
UID:10009904-1783625400-1783636200@bcnsalsacalendar.com
SUMMARY:Safestay Hostel - Salsa & Bachata
DESCRIPTION:📝 Description and Salsa Style: All type of Salsa and Bachata. \n💃 Dancer Level: Mostly beginner and intermediate. \n👥 Average Age: 30-50 years old\, all ages welcome. \n🔄 Recurrence: Occasionally.
URL:https://bcnsalsacalendar.com/event/safestay-hostel-salsabachata/2026-07-09/
LOCATION:Safestay Hostel\, Pg. de Gràcia\, 33\, Barcelona\, Cataluna\, 08007\, Spain
CATEGORIES:Salsa Cubana,Salsa&Bachata,SalsaOn1,SalsaOn2,Timba
ATTACH;FMTTYPE=image/png:https://bcnsalsacalendar.com/wp-content/uploads/2025/03/Gallo-Loco-1.png
END:VEVENT
BEGIN:VEVENT
DTSTART;TZID=UTC:20260712T190000
DTEND;TZID=UTC:20260712T230000
DTSTAMP:20260419T182127
CREATED:20250921T133403Z
LAST-MODIFIED:20251126T110934Z
UID:10022107-1783882800-1783897200@bcnsalsacalendar.com
SUMMARY:Salsa Bachata Timba - Estación de Francia
DESCRIPTION:📝 Description and Salsa Style: All type of Salsa\, Bachata and Timba. \n💃 Dancer Level: Mostly beginner and intermediate. \n👥 Average Age: 40-65 years old\, all ages welcome. \n🔄 Recurrence: Occasionally.
URL:https://bcnsalsacalendar.com/event/salsa-time-sbt-2/2026-07-12/
LOCATION:Estación de Francia\, Avinguda del Marqués de L'Argentera\, s/n\, Ciutat Vella\, 08003 Barcelona\, Barcelona\, Catalonia\, 08003\, Spain
CATEGORIES:Salsa Cubana,Salsa&Bachata,SalsaOn1,SalsaOn2,Son Cubano,Timba
ATTACH;FMTTYPE=image/png:https://bcnsalsacalendar.com/wp-content/uploads/2025/03/Estacion-de-francia.png
END:VEVENT
BEGIN:VEVENT
DTSTART;TZID=UTC:20260716T193000
DTEND;TZID=UTC:20260716T223000
DTSTAMP:20260419T182127
CREATED:20250304T124512Z
LAST-MODIFIED:20250724T084911Z
UID:10009905-1784230200-1784241000@bcnsalsacalendar.com
SUMMARY:Safestay Hostel - Salsa & Bachata
DESCRIPTION:📝 Description and Salsa Style: All type of Salsa and Bachata. \n💃 Dancer Level: Mostly beginner and intermediate. \n👥 Average Age: 30-50 years old\, all ages welcome. \n🔄 Recurrence: Occasionally.
URL:https://bcnsalsacalendar.com/event/safestay-hostel-salsabachata/2026-07-16/
LOCATION:Safestay Hostel\, Pg. de Gràcia\, 33\, Barcelona\, Cataluna\, 08007\, Spain
CATEGORIES:Salsa Cubana,Salsa&Bachata,SalsaOn1,SalsaOn2,Timba
ATTACH;FMTTYPE=image/png:https://bcnsalsacalendar.com/wp-content/uploads/2025/03/Gallo-Loco-1.png
END:VEVENT
BEGIN:VEVENT
DTSTART;TZID=UTC:20260719T190000
DTEND;TZID=UTC:20260719T230000
DTSTAMP:20260419T182127
CREATED:20250921T133403Z
LAST-MODIFIED:20251126T110934Z
UID:10022108-1784487600-1784502000@bcnsalsacalendar.com
SUMMARY:Salsa Bachata Timba - Estación de Francia
DESCRIPTION:📝 Description and Salsa Style: All type of Salsa\, Bachata and Timba. \n💃 Dancer Level: Mostly beginner and intermediate. \n👥 Average Age: 40-65 years old\, all ages welcome. \n🔄 Recurrence: Occasionally.
URL:https://bcnsalsacalendar.com/event/salsa-time-sbt-2/2026-07-19/
LOCATION:Estación de Francia\, Avinguda del Marqués de L'Argentera\, s/n\, Ciutat Vella\, 08003 Barcelona\, Barcelona\, Catalonia\, 08003\, Spain
CATEGORIES:Salsa Cubana,Salsa&Bachata,SalsaOn1,SalsaOn2,Son Cubano,Timba
ATTACH;FMTTYPE=image/png:https://bcnsalsacalendar.com/wp-content/uploads/2025/03/Estacion-de-francia.png
END:VEVENT
BEGIN:VEVENT
DTSTART;TZID=UTC:20260723T193000
DTEND;TZID=UTC:20260723T223000
DTSTAMP:20260419T182127
CREATED:20250304T124512Z
LAST-MODIFIED:20250724T084911Z
UID:10009906-1784835000-1784845800@bcnsalsacalendar.com
SUMMARY:Safestay Hostel - Salsa & Bachata
DESCRIPTION:📝 Description and Salsa Style: All type of Salsa and Bachata. \n💃 Dancer Level: Mostly beginner and intermediate. \n👥 Average Age: 30-50 years old\, all ages welcome. \n🔄 Recurrence: Occasionally.
URL:https://bcnsalsacalendar.com/event/safestay-hostel-salsabachata/2026-07-23/
LOCATION:Safestay Hostel\, Pg. de Gràcia\, 33\, Barcelona\, Cataluna\, 08007\, Spain
CATEGORIES:Salsa Cubana,Salsa&Bachata,SalsaOn1,SalsaOn2,Timba
ATTACH;FMTTYPE=image/png:https://bcnsalsacalendar.com/wp-content/uploads/2025/03/Gallo-Loco-1.png
END:VEVENT
BEGIN:VEVENT
DTSTART;TZID=UTC:20260726T190000
DTEND;TZID=UTC:20260726T230000
DTSTAMP:20260419T182127
CREATED:20250921T133403Z
LAST-MODIFIED:20251126T110934Z
UID:10022109-1785092400-1785106800@bcnsalsacalendar.com
SUMMARY:Salsa Bachata Timba - Estación de Francia
DESCRIPTION:📝 Description and Salsa Style: All type of Salsa\, Bachata and Timba. \n💃 Dancer Level: Mostly beginner and intermediate. \n👥 Average Age: 40-65 years old\, all ages welcome. \n🔄 Recurrence: Occasionally.
URL:https://bcnsalsacalendar.com/event/salsa-time-sbt-2/2026-07-26/
LOCATION:Estación de Francia\, Avinguda del Marqués de L'Argentera\, s/n\, Ciutat Vella\, 08003 Barcelona\, Barcelona\, Catalonia\, 08003\, Spain
CATEGORIES:Salsa Cubana,Salsa&Bachata,SalsaOn1,SalsaOn2,Son Cubano,Timba
ATTACH;FMTTYPE=image/png:https://bcnsalsacalendar.com/wp-content/uploads/2025/03/Estacion-de-francia.png
END:VEVENT
BEGIN:VEVENT
DTSTART;TZID=UTC:20260730T193000
DTEND;TZID=UTC:20260730T223000
DTSTAMP:20260419T182127
CREATED:20250304T124512Z
LAST-MODIFIED:20250724T084911Z
UID:10009907-1785439800-1785450600@bcnsalsacalendar.com
SUMMARY:Safestay Hostel - Salsa & Bachata
DESCRIPTION:📝 Description and Salsa Style: All type of Salsa and Bachata. \n💃 Dancer Level: Mostly beginner and intermediate. \n👥 Average Age: 30-50 years old\, all ages welcome. \n🔄 Recurrence: Occasionally.
URL:https://bcnsalsacalendar.com/event/safestay-hostel-salsabachata/2026-07-30/
LOCATION:Safestay Hostel\, Pg. de Gràcia\, 33\, Barcelona\, Cataluna\, 08007\, Spain
CATEGORIES:Salsa Cubana,Salsa&Bachata,SalsaOn1,SalsaOn2,Timba
ATTACH;FMTTYPE=image/png:https://bcnsalsacalendar.com/wp-content/uploads/2025/03/Gallo-Loco-1.png
END:VEVENT
END:VCALENDAR