BEGIN:VCALENDAR
VERSION:2.0
PRODID:-//Welcome - ECPv6.15.20//NONSGML v1.0//EN
CALSCALE:GREGORIAN
METHOD:PUBLISH
X-WR-CALNAME:Welcome
X-ORIGINAL-URL:https://bcnsalsacalendar.com
X-WR-CALDESC:Events for Welcome
REFRESH-INTERVAL;VALUE=DURATION:PT1H
X-Robots-Tag:noindex
X-PUBLISHED-TTL:PT1H
BEGIN:VTIMEZONE
TZID:UTC
BEGIN:STANDARD
TZOFFSETFROM:+0000
TZOFFSETTO:+0000
TZNAME:UTC
DTSTART:20250101T000000
END:STANDARD
END:VTIMEZONE
BEGIN:VEVENT
DTSTART;TZID=UTC:20260702T193000
DTEND;TZID=UTC:20260702T223000
DTSTAMP:20260423T052820
CREATED:20250304T124512Z
LAST-MODIFIED:20250724T084911Z
UID:10009903-1783020600-1783031400@bcnsalsacalendar.com
SUMMARY:Safestay Hostel - Salsa & Bachata
DESCRIPTION:📝 Description and Salsa Style: All type of Salsa and Bachata. \n💃 Dancer Level: Mostly beginner and intermediate. \n👥 Average Age: 30-50 years old\, all ages welcome. \n🔄 Recurrence: Occasionally.
URL:https://bcnsalsacalendar.com/event/safestay-hostel-salsabachata/2026-07-02/
LOCATION:Safestay Hostel\, Pg. de Gràcia\, 33\, Barcelona\, Cataluna\, 08007\, Spain
CATEGORIES:Salsa Cubana,Salsa&Bachata,SalsaOn1,SalsaOn2,Timba
ATTACH;FMTTYPE=image/png:https://bcnsalsacalendar.com/wp-content/uploads/2025/03/Gallo-Loco-1.png
END:VEVENT
BEGIN:VEVENT
DTSTART;TZID=UTC:20260705T190000
DTEND;TZID=UTC:20260705T230000
DTSTAMP:20260423T052820
CREATED:20250921T133403Z
LAST-MODIFIED:20251126T110934Z
UID:10022106-1783278000-1783292400@bcnsalsacalendar.com
SUMMARY:Salsa Bachata Timba - Estación de Francia
DESCRIPTION:📝 Description and Salsa Style: All type of Salsa\, Bachata and Timba. \n💃 Dancer Level: Mostly beginner and intermediate. \n👥 Average Age: 40-65 years old\, all ages welcome. \n🔄 Recurrence: Occasionally.
URL:https://bcnsalsacalendar.com/event/salsa-time-sbt-2/2026-07-05/
LOCATION:Estación de Francia\, Avinguda del Marqués de L'Argentera\, s/n\, Ciutat Vella\, 08003 Barcelona\, Barcelona\, Catalonia\, 08003\, Spain
CATEGORIES:Salsa Cubana,Salsa&Bachata,SalsaOn1,SalsaOn2,Son Cubano,Timba
ATTACH;FMTTYPE=image/png:https://bcnsalsacalendar.com/wp-content/uploads/2025/03/Estacion-de-francia.png
END:VEVENT
BEGIN:VEVENT
DTSTART;TZID=UTC:20260709T193000
DTEND;TZID=UTC:20260709T223000
DTSTAMP:20260423T052820
CREATED:20250304T124512Z
LAST-MODIFIED:20250724T084911Z
UID:10009904-1783625400-1783636200@bcnsalsacalendar.com
SUMMARY:Safestay Hostel - Salsa & Bachata
DESCRIPTION:📝 Description and Salsa Style: All type of Salsa and Bachata. \n💃 Dancer Level: Mostly beginner and intermediate. \n👥 Average Age: 30-50 years old\, all ages welcome. \n🔄 Recurrence: Occasionally.
URL:https://bcnsalsacalendar.com/event/safestay-hostel-salsabachata/2026-07-09/
LOCATION:Safestay Hostel\, Pg. de Gràcia\, 33\, Barcelona\, Cataluna\, 08007\, Spain
CATEGORIES:Salsa Cubana,Salsa&Bachata,SalsaOn1,SalsaOn2,Timba
ATTACH;FMTTYPE=image/png:https://bcnsalsacalendar.com/wp-content/uploads/2025/03/Gallo-Loco-1.png
END:VEVENT
BEGIN:VEVENT
DTSTART;TZID=UTC:20260712T190000
DTEND;TZID=UTC:20260712T230000
DTSTAMP:20260423T052820
CREATED:20250921T133403Z
LAST-MODIFIED:20251126T110934Z
UID:10022107-1783882800-1783897200@bcnsalsacalendar.com
SUMMARY:Salsa Bachata Timba - Estación de Francia
DESCRIPTION:📝 Description and Salsa Style: All type of Salsa\, Bachata and Timba. \n💃 Dancer Level: Mostly beginner and intermediate. \n👥 Average Age: 40-65 years old\, all ages welcome. \n🔄 Recurrence: Occasionally.
URL:https://bcnsalsacalendar.com/event/salsa-time-sbt-2/2026-07-12/
LOCATION:Estación de Francia\, Avinguda del Marqués de L'Argentera\, s/n\, Ciutat Vella\, 08003 Barcelona\, Barcelona\, Catalonia\, 08003\, Spain
CATEGORIES:Salsa Cubana,Salsa&Bachata,SalsaOn1,SalsaOn2,Son Cubano,Timba
ATTACH;FMTTYPE=image/png:https://bcnsalsacalendar.com/wp-content/uploads/2025/03/Estacion-de-francia.png
END:VEVENT
BEGIN:VEVENT
DTSTART;TZID=UTC:20260716T193000
DTEND;TZID=UTC:20260716T223000
DTSTAMP:20260423T052820
CREATED:20250304T124512Z
LAST-MODIFIED:20250724T084911Z
UID:10009905-1784230200-1784241000@bcnsalsacalendar.com
SUMMARY:Safestay Hostel - Salsa & Bachata
DESCRIPTION:📝 Description and Salsa Style: All type of Salsa and Bachata. \n💃 Dancer Level: Mostly beginner and intermediate. \n👥 Average Age: 30-50 years old\, all ages welcome. \n🔄 Recurrence: Occasionally.
URL:https://bcnsalsacalendar.com/event/safestay-hostel-salsabachata/2026-07-16/
LOCATION:Safestay Hostel\, Pg. de Gràcia\, 33\, Barcelona\, Cataluna\, 08007\, Spain
CATEGORIES:Salsa Cubana,Salsa&Bachata,SalsaOn1,SalsaOn2,Timba
ATTACH;FMTTYPE=image/png:https://bcnsalsacalendar.com/wp-content/uploads/2025/03/Gallo-Loco-1.png
END:VEVENT
BEGIN:VEVENT
DTSTART;TZID=UTC:20260719T190000
DTEND;TZID=UTC:20260719T230000
DTSTAMP:20260423T052820
CREATED:20250921T133403Z
LAST-MODIFIED:20251126T110934Z
UID:10022108-1784487600-1784502000@bcnsalsacalendar.com
SUMMARY:Salsa Bachata Timba - Estación de Francia
DESCRIPTION:📝 Description and Salsa Style: All type of Salsa\, Bachata and Timba. \n💃 Dancer Level: Mostly beginner and intermediate. \n👥 Average Age: 40-65 years old\, all ages welcome. \n🔄 Recurrence: Occasionally.
URL:https://bcnsalsacalendar.com/event/salsa-time-sbt-2/2026-07-19/
LOCATION:Estación de Francia\, Avinguda del Marqués de L'Argentera\, s/n\, Ciutat Vella\, 08003 Barcelona\, Barcelona\, Catalonia\, 08003\, Spain
CATEGORIES:Salsa Cubana,Salsa&Bachata,SalsaOn1,SalsaOn2,Son Cubano,Timba
ATTACH;FMTTYPE=image/png:https://bcnsalsacalendar.com/wp-content/uploads/2025/03/Estacion-de-francia.png
END:VEVENT
BEGIN:VEVENT
DTSTART;TZID=UTC:20260723T193000
DTEND;TZID=UTC:20260723T223000
DTSTAMP:20260423T052820
CREATED:20250304T124512Z
LAST-MODIFIED:20250724T084911Z
UID:10009906-1784835000-1784845800@bcnsalsacalendar.com
SUMMARY:Safestay Hostel - Salsa & Bachata
DESCRIPTION:📝 Description and Salsa Style: All type of Salsa and Bachata. \n💃 Dancer Level: Mostly beginner and intermediate. \n👥 Average Age: 30-50 years old\, all ages welcome. \n🔄 Recurrence: Occasionally.
URL:https://bcnsalsacalendar.com/event/safestay-hostel-salsabachata/2026-07-23/
LOCATION:Safestay Hostel\, Pg. de Gràcia\, 33\, Barcelona\, Cataluna\, 08007\, Spain
CATEGORIES:Salsa Cubana,Salsa&Bachata,SalsaOn1,SalsaOn2,Timba
ATTACH;FMTTYPE=image/png:https://bcnsalsacalendar.com/wp-content/uploads/2025/03/Gallo-Loco-1.png
END:VEVENT
BEGIN:VEVENT
DTSTART;TZID=UTC:20260726T190000
DTEND;TZID=UTC:20260726T230000
DTSTAMP:20260423T052820
CREATED:20250921T133403Z
LAST-MODIFIED:20251126T110934Z
UID:10022109-1785092400-1785106800@bcnsalsacalendar.com
SUMMARY:Salsa Bachata Timba - Estación de Francia
DESCRIPTION:📝 Description and Salsa Style: All type of Salsa\, Bachata and Timba. \n💃 Dancer Level: Mostly beginner and intermediate. \n👥 Average Age: 40-65 years old\, all ages welcome. \n🔄 Recurrence: Occasionally.
URL:https://bcnsalsacalendar.com/event/salsa-time-sbt-2/2026-07-26/
LOCATION:Estación de Francia\, Avinguda del Marqués de L'Argentera\, s/n\, Ciutat Vella\, 08003 Barcelona\, Barcelona\, Catalonia\, 08003\, Spain
CATEGORIES:Salsa Cubana,Salsa&Bachata,SalsaOn1,SalsaOn2,Son Cubano,Timba
ATTACH;FMTTYPE=image/png:https://bcnsalsacalendar.com/wp-content/uploads/2025/03/Estacion-de-francia.png
END:VEVENT
BEGIN:VEVENT
DTSTART;TZID=UTC:20260730T193000
DTEND;TZID=UTC:20260730T223000
DTSTAMP:20260423T052820
CREATED:20250304T124512Z
LAST-MODIFIED:20250724T084911Z
UID:10009907-1785439800-1785450600@bcnsalsacalendar.com
SUMMARY:Safestay Hostel - Salsa & Bachata
DESCRIPTION:📝 Description and Salsa Style: All type of Salsa and Bachata. \n💃 Dancer Level: Mostly beginner and intermediate. \n👥 Average Age: 30-50 years old\, all ages welcome. \n🔄 Recurrence: Occasionally.
URL:https://bcnsalsacalendar.com/event/safestay-hostel-salsabachata/2026-07-30/
LOCATION:Safestay Hostel\, Pg. de Gràcia\, 33\, Barcelona\, Cataluna\, 08007\, Spain
CATEGORIES:Salsa Cubana,Salsa&Bachata,SalsaOn1,SalsaOn2,Timba
ATTACH;FMTTYPE=image/png:https://bcnsalsacalendar.com/wp-content/uploads/2025/03/Gallo-Loco-1.png
END:VEVENT
BEGIN:VEVENT
DTSTART;TZID=UTC:20260802T190000
DTEND;TZID=UTC:20260802T230000
DTSTAMP:20260423T052820
CREATED:20250921T133403Z
LAST-MODIFIED:20251126T110934Z
UID:10022110-1785697200-1785711600@bcnsalsacalendar.com
SUMMARY:Salsa Bachata Timba - Estación de Francia
DESCRIPTION:📝 Description and Salsa Style: All type of Salsa\, Bachata and Timba. \n💃 Dancer Level: Mostly beginner and intermediate. \n👥 Average Age: 40-65 years old\, all ages welcome. \n🔄 Recurrence: Occasionally.
URL:https://bcnsalsacalendar.com/event/salsa-time-sbt-2/2026-08-02/
LOCATION:Estación de Francia\, Avinguda del Marqués de L'Argentera\, s/n\, Ciutat Vella\, 08003 Barcelona\, Barcelona\, Catalonia\, 08003\, Spain
CATEGORIES:Salsa Cubana,Salsa&Bachata,SalsaOn1,SalsaOn2,Son Cubano,Timba
ATTACH;FMTTYPE=image/png:https://bcnsalsacalendar.com/wp-content/uploads/2025/03/Estacion-de-francia.png
END:VEVENT
BEGIN:VEVENT
DTSTART;TZID=UTC:20260806T193000
DTEND;TZID=UTC:20260806T223000
DTSTAMP:20260423T052820
CREATED:20250304T124512Z
LAST-MODIFIED:20250724T084911Z
UID:10009908-1786044600-1786055400@bcnsalsacalendar.com
SUMMARY:Safestay Hostel - Salsa & Bachata
DESCRIPTION:📝 Description and Salsa Style: All type of Salsa and Bachata. \n💃 Dancer Level: Mostly beginner and intermediate. \n👥 Average Age: 30-50 years old\, all ages welcome. \n🔄 Recurrence: Occasionally.
URL:https://bcnsalsacalendar.com/event/safestay-hostel-salsabachata/2026-08-06/
LOCATION:Safestay Hostel\, Pg. de Gràcia\, 33\, Barcelona\, Cataluna\, 08007\, Spain
CATEGORIES:Salsa Cubana,Salsa&Bachata,SalsaOn1,SalsaOn2,Timba
ATTACH;FMTTYPE=image/png:https://bcnsalsacalendar.com/wp-content/uploads/2025/03/Gallo-Loco-1.png
END:VEVENT
BEGIN:VEVENT
DTSTART;TZID=UTC:20260809T190000
DTEND;TZID=UTC:20260809T230000
DTSTAMP:20260423T052820
CREATED:20250921T133403Z
LAST-MODIFIED:20251126T110934Z
UID:10022111-1786302000-1786316400@bcnsalsacalendar.com
SUMMARY:Salsa Bachata Timba - Estación de Francia
DESCRIPTION:📝 Description and Salsa Style: All type of Salsa\, Bachata and Timba. \n💃 Dancer Level: Mostly beginner and intermediate. \n👥 Average Age: 40-65 years old\, all ages welcome. \n🔄 Recurrence: Occasionally.
URL:https://bcnsalsacalendar.com/event/salsa-time-sbt-2/2026-08-09/
LOCATION:Estación de Francia\, Avinguda del Marqués de L'Argentera\, s/n\, Ciutat Vella\, 08003 Barcelona\, Barcelona\, Catalonia\, 08003\, Spain
CATEGORIES:Salsa Cubana,Salsa&Bachata,SalsaOn1,SalsaOn2,Son Cubano,Timba
ATTACH;FMTTYPE=image/png:https://bcnsalsacalendar.com/wp-content/uploads/2025/03/Estacion-de-francia.png
END:VEVENT
BEGIN:VEVENT
DTSTART;TZID=UTC:20260813T193000
DTEND;TZID=UTC:20260813T223000
DTSTAMP:20260423T052820
CREATED:20250304T124512Z
LAST-MODIFIED:20250724T084911Z
UID:10009909-1786649400-1786660200@bcnsalsacalendar.com
SUMMARY:Safestay Hostel - Salsa & Bachata
DESCRIPTION:📝 Description and Salsa Style: All type of Salsa and Bachata. \n💃 Dancer Level: Mostly beginner and intermediate. \n👥 Average Age: 30-50 years old\, all ages welcome. \n🔄 Recurrence: Occasionally.
URL:https://bcnsalsacalendar.com/event/safestay-hostel-salsabachata/2026-08-13/
LOCATION:Safestay Hostel\, Pg. de Gràcia\, 33\, Barcelona\, Cataluna\, 08007\, Spain
CATEGORIES:Salsa Cubana,Salsa&Bachata,SalsaOn1,SalsaOn2,Timba
ATTACH;FMTTYPE=image/png:https://bcnsalsacalendar.com/wp-content/uploads/2025/03/Gallo-Loco-1.png
END:VEVENT
BEGIN:VEVENT
DTSTART;TZID=UTC:20260816T190000
DTEND;TZID=UTC:20260816T230000
DTSTAMP:20260423T052820
CREATED:20250921T133403Z
LAST-MODIFIED:20251126T110934Z
UID:10022112-1786906800-1786921200@bcnsalsacalendar.com
SUMMARY:Salsa Bachata Timba - Estación de Francia
DESCRIPTION:📝 Description and Salsa Style: All type of Salsa\, Bachata and Timba. \n💃 Dancer Level: Mostly beginner and intermediate. \n👥 Average Age: 40-65 years old\, all ages welcome. \n🔄 Recurrence: Occasionally.
URL:https://bcnsalsacalendar.com/event/salsa-time-sbt-2/2026-08-16/
LOCATION:Estación de Francia\, Avinguda del Marqués de L'Argentera\, s/n\, Ciutat Vella\, 08003 Barcelona\, Barcelona\, Catalonia\, 08003\, Spain
CATEGORIES:Salsa Cubana,Salsa&Bachata,SalsaOn1,SalsaOn2,Son Cubano,Timba
ATTACH;FMTTYPE=image/png:https://bcnsalsacalendar.com/wp-content/uploads/2025/03/Estacion-de-francia.png
END:VEVENT
BEGIN:VEVENT
DTSTART;TZID=UTC:20260820T193000
DTEND;TZID=UTC:20260820T223000
DTSTAMP:20260423T052820
CREATED:20250304T124512Z
LAST-MODIFIED:20250724T084911Z
UID:10009910-1787254200-1787265000@bcnsalsacalendar.com
SUMMARY:Safestay Hostel - Salsa & Bachata
DESCRIPTION:📝 Description and Salsa Style: All type of Salsa and Bachata. \n💃 Dancer Level: Mostly beginner and intermediate. \n👥 Average Age: 30-50 years old\, all ages welcome. \n🔄 Recurrence: Occasionally.
URL:https://bcnsalsacalendar.com/event/safestay-hostel-salsabachata/2026-08-20/
LOCATION:Safestay Hostel\, Pg. de Gràcia\, 33\, Barcelona\, Cataluna\, 08007\, Spain
CATEGORIES:Salsa Cubana,Salsa&Bachata,SalsaOn1,SalsaOn2,Timba
ATTACH;FMTTYPE=image/png:https://bcnsalsacalendar.com/wp-content/uploads/2025/03/Gallo-Loco-1.png
END:VEVENT
BEGIN:VEVENT
DTSTART;TZID=UTC:20260823T190000
DTEND;TZID=UTC:20260823T230000
DTSTAMP:20260423T052820
CREATED:20250921T133403Z
LAST-MODIFIED:20251126T110934Z
UID:10022113-1787511600-1787526000@bcnsalsacalendar.com
SUMMARY:Salsa Bachata Timba - Estación de Francia
DESCRIPTION:📝 Description and Salsa Style: All type of Salsa\, Bachata and Timba. \n💃 Dancer Level: Mostly beginner and intermediate. \n👥 Average Age: 40-65 years old\, all ages welcome. \n🔄 Recurrence: Occasionally.
URL:https://bcnsalsacalendar.com/event/salsa-time-sbt-2/2026-08-23/
LOCATION:Estación de Francia\, Avinguda del Marqués de L'Argentera\, s/n\, Ciutat Vella\, 08003 Barcelona\, Barcelona\, Catalonia\, 08003\, Spain
CATEGORIES:Salsa Cubana,Salsa&Bachata,SalsaOn1,SalsaOn2,Son Cubano,Timba
ATTACH;FMTTYPE=image/png:https://bcnsalsacalendar.com/wp-content/uploads/2025/03/Estacion-de-francia.png
END:VEVENT
BEGIN:VEVENT
DTSTART;TZID=UTC:20260827T193000
DTEND;TZID=UTC:20260827T223000
DTSTAMP:20260423T052820
CREATED:20250304T124512Z
LAST-MODIFIED:20250724T084911Z
UID:10009911-1787859000-1787869800@bcnsalsacalendar.com
SUMMARY:Safestay Hostel - Salsa & Bachata
DESCRIPTION:📝 Description and Salsa Style: All type of Salsa and Bachata. \n💃 Dancer Level: Mostly beginner and intermediate. \n👥 Average Age: 30-50 years old\, all ages welcome. \n🔄 Recurrence: Occasionally.
URL:https://bcnsalsacalendar.com/event/safestay-hostel-salsabachata/2026-08-27/
LOCATION:Safestay Hostel\, Pg. de Gràcia\, 33\, Barcelona\, Cataluna\, 08007\, Spain
CATEGORIES:Salsa Cubana,Salsa&Bachata,SalsaOn1,SalsaOn2,Timba
ATTACH;FMTTYPE=image/png:https://bcnsalsacalendar.com/wp-content/uploads/2025/03/Gallo-Loco-1.png
END:VEVENT
BEGIN:VEVENT
DTSTART;TZID=UTC:20260830T190000
DTEND;TZID=UTC:20260830T230000
DTSTAMP:20260423T052820
CREATED:20250921T133403Z
LAST-MODIFIED:20251126T110934Z
UID:10022114-1788116400-1788130800@bcnsalsacalendar.com
SUMMARY:Salsa Bachata Timba - Estación de Francia
DESCRIPTION:📝 Description and Salsa Style: All type of Salsa\, Bachata and Timba. \n💃 Dancer Level: Mostly beginner and intermediate. \n👥 Average Age: 40-65 years old\, all ages welcome. \n🔄 Recurrence: Occasionally.
URL:https://bcnsalsacalendar.com/event/salsa-time-sbt-2/2026-08-30/
LOCATION:Estación de Francia\, Avinguda del Marqués de L'Argentera\, s/n\, Ciutat Vella\, 08003 Barcelona\, Barcelona\, Catalonia\, 08003\, Spain
CATEGORIES:Salsa Cubana,Salsa&Bachata,SalsaOn1,SalsaOn2,Son Cubano,Timba
ATTACH;FMTTYPE=image/png:https://bcnsalsacalendar.com/wp-content/uploads/2025/03/Estacion-de-francia.png
END:VEVENT
BEGIN:VEVENT
DTSTART;TZID=UTC:20260903T193000
DTEND;TZID=UTC:20260903T223000
DTSTAMP:20260423T052820
CREATED:20250304T124512Z
LAST-MODIFIED:20250724T084911Z
UID:10009912-1788463800-1788474600@bcnsalsacalendar.com
SUMMARY:Safestay Hostel - Salsa & Bachata
DESCRIPTION:📝 Description and Salsa Style: All type of Salsa and Bachata. \n💃 Dancer Level: Mostly beginner and intermediate. \n👥 Average Age: 30-50 years old\, all ages welcome. \n🔄 Recurrence: Occasionally.
URL:https://bcnsalsacalendar.com/event/safestay-hostel-salsabachata/2026-09-03/
LOCATION:Safestay Hostel\, Pg. de Gràcia\, 33\, Barcelona\, Cataluna\, 08007\, Spain
CATEGORIES:Salsa Cubana,Salsa&Bachata,SalsaOn1,SalsaOn2,Timba
ATTACH;FMTTYPE=image/png:https://bcnsalsacalendar.com/wp-content/uploads/2025/03/Gallo-Loco-1.png
END:VEVENT
BEGIN:VEVENT
DTSTART;TZID=UTC:20260906T190000
DTEND;TZID=UTC:20260906T230000
DTSTAMP:20260423T052820
CREATED:20250921T133403Z
LAST-MODIFIED:20251126T110934Z
UID:10022115-1788721200-1788735600@bcnsalsacalendar.com
SUMMARY:Salsa Bachata Timba - Estación de Francia
DESCRIPTION:📝 Description and Salsa Style: All type of Salsa\, Bachata and Timba. \n💃 Dancer Level: Mostly beginner and intermediate. \n👥 Average Age: 40-65 years old\, all ages welcome. \n🔄 Recurrence: Occasionally.
URL:https://bcnsalsacalendar.com/event/salsa-time-sbt-2/2026-09-06/
LOCATION:Estación de Francia\, Avinguda del Marqués de L'Argentera\, s/n\, Ciutat Vella\, 08003 Barcelona\, Barcelona\, Catalonia\, 08003\, Spain
CATEGORIES:Salsa Cubana,Salsa&Bachata,SalsaOn1,SalsaOn2,Son Cubano,Timba
ATTACH;FMTTYPE=image/png:https://bcnsalsacalendar.com/wp-content/uploads/2025/03/Estacion-de-francia.png
END:VEVENT
BEGIN:VEVENT
DTSTART;TZID=UTC:20260910T193000
DTEND;TZID=UTC:20260910T223000
DTSTAMP:20260423T052820
CREATED:20250304T124512Z
LAST-MODIFIED:20250724T084911Z
UID:10009913-1789068600-1789079400@bcnsalsacalendar.com
SUMMARY:Safestay Hostel - Salsa & Bachata
DESCRIPTION:📝 Description and Salsa Style: All type of Salsa and Bachata. \n💃 Dancer Level: Mostly beginner and intermediate. \n👥 Average Age: 30-50 years old\, all ages welcome. \n🔄 Recurrence: Occasionally.
URL:https://bcnsalsacalendar.com/event/safestay-hostel-salsabachata/2026-09-10/
LOCATION:Safestay Hostel\, Pg. de Gràcia\, 33\, Barcelona\, Cataluna\, 08007\, Spain
CATEGORIES:Salsa Cubana,Salsa&Bachata,SalsaOn1,SalsaOn2,Timba
ATTACH;FMTTYPE=image/png:https://bcnsalsacalendar.com/wp-content/uploads/2025/03/Gallo-Loco-1.png
END:VEVENT
BEGIN:VEVENT
DTSTART;TZID=UTC:20260913T190000
DTEND;TZID=UTC:20260913T230000
DTSTAMP:20260423T052820
CREATED:20250921T133403Z
LAST-MODIFIED:20251126T110934Z
UID:10022116-1789326000-1789340400@bcnsalsacalendar.com
SUMMARY:Salsa Bachata Timba - Estación de Francia
DESCRIPTION:📝 Description and Salsa Style: All type of Salsa\, Bachata and Timba. \n💃 Dancer Level: Mostly beginner and intermediate. \n👥 Average Age: 40-65 years old\, all ages welcome. \n🔄 Recurrence: Occasionally.
URL:https://bcnsalsacalendar.com/event/salsa-time-sbt-2/2026-09-13/
LOCATION:Estación de Francia\, Avinguda del Marqués de L'Argentera\, s/n\, Ciutat Vella\, 08003 Barcelona\, Barcelona\, Catalonia\, 08003\, Spain
CATEGORIES:Salsa Cubana,Salsa&Bachata,SalsaOn1,SalsaOn2,Son Cubano,Timba
ATTACH;FMTTYPE=image/png:https://bcnsalsacalendar.com/wp-content/uploads/2025/03/Estacion-de-francia.png
END:VEVENT
BEGIN:VEVENT
DTSTART;TZID=UTC:20260917T193000
DTEND;TZID=UTC:20260917T223000
DTSTAMP:20260423T052820
CREATED:20250304T124512Z
LAST-MODIFIED:20250724T084911Z
UID:10009914-1789673400-1789684200@bcnsalsacalendar.com
SUMMARY:Safestay Hostel - Salsa & Bachata
DESCRIPTION:📝 Description and Salsa Style: All type of Salsa and Bachata. \n💃 Dancer Level: Mostly beginner and intermediate. \n👥 Average Age: 30-50 years old\, all ages welcome. \n🔄 Recurrence: Occasionally.
URL:https://bcnsalsacalendar.com/event/safestay-hostel-salsabachata/2026-09-17/
LOCATION:Safestay Hostel\, Pg. de Gràcia\, 33\, Barcelona\, Cataluna\, 08007\, Spain
CATEGORIES:Salsa Cubana,Salsa&Bachata,SalsaOn1,SalsaOn2,Timba
ATTACH;FMTTYPE=image/png:https://bcnsalsacalendar.com/wp-content/uploads/2025/03/Gallo-Loco-1.png
END:VEVENT
BEGIN:VEVENT
DTSTART;TZID=UTC:20260920T190000
DTEND;TZID=UTC:20260920T230000
DTSTAMP:20260423T052820
CREATED:20250921T133403Z
LAST-MODIFIED:20251126T110934Z
UID:10022117-1789930800-1789945200@bcnsalsacalendar.com
SUMMARY:Salsa Bachata Timba - Estación de Francia
DESCRIPTION:📝 Description and Salsa Style: All type of Salsa\, Bachata and Timba. \n💃 Dancer Level: Mostly beginner and intermediate. \n👥 Average Age: 40-65 years old\, all ages welcome. \n🔄 Recurrence: Occasionally.
URL:https://bcnsalsacalendar.com/event/salsa-time-sbt-2/2026-09-20/
LOCATION:Estación de Francia\, Avinguda del Marqués de L'Argentera\, s/n\, Ciutat Vella\, 08003 Barcelona\, Barcelona\, Catalonia\, 08003\, Spain
CATEGORIES:Salsa Cubana,Salsa&Bachata,SalsaOn1,SalsaOn2,Son Cubano,Timba
ATTACH;FMTTYPE=image/png:https://bcnsalsacalendar.com/wp-content/uploads/2025/03/Estacion-de-francia.png
END:VEVENT
BEGIN:VEVENT
DTSTART;TZID=UTC:20260924T193000
DTEND;TZID=UTC:20260924T223000
DTSTAMP:20260423T052820
CREATED:20250304T124512Z
LAST-MODIFIED:20250724T084911Z
UID:10009915-1790278200-1790289000@bcnsalsacalendar.com
SUMMARY:Safestay Hostel - Salsa & Bachata
DESCRIPTION:📝 Description and Salsa Style: All type of Salsa and Bachata. \n💃 Dancer Level: Mostly beginner and intermediate. \n👥 Average Age: 30-50 years old\, all ages welcome. \n🔄 Recurrence: Occasionally.
URL:https://bcnsalsacalendar.com/event/safestay-hostel-salsabachata/2026-09-24/
LOCATION:Safestay Hostel\, Pg. de Gràcia\, 33\, Barcelona\, Cataluna\, 08007\, Spain
CATEGORIES:Salsa Cubana,Salsa&Bachata,SalsaOn1,SalsaOn2,Timba
ATTACH;FMTTYPE=image/png:https://bcnsalsacalendar.com/wp-content/uploads/2025/03/Gallo-Loco-1.png
END:VEVENT
BEGIN:VEVENT
DTSTART;TZID=UTC:20260927T190000
DTEND;TZID=UTC:20260927T230000
DTSTAMP:20260423T052820
CREATED:20250921T133403Z
LAST-MODIFIED:20251126T110934Z
UID:10022118-1790535600-1790550000@bcnsalsacalendar.com
SUMMARY:Salsa Bachata Timba - Estación de Francia
DESCRIPTION:📝 Description and Salsa Style: All type of Salsa\, Bachata and Timba. \n💃 Dancer Level: Mostly beginner and intermediate. \n👥 Average Age: 40-65 years old\, all ages welcome. \n🔄 Recurrence: Occasionally.
URL:https://bcnsalsacalendar.com/event/salsa-time-sbt-2/2026-09-27/
LOCATION:Estación de Francia\, Avinguda del Marqués de L'Argentera\, s/n\, Ciutat Vella\, 08003 Barcelona\, Barcelona\, Catalonia\, 08003\, Spain
CATEGORIES:Salsa Cubana,Salsa&Bachata,SalsaOn1,SalsaOn2,Son Cubano,Timba
ATTACH;FMTTYPE=image/png:https://bcnsalsacalendar.com/wp-content/uploads/2025/03/Estacion-de-francia.png
END:VEVENT
BEGIN:VEVENT
DTSTART;TZID=UTC:20261001T193000
DTEND;TZID=UTC:20261001T223000
DTSTAMP:20260423T052820
CREATED:20250304T124512Z
LAST-MODIFIED:20250724T084911Z
UID:10009916-1790883000-1790893800@bcnsalsacalendar.com
SUMMARY:Safestay Hostel - Salsa & Bachata
DESCRIPTION:📝 Description and Salsa Style: All type of Salsa and Bachata. \n💃 Dancer Level: Mostly beginner and intermediate. \n👥 Average Age: 30-50 years old\, all ages welcome. \n🔄 Recurrence: Occasionally.
URL:https://bcnsalsacalendar.com/event/safestay-hostel-salsabachata/2026-10-01/
LOCATION:Safestay Hostel\, Pg. de Gràcia\, 33\, Barcelona\, Cataluna\, 08007\, Spain
CATEGORIES:Salsa Cubana,Salsa&Bachata,SalsaOn1,SalsaOn2,Timba
ATTACH;FMTTYPE=image/png:https://bcnsalsacalendar.com/wp-content/uploads/2025/03/Gallo-Loco-1.png
END:VEVENT
BEGIN:VEVENT
DTSTART;TZID=UTC:20261004T190000
DTEND;TZID=UTC:20261004T230000
DTSTAMP:20260423T052820
CREATED:20250921T133403Z
LAST-MODIFIED:20251126T110934Z
UID:10022119-1791140400-1791154800@bcnsalsacalendar.com
SUMMARY:Salsa Bachata Timba - Estación de Francia
DESCRIPTION:📝 Description and Salsa Style: All type of Salsa\, Bachata and Timba. \n💃 Dancer Level: Mostly beginner and intermediate. \n👥 Average Age: 40-65 years old\, all ages welcome. \n🔄 Recurrence: Occasionally.
URL:https://bcnsalsacalendar.com/event/salsa-time-sbt-2/2026-10-04/
LOCATION:Estación de Francia\, Avinguda del Marqués de L'Argentera\, s/n\, Ciutat Vella\, 08003 Barcelona\, Barcelona\, Catalonia\, 08003\, Spain
CATEGORIES:Salsa Cubana,Salsa&Bachata,SalsaOn1,SalsaOn2,Son Cubano,Timba
ATTACH;FMTTYPE=image/png:https://bcnsalsacalendar.com/wp-content/uploads/2025/03/Estacion-de-francia.png
END:VEVENT
BEGIN:VEVENT
DTSTART;TZID=UTC:20261008T193000
DTEND;TZID=UTC:20261008T223000
DTSTAMP:20260423T052820
CREATED:20250304T124512Z
LAST-MODIFIED:20250724T084911Z
UID:10009917-1791487800-1791498600@bcnsalsacalendar.com
SUMMARY:Safestay Hostel - Salsa & Bachata
DESCRIPTION:📝 Description and Salsa Style: All type of Salsa and Bachata. \n💃 Dancer Level: Mostly beginner and intermediate. \n👥 Average Age: 30-50 years old\, all ages welcome. \n🔄 Recurrence: Occasionally.
URL:https://bcnsalsacalendar.com/event/safestay-hostel-salsabachata/2026-10-08/
LOCATION:Safestay Hostel\, Pg. de Gràcia\, 33\, Barcelona\, Cataluna\, 08007\, Spain
CATEGORIES:Salsa Cubana,Salsa&Bachata,SalsaOn1,SalsaOn2,Timba
ATTACH;FMTTYPE=image/png:https://bcnsalsacalendar.com/wp-content/uploads/2025/03/Gallo-Loco-1.png
END:VEVENT
BEGIN:VEVENT
DTSTART;TZID=UTC:20261011T190000
DTEND;TZID=UTC:20261011T230000
DTSTAMP:20260423T052820
CREATED:20250921T133403Z
LAST-MODIFIED:20251126T110934Z
UID:10022120-1791745200-1791759600@bcnsalsacalendar.com
SUMMARY:Salsa Bachata Timba - Estación de Francia
DESCRIPTION:📝 Description and Salsa Style: All type of Salsa\, Bachata and Timba. \n💃 Dancer Level: Mostly beginner and intermediate. \n👥 Average Age: 40-65 years old\, all ages welcome. \n🔄 Recurrence: Occasionally.
URL:https://bcnsalsacalendar.com/event/salsa-time-sbt-2/2026-10-11/
LOCATION:Estación de Francia\, Avinguda del Marqués de L'Argentera\, s/n\, Ciutat Vella\, 08003 Barcelona\, Barcelona\, Catalonia\, 08003\, Spain
CATEGORIES:Salsa Cubana,Salsa&Bachata,SalsaOn1,SalsaOn2,Son Cubano,Timba
ATTACH;FMTTYPE=image/png:https://bcnsalsacalendar.com/wp-content/uploads/2025/03/Estacion-de-francia.png
END:VEVENT
END:VCALENDAR