BEGIN:VCALENDAR
VERSION:2.0
PRODID:-//Welcome - ECPv6.15.20//NONSGML v1.0//EN
CALSCALE:GREGORIAN
METHOD:PUBLISH
X-ORIGINAL-URL:https://bcnsalsacalendar.com
X-WR-CALDESC:Events for Welcome
REFRESH-INTERVAL;VALUE=DURATION:PT1H
X-Robots-Tag:noindex
X-PUBLISHED-TTL:PT1H
BEGIN:VTIMEZONE
TZID:UTC
BEGIN:STANDARD
TZOFFSETFROM:+0000
TZOFFSETTO:+0000
TZNAME:UTC
DTSTART:20240101T000000
END:STANDARD
END:VTIMEZONE
BEGIN:VEVENT
DTSTART;TZID=UTC:20260123T220000
DTEND;TZID=UTC:20260124T013000
DTSTAMP:20260422T025532
CREATED:20250603T131240Z
LAST-MODIFIED:20260120T203634Z
UID:10023056-1769205600-1769218200@bcnsalsacalendar.com
SUMMARY:Salsamia - Salsa & Bachata
DESCRIPTION:📝 Description and Salsa Style: 80% Salsa 20% Bachata. Salsa On1 and Salsa On2 \n💃 Dancer Level: All levels. \n👥 Average Age: 20-50 years old\, all ages welcome. \n🔄 Recurrence: Occasionally.
URL:https://bcnsalsacalendar.com/event/salsamia-salsa-bachata/2026-01-23/
LOCATION:Bananas Burger\, Carrer de la Fusina\, 7\, Ciutat Vella\, Barcelona\, Barcelona\, 08003\, Spain
CATEGORIES:Salsa&Bachata,SalsaOn1,SalsaOn2,Son Cubano
ATTACH;FMTTYPE=image/jpeg:https://bcnsalsacalendar.com/wp-content/uploads/2025/06/Screenshot_20260120_213215_Instagram.jpg
END:VEVENT
BEGIN:VEVENT
DTSTART;TZID=UTC:20251107T210000
DTEND;TZID=UTC:20251108T013000
DTSTAMP:20260422T025532
CREATED:20250603T131240Z
LAST-MODIFIED:20260120T203634Z
UID:10022883-1762549200-1762565400@bcnsalsacalendar.com
SUMMARY:Salsamia - Salsa & Bachata
DESCRIPTION:📝 Description and Salsa Style: 80% Salsa 20% Bachata. Salsa On1 and Salsa On2 \n💃 Dancer Level: All levels. \n👥 Average Age: 20-50 years old\, all ages welcome. \n🔄 Recurrence: Occasionally.
URL:https://bcnsalsacalendar.com/event/salsamia-salsa-bachata/2025-11-07/
LOCATION:Bananas Burger\, Carrer de la Fusina\, 7\, Ciutat Vella\, Barcelona\, Barcelona\, 08003\, Spain
CATEGORIES:Salsa&Bachata,SalsaOn1,SalsaOn2,Son Cubano
ATTACH;FMTTYPE=image/jpeg:https://bcnsalsacalendar.com/wp-content/uploads/2025/06/Screenshot_20260120_213215_Instagram.jpg
END:VEVENT
BEGIN:VEVENT
DTSTART;TZID=UTC:20251005T183000
DTEND;TZID=UTC:20251005T223000
DTSTAMP:20260422T025532
CREATED:20250603T131240Z
LAST-MODIFIED:20260120T203634Z
UID:10022867-1759689000-1759703400@bcnsalsacalendar.com
SUMMARY:Salsamia - Salsa & Bachata
DESCRIPTION:📝 Description and Salsa Style: 80% Salsa 20% Bachata. Salsa On1 and Salsa On2 \n💃 Dancer Level: All levels. \n👥 Average Age: 20-50 years old\, all ages welcome. \n🔄 Recurrence: Occasionally.
URL:https://bcnsalsacalendar.com/event/salsamia-salsa-bachata/2025-10-05/
LOCATION:Bananas Burger\, Carrer de la Fusina\, 7\, Ciutat Vella\, Barcelona\, Barcelona\, 08003\, Spain
CATEGORIES:Salsa&Bachata,SalsaOn1,SalsaOn2,Son Cubano
ATTACH;FMTTYPE=image/jpeg:https://bcnsalsacalendar.com/wp-content/uploads/2025/06/Screenshot_20260120_213215_Instagram.jpg
END:VEVENT
BEGIN:VEVENT
DTSTART;TZID=UTC:20250914T183000
DTEND;TZID=UTC:20250914T223000
DTSTAMP:20260422T025532
CREATED:20250603T131240Z
LAST-MODIFIED:20260120T203634Z
UID:10021774-1757874600-1757889000@bcnsalsacalendar.com
SUMMARY:Salsamia - Salsa & Bachata
DESCRIPTION:📝 Description and Salsa Style: 80% Salsa 20% Bachata. Salsa On1 and Salsa On2 \n💃 Dancer Level: All levels. \n👥 Average Age: 20-50 years old\, all ages welcome. \n🔄 Recurrence: Occasionally.
URL:https://bcnsalsacalendar.com/event/salsamia-salsa-bachata/2025-09-14/
LOCATION:Bananas Burger\, Carrer de la Fusina\, 7\, Ciutat Vella\, Barcelona\, Barcelona\, 08003\, Spain
CATEGORIES:Salsa&Bachata,SalsaOn1,SalsaOn2,Son Cubano
ATTACH;FMTTYPE=image/jpeg:https://bcnsalsacalendar.com/wp-content/uploads/2025/06/Screenshot_20260120_213215_Instagram.jpg
END:VEVENT
BEGIN:VEVENT
DTSTART;TZID=UTC:20250713T183000
DTEND;TZID=UTC:20250713T223000
DTSTAMP:20260422T025532
CREATED:20250603T131240Z
LAST-MODIFIED:20260120T203634Z
UID:10011943-1752431400-1752445800@bcnsalsacalendar.com
SUMMARY:Salsamia - Salsa & Bachata
DESCRIPTION:📝 Description and Salsa Style: 80% Salsa 20% Bachata. Salsa On1 and Salsa On2 \n💃 Dancer Level: All levels. \n👥 Average Age: 20-50 years old\, all ages welcome. \n🔄 Recurrence: Occasionally.
URL:https://bcnsalsacalendar.com/event/salsamia-salsa-bachata/2025-07-13/
LOCATION:Bananas Burger\, Carrer de la Fusina\, 7\, Ciutat Vella\, Barcelona\, Barcelona\, 08003\, Spain
CATEGORIES:Salsa&Bachata,SalsaOn1,SalsaOn2,Son Cubano
ATTACH;FMTTYPE=image/jpeg:https://bcnsalsacalendar.com/wp-content/uploads/2025/06/Screenshot_20260120_213215_Instagram.jpg
END:VEVENT
END:VCALENDAR