BEGIN:VCALENDAR
VERSION:2.0
PRODID:-//Welcome - ECPv6.15.20//NONSGML v1.0//EN
CALSCALE:GREGORIAN
METHOD:PUBLISH
X-WR-CALNAME:Welcome
X-ORIGINAL-URL:https://bcnsalsacalendar.com
X-WR-CALDESC:Events for Welcome
REFRESH-INTERVAL;VALUE=DURATION:PT1H
X-Robots-Tag:noindex
X-PUBLISHED-TTL:PT1H
BEGIN:VTIMEZONE
TZID:UTC
BEGIN:STANDARD
TZOFFSETFROM:+0000
TZOFFSETTO:+0000
TZNAME:UTC
DTSTART:20250101T000000
END:STANDARD
END:VTIMEZONE
BEGIN:VEVENT
DTSTART;TZID=UTC:20260422T190000
DTEND;TZID=UTC:20260422T213000
DTSTAMP:20260424T181328
CREATED:20250309T111433Z
LAST-MODIFIED:20251230T224434Z
UID:10022634-1776884400-1776893400@bcnsalsacalendar.com
SUMMARY:Free Outdoor Salsa & Bachata en Glòries
DESCRIPTION:📝 Description and Salsa Style: Free outdoor Salsa & Bachata  event. \n💃 Dancer Level: Mostly beginner and intermediate. \n👥 Average Age: 20-50 years old\, all ages welcome. \n🔄 Recurrence: Every Sunday. Sometime during the week.
URL:https://bcnsalsacalendar.com/event/free-outdoor-salsa/2026-04-22/
LOCATION:Plaça de les Glòries\, Plaça de les Glòries Catalanes\, Sant Martí\, Barcelona\, O8013\, Spain
CATEGORIES:Salsa Cubana,Salsa&Bachata,SalsaOn1,SalsaOn2,Son Cubano,Timba
ATTACH;FMTTYPE=image/png:https://bcnsalsacalendar.com/wp-content/uploads/2025/08/Captura-de-pantalla-2025-08-22-095128.png
END:VEVENT
BEGIN:VEVENT
DTSTART;TZID=UTC:20260417T190000
DTEND;TZID=UTC:20260417T220000
DTSTAMP:20260424T181328
CREATED:20250822T075428Z
LAST-MODIFIED:20250822T165419Z
UID:10019804-1776452400-1776463200@bcnsalsacalendar.com
SUMMARY:Free Outdoor Salsa and Timba Social
DESCRIPTION:📝 Description and Salsa Style: Free outdoor event in Parque de las Glorias. 100% Timba. \n💃 Dancer Level: All levels. \n👥 Average Age: 25-45 years old\, all ages welcome. \n🔄 Recurrence: Every Friday.
URL:https://bcnsalsacalendar.com/event/timba-cuitadella-3-2-2/2026-04-17/
LOCATION:Plaça de les Glòries\, Plaça de les Glòries Catalanes\, Sant Martí\, Barcelona\, O8013\, Spain
CATEGORIES:Salsa Cubana,Son Cubano,Timba
ATTACH;FMTTYPE=image/png:https://bcnsalsacalendar.com/wp-content/uploads/2025/08/Captura-de-pantalla-2025-08-22-095128.png
END:VEVENT
BEGIN:VEVENT
DTSTART;TZID=UTC:20260415T190000
DTEND;TZID=UTC:20260415T213000
DTSTAMP:20260424T181328
CREATED:20250309T111433Z
LAST-MODIFIED:20251230T224434Z
UID:10022633-1776279600-1776288600@bcnsalsacalendar.com
SUMMARY:Free Outdoor Salsa & Bachata en Glòries
DESCRIPTION:📝 Description and Salsa Style: Free outdoor Salsa & Bachata  event. \n💃 Dancer Level: Mostly beginner and intermediate. \n👥 Average Age: 20-50 years old\, all ages welcome. \n🔄 Recurrence: Every Sunday. Sometime during the week.
URL:https://bcnsalsacalendar.com/event/free-outdoor-salsa/2026-04-15/
LOCATION:Plaça de les Glòries\, Plaça de les Glòries Catalanes\, Sant Martí\, Barcelona\, O8013\, Spain
CATEGORIES:Salsa Cubana,Salsa&Bachata,SalsaOn1,SalsaOn2,Son Cubano,Timba
ATTACH;FMTTYPE=image/png:https://bcnsalsacalendar.com/wp-content/uploads/2025/08/Captura-de-pantalla-2025-08-22-095128.png
END:VEVENT
BEGIN:VEVENT
DTSTART;TZID=UTC:20260410T190000
DTEND;TZID=UTC:20260410T220000
DTSTAMP:20260424T181328
CREATED:20250822T075428Z
LAST-MODIFIED:20250822T165419Z
UID:10019803-1775847600-1775858400@bcnsalsacalendar.com
SUMMARY:Free Outdoor Salsa and Timba Social
DESCRIPTION:📝 Description and Salsa Style: Free outdoor event in Parque de las Glorias. 100% Timba. \n💃 Dancer Level: All levels. \n👥 Average Age: 25-45 years old\, all ages welcome. \n🔄 Recurrence: Every Friday.
URL:https://bcnsalsacalendar.com/event/timba-cuitadella-3-2-2/2026-04-10/
LOCATION:Plaça de les Glòries\, Plaça de les Glòries Catalanes\, Sant Martí\, Barcelona\, O8013\, Spain
CATEGORIES:Salsa Cubana,Son Cubano,Timba
ATTACH;FMTTYPE=image/png:https://bcnsalsacalendar.com/wp-content/uploads/2025/08/Captura-de-pantalla-2025-08-22-095128.png
END:VEVENT
BEGIN:VEVENT
DTSTART;TZID=UTC:20260408T190000
DTEND;TZID=UTC:20260408T213000
DTSTAMP:20260424T181328
CREATED:20250309T111433Z
LAST-MODIFIED:20251230T224434Z
UID:10022632-1775674800-1775683800@bcnsalsacalendar.com
SUMMARY:Free Outdoor Salsa & Bachata en Glòries
DESCRIPTION:📝 Description and Salsa Style: Free outdoor Salsa & Bachata  event. \n💃 Dancer Level: Mostly beginner and intermediate. \n👥 Average Age: 20-50 years old\, all ages welcome. \n🔄 Recurrence: Every Sunday. Sometime during the week.
URL:https://bcnsalsacalendar.com/event/free-outdoor-salsa/2026-04-08/
LOCATION:Plaça de les Glòries\, Plaça de les Glòries Catalanes\, Sant Martí\, Barcelona\, O8013\, Spain
CATEGORIES:Salsa Cubana,Salsa&Bachata,SalsaOn1,SalsaOn2,Son Cubano,Timba
ATTACH;FMTTYPE=image/png:https://bcnsalsacalendar.com/wp-content/uploads/2025/08/Captura-de-pantalla-2025-08-22-095128.png
END:VEVENT
BEGIN:VEVENT
DTSTART;TZID=UTC:20260403T190000
DTEND;TZID=UTC:20260403T220000
DTSTAMP:20260424T181328
CREATED:20250822T075428Z
LAST-MODIFIED:20250822T165419Z
UID:10019802-1775242800-1775253600@bcnsalsacalendar.com
SUMMARY:Free Outdoor Salsa and Timba Social
DESCRIPTION:📝 Description and Salsa Style: Free outdoor event in Parque de las Glorias. 100% Timba. \n💃 Dancer Level: All levels. \n👥 Average Age: 25-45 years old\, all ages welcome. \n🔄 Recurrence: Every Friday.
URL:https://bcnsalsacalendar.com/event/timba-cuitadella-3-2-2/2026-04-03/
LOCATION:Plaça de les Glòries\, Plaça de les Glòries Catalanes\, Sant Martí\, Barcelona\, O8013\, Spain
CATEGORIES:Salsa Cubana,Son Cubano,Timba
ATTACH;FMTTYPE=image/png:https://bcnsalsacalendar.com/wp-content/uploads/2025/08/Captura-de-pantalla-2025-08-22-095128.png
END:VEVENT
BEGIN:VEVENT
DTSTART;TZID=UTC:20260401T190000
DTEND;TZID=UTC:20260401T213000
DTSTAMP:20260424T181328
CREATED:20250309T111433Z
LAST-MODIFIED:20251230T224434Z
UID:10022631-1775070000-1775079000@bcnsalsacalendar.com
SUMMARY:Free Outdoor Salsa & Bachata en Glòries
DESCRIPTION:📝 Description and Salsa Style: Free outdoor Salsa & Bachata  event. \n💃 Dancer Level: Mostly beginner and intermediate. \n👥 Average Age: 20-50 years old\, all ages welcome. \n🔄 Recurrence: Every Sunday. Sometime during the week.
URL:https://bcnsalsacalendar.com/event/free-outdoor-salsa/2026-04-01/
LOCATION:Plaça de les Glòries\, Plaça de les Glòries Catalanes\, Sant Martí\, Barcelona\, O8013\, Spain
CATEGORIES:Salsa Cubana,Salsa&Bachata,SalsaOn1,SalsaOn2,Son Cubano,Timba
ATTACH;FMTTYPE=image/png:https://bcnsalsacalendar.com/wp-content/uploads/2025/08/Captura-de-pantalla-2025-08-22-095128.png
END:VEVENT
BEGIN:VEVENT
DTSTART;TZID=UTC:20260327T190000
DTEND;TZID=UTC:20260327T220000
DTSTAMP:20260424T181328
CREATED:20250822T075428Z
LAST-MODIFIED:20250822T165419Z
UID:10019801-1774638000-1774648800@bcnsalsacalendar.com
SUMMARY:Free Outdoor Salsa and Timba Social
DESCRIPTION:📝 Description and Salsa Style: Free outdoor event in Parque de las Glorias. 100% Timba. \n💃 Dancer Level: All levels. \n👥 Average Age: 25-45 years old\, all ages welcome. \n🔄 Recurrence: Every Friday.
URL:https://bcnsalsacalendar.com/event/timba-cuitadella-3-2-2/2026-03-27/
LOCATION:Plaça de les Glòries\, Plaça de les Glòries Catalanes\, Sant Martí\, Barcelona\, O8013\, Spain
CATEGORIES:Salsa Cubana,Son Cubano,Timba
ATTACH;FMTTYPE=image/png:https://bcnsalsacalendar.com/wp-content/uploads/2025/08/Captura-de-pantalla-2025-08-22-095128.png
END:VEVENT
BEGIN:VEVENT
DTSTART;TZID=UTC:20260325T190000
DTEND;TZID=UTC:20260325T213000
DTSTAMP:20260424T181328
CREATED:20250309T111433Z
LAST-MODIFIED:20251230T224434Z
UID:10022630-1774465200-1774474200@bcnsalsacalendar.com
SUMMARY:Free Outdoor Salsa & Bachata en Glòries
DESCRIPTION:📝 Description and Salsa Style: Free outdoor Salsa & Bachata  event. \n💃 Dancer Level: Mostly beginner and intermediate. \n👥 Average Age: 20-50 years old\, all ages welcome. \n🔄 Recurrence: Every Sunday. Sometime during the week.
URL:https://bcnsalsacalendar.com/event/free-outdoor-salsa/2026-03-25/
LOCATION:Plaça de les Glòries\, Plaça de les Glòries Catalanes\, Sant Martí\, Barcelona\, O8013\, Spain
CATEGORIES:Salsa Cubana,Salsa&Bachata,SalsaOn1,SalsaOn2,Son Cubano,Timba
ATTACH;FMTTYPE=image/png:https://bcnsalsacalendar.com/wp-content/uploads/2025/08/Captura-de-pantalla-2025-08-22-095128.png
END:VEVENT
BEGIN:VEVENT
DTSTART;TZID=UTC:20260320T190000
DTEND;TZID=UTC:20260320T220000
DTSTAMP:20260424T181328
CREATED:20250822T075428Z
LAST-MODIFIED:20250822T165419Z
UID:10019800-1774033200-1774044000@bcnsalsacalendar.com
SUMMARY:Free Outdoor Salsa and Timba Social
DESCRIPTION:📝 Description and Salsa Style: Free outdoor event in Parque de las Glorias. 100% Timba. \n💃 Dancer Level: All levels. \n👥 Average Age: 25-45 years old\, all ages welcome. \n🔄 Recurrence: Every Friday.
URL:https://bcnsalsacalendar.com/event/timba-cuitadella-3-2-2/2026-03-20/
LOCATION:Plaça de les Glòries\, Plaça de les Glòries Catalanes\, Sant Martí\, Barcelona\, O8013\, Spain
CATEGORIES:Salsa Cubana,Son Cubano,Timba
ATTACH;FMTTYPE=image/png:https://bcnsalsacalendar.com/wp-content/uploads/2025/08/Captura-de-pantalla-2025-08-22-095128.png
END:VEVENT
BEGIN:VEVENT
DTSTART;TZID=UTC:20260318T190000
DTEND;TZID=UTC:20260318T213000
DTSTAMP:20260424T181328
CREATED:20250309T111433Z
LAST-MODIFIED:20251230T224434Z
UID:10022629-1773860400-1773869400@bcnsalsacalendar.com
SUMMARY:Free Outdoor Salsa & Bachata en Glòries
DESCRIPTION:📝 Description and Salsa Style: Free outdoor Salsa & Bachata  event. \n💃 Dancer Level: Mostly beginner and intermediate. \n👥 Average Age: 20-50 years old\, all ages welcome. \n🔄 Recurrence: Every Sunday. Sometime during the week.
URL:https://bcnsalsacalendar.com/event/free-outdoor-salsa/2026-03-18/
LOCATION:Plaça de les Glòries\, Plaça de les Glòries Catalanes\, Sant Martí\, Barcelona\, O8013\, Spain
CATEGORIES:Salsa Cubana,Salsa&Bachata,SalsaOn1,SalsaOn2,Son Cubano,Timba
ATTACH;FMTTYPE=image/png:https://bcnsalsacalendar.com/wp-content/uploads/2025/08/Captura-de-pantalla-2025-08-22-095128.png
END:VEVENT
BEGIN:VEVENT
DTSTART;TZID=UTC:20260313T190000
DTEND;TZID=UTC:20260313T220000
DTSTAMP:20260424T181328
CREATED:20250822T075428Z
LAST-MODIFIED:20250822T165419Z
UID:10019799-1773428400-1773439200@bcnsalsacalendar.com
SUMMARY:Free Outdoor Salsa and Timba Social
DESCRIPTION:📝 Description and Salsa Style: Free outdoor event in Parque de las Glorias. 100% Timba. \n💃 Dancer Level: All levels. \n👥 Average Age: 25-45 years old\, all ages welcome. \n🔄 Recurrence: Every Friday.
URL:https://bcnsalsacalendar.com/event/timba-cuitadella-3-2-2/2026-03-13/
LOCATION:Plaça de les Glòries\, Plaça de les Glòries Catalanes\, Sant Martí\, Barcelona\, O8013\, Spain
CATEGORIES:Salsa Cubana,Son Cubano,Timba
ATTACH;FMTTYPE=image/png:https://bcnsalsacalendar.com/wp-content/uploads/2025/08/Captura-de-pantalla-2025-08-22-095128.png
END:VEVENT
BEGIN:VEVENT
DTSTART;TZID=UTC:20260311T190000
DTEND;TZID=UTC:20260311T213000
DTSTAMP:20260424T181328
CREATED:20250309T111433Z
LAST-MODIFIED:20251230T224434Z
UID:10022628-1773255600-1773264600@bcnsalsacalendar.com
SUMMARY:Free Outdoor Salsa & Bachata en Glòries
DESCRIPTION:📝 Description and Salsa Style: Free outdoor Salsa & Bachata  event. \n💃 Dancer Level: Mostly beginner and intermediate. \n👥 Average Age: 20-50 years old\, all ages welcome. \n🔄 Recurrence: Every Sunday. Sometime during the week.
URL:https://bcnsalsacalendar.com/event/free-outdoor-salsa/2026-03-11/
LOCATION:Plaça de les Glòries\, Plaça de les Glòries Catalanes\, Sant Martí\, Barcelona\, O8013\, Spain
CATEGORIES:Salsa Cubana,Salsa&Bachata,SalsaOn1,SalsaOn2,Son Cubano,Timba
ATTACH;FMTTYPE=image/png:https://bcnsalsacalendar.com/wp-content/uploads/2025/08/Captura-de-pantalla-2025-08-22-095128.png
END:VEVENT
BEGIN:VEVENT
DTSTART;TZID=UTC:20260306T190000
DTEND;TZID=UTC:20260306T220000
DTSTAMP:20260424T181328
CREATED:20250822T075428Z
LAST-MODIFIED:20250822T165419Z
UID:10019798-1772823600-1772834400@bcnsalsacalendar.com
SUMMARY:Free Outdoor Salsa and Timba Social
DESCRIPTION:📝 Description and Salsa Style: Free outdoor event in Parque de las Glorias. 100% Timba. \n💃 Dancer Level: All levels. \n👥 Average Age: 25-45 years old\, all ages welcome. \n🔄 Recurrence: Every Friday.
URL:https://bcnsalsacalendar.com/event/timba-cuitadella-3-2-2/2026-03-06/
LOCATION:Plaça de les Glòries\, Plaça de les Glòries Catalanes\, Sant Martí\, Barcelona\, O8013\, Spain
CATEGORIES:Salsa Cubana,Son Cubano,Timba
ATTACH;FMTTYPE=image/png:https://bcnsalsacalendar.com/wp-content/uploads/2025/08/Captura-de-pantalla-2025-08-22-095128.png
END:VEVENT
BEGIN:VEVENT
DTSTART;TZID=UTC:20260304T190000
DTEND;TZID=UTC:20260304T213000
DTSTAMP:20260424T181328
CREATED:20250309T111433Z
LAST-MODIFIED:20251230T224434Z
UID:10022627-1772650800-1772659800@bcnsalsacalendar.com
SUMMARY:Free Outdoor Salsa & Bachata en Glòries
DESCRIPTION:📝 Description and Salsa Style: Free outdoor Salsa & Bachata  event. \n💃 Dancer Level: Mostly beginner and intermediate. \n👥 Average Age: 20-50 years old\, all ages welcome. \n🔄 Recurrence: Every Sunday. Sometime during the week.
URL:https://bcnsalsacalendar.com/event/free-outdoor-salsa/2026-03-04/
LOCATION:Plaça de les Glòries\, Plaça de les Glòries Catalanes\, Sant Martí\, Barcelona\, O8013\, Spain
CATEGORIES:Salsa Cubana,Salsa&Bachata,SalsaOn1,SalsaOn2,Son Cubano,Timba
ATTACH;FMTTYPE=image/png:https://bcnsalsacalendar.com/wp-content/uploads/2025/08/Captura-de-pantalla-2025-08-22-095128.png
END:VEVENT
BEGIN:VEVENT
DTSTART;TZID=UTC:20260227T190000
DTEND;TZID=UTC:20260227T220000
DTSTAMP:20260424T181328
CREATED:20250822T075428Z
LAST-MODIFIED:20250822T165419Z
UID:10019797-1772218800-1772229600@bcnsalsacalendar.com
SUMMARY:Free Outdoor Salsa and Timba Social
DESCRIPTION:📝 Description and Salsa Style: Free outdoor event in Parque de las Glorias. 100% Timba. \n💃 Dancer Level: All levels. \n👥 Average Age: 25-45 years old\, all ages welcome. \n🔄 Recurrence: Every Friday.
URL:https://bcnsalsacalendar.com/event/timba-cuitadella-3-2-2/2026-02-27/
LOCATION:Plaça de les Glòries\, Plaça de les Glòries Catalanes\, Sant Martí\, Barcelona\, O8013\, Spain
CATEGORIES:Salsa Cubana,Son Cubano,Timba
ATTACH;FMTTYPE=image/png:https://bcnsalsacalendar.com/wp-content/uploads/2025/08/Captura-de-pantalla-2025-08-22-095128.png
END:VEVENT
BEGIN:VEVENT
DTSTART;TZID=UTC:20260225T190000
DTEND;TZID=UTC:20260225T213000
DTSTAMP:20260424T181328
CREATED:20250309T111433Z
LAST-MODIFIED:20251230T224434Z
UID:10022626-1772046000-1772055000@bcnsalsacalendar.com
SUMMARY:Free Outdoor Salsa & Bachata en Glòries
DESCRIPTION:📝 Description and Salsa Style: Free outdoor Salsa & Bachata  event. \n💃 Dancer Level: Mostly beginner and intermediate. \n👥 Average Age: 20-50 years old\, all ages welcome. \n🔄 Recurrence: Every Sunday. Sometime during the week.
URL:https://bcnsalsacalendar.com/event/free-outdoor-salsa/2026-02-25/
LOCATION:Plaça de les Glòries\, Plaça de les Glòries Catalanes\, Sant Martí\, Barcelona\, O8013\, Spain
CATEGORIES:Salsa Cubana,Salsa&Bachata,SalsaOn1,SalsaOn2,Son Cubano,Timba
ATTACH;FMTTYPE=image/png:https://bcnsalsacalendar.com/wp-content/uploads/2025/08/Captura-de-pantalla-2025-08-22-095128.png
END:VEVENT
BEGIN:VEVENT
DTSTART;TZID=UTC:20260220T190000
DTEND;TZID=UTC:20260220T220000
DTSTAMP:20260424T181328
CREATED:20250822T075428Z
LAST-MODIFIED:20250822T165419Z
UID:10019796-1771614000-1771624800@bcnsalsacalendar.com
SUMMARY:Free Outdoor Salsa and Timba Social
DESCRIPTION:📝 Description and Salsa Style: Free outdoor event in Parque de las Glorias. 100% Timba. \n💃 Dancer Level: All levels. \n👥 Average Age: 25-45 years old\, all ages welcome. \n🔄 Recurrence: Every Friday.
URL:https://bcnsalsacalendar.com/event/timba-cuitadella-3-2-2/2026-02-20/
LOCATION:Plaça de les Glòries\, Plaça de les Glòries Catalanes\, Sant Martí\, Barcelona\, O8013\, Spain
CATEGORIES:Salsa Cubana,Son Cubano,Timba
ATTACH;FMTTYPE=image/png:https://bcnsalsacalendar.com/wp-content/uploads/2025/08/Captura-de-pantalla-2025-08-22-095128.png
END:VEVENT
BEGIN:VEVENT
DTSTART;TZID=UTC:20260218T190000
DTEND;TZID=UTC:20260218T213000
DTSTAMP:20260424T181328
CREATED:20250309T111433Z
LAST-MODIFIED:20251230T224434Z
UID:10022625-1771441200-1771450200@bcnsalsacalendar.com
SUMMARY:Free Outdoor Salsa & Bachata en Glòries
DESCRIPTION:📝 Description and Salsa Style: Free outdoor Salsa & Bachata  event. \n💃 Dancer Level: Mostly beginner and intermediate. \n👥 Average Age: 20-50 years old\, all ages welcome. \n🔄 Recurrence: Every Sunday. Sometime during the week.
URL:https://bcnsalsacalendar.com/event/free-outdoor-salsa/2026-02-18/
LOCATION:Plaça de les Glòries\, Plaça de les Glòries Catalanes\, Sant Martí\, Barcelona\, O8013\, Spain
CATEGORIES:Salsa Cubana,Salsa&Bachata,SalsaOn1,SalsaOn2,Son Cubano,Timba
ATTACH;FMTTYPE=image/png:https://bcnsalsacalendar.com/wp-content/uploads/2025/08/Captura-de-pantalla-2025-08-22-095128.png
END:VEVENT
BEGIN:VEVENT
DTSTART;TZID=UTC:20260213T190000
DTEND;TZID=UTC:20260213T220000
DTSTAMP:20260424T181328
CREATED:20250822T075428Z
LAST-MODIFIED:20250822T165419Z
UID:10019795-1771009200-1771020000@bcnsalsacalendar.com
SUMMARY:Free Outdoor Salsa and Timba Social
DESCRIPTION:📝 Description and Salsa Style: Free outdoor event in Parque de las Glorias. 100% Timba. \n💃 Dancer Level: All levels. \n👥 Average Age: 25-45 years old\, all ages welcome. \n🔄 Recurrence: Every Friday.
URL:https://bcnsalsacalendar.com/event/timba-cuitadella-3-2-2/2026-02-13/
LOCATION:Plaça de les Glòries\, Plaça de les Glòries Catalanes\, Sant Martí\, Barcelona\, O8013\, Spain
CATEGORIES:Salsa Cubana,Son Cubano,Timba
ATTACH;FMTTYPE=image/png:https://bcnsalsacalendar.com/wp-content/uploads/2025/08/Captura-de-pantalla-2025-08-22-095128.png
END:VEVENT
BEGIN:VEVENT
DTSTART;TZID=UTC:20260211T190000
DTEND;TZID=UTC:20260211T213000
DTSTAMP:20260424T181328
CREATED:20250309T111433Z
LAST-MODIFIED:20251230T224434Z
UID:10022624-1770836400-1770845400@bcnsalsacalendar.com
SUMMARY:Free Outdoor Salsa & Bachata en Glòries
DESCRIPTION:📝 Description and Salsa Style: Free outdoor Salsa & Bachata  event. \n💃 Dancer Level: Mostly beginner and intermediate. \n👥 Average Age: 20-50 years old\, all ages welcome. \n🔄 Recurrence: Every Sunday. Sometime during the week.
URL:https://bcnsalsacalendar.com/event/free-outdoor-salsa/2026-02-11/
LOCATION:Plaça de les Glòries\, Plaça de les Glòries Catalanes\, Sant Martí\, Barcelona\, O8013\, Spain
CATEGORIES:Salsa Cubana,Salsa&Bachata,SalsaOn1,SalsaOn2,Son Cubano,Timba
ATTACH;FMTTYPE=image/png:https://bcnsalsacalendar.com/wp-content/uploads/2025/08/Captura-de-pantalla-2025-08-22-095128.png
END:VEVENT
BEGIN:VEVENT
DTSTART;TZID=UTC:20260206T190000
DTEND;TZID=UTC:20260206T220000
DTSTAMP:20260424T181328
CREATED:20250822T075428Z
LAST-MODIFIED:20250822T165419Z
UID:10019794-1770404400-1770415200@bcnsalsacalendar.com
SUMMARY:Free Outdoor Salsa and Timba Social
DESCRIPTION:📝 Description and Salsa Style: Free outdoor event in Parque de las Glorias. 100% Timba. \n💃 Dancer Level: All levels. \n👥 Average Age: 25-45 years old\, all ages welcome. \n🔄 Recurrence: Every Friday.
URL:https://bcnsalsacalendar.com/event/timba-cuitadella-3-2-2/2026-02-06/
LOCATION:Plaça de les Glòries\, Plaça de les Glòries Catalanes\, Sant Martí\, Barcelona\, O8013\, Spain
CATEGORIES:Salsa Cubana,Son Cubano,Timba
ATTACH;FMTTYPE=image/png:https://bcnsalsacalendar.com/wp-content/uploads/2025/08/Captura-de-pantalla-2025-08-22-095128.png
END:VEVENT
BEGIN:VEVENT
DTSTART;TZID=UTC:20260204T190000
DTEND;TZID=UTC:20260204T213000
DTSTAMP:20260424T181328
CREATED:20250309T111433Z
LAST-MODIFIED:20251230T224434Z
UID:10022623-1770231600-1770240600@bcnsalsacalendar.com
SUMMARY:Free Outdoor Salsa & Bachata en Glòries
DESCRIPTION:📝 Description and Salsa Style: Free outdoor Salsa & Bachata  event. \n💃 Dancer Level: Mostly beginner and intermediate. \n👥 Average Age: 20-50 years old\, all ages welcome. \n🔄 Recurrence: Every Sunday. Sometime during the week.
URL:https://bcnsalsacalendar.com/event/free-outdoor-salsa/2026-02-04/
LOCATION:Plaça de les Glòries\, Plaça de les Glòries Catalanes\, Sant Martí\, Barcelona\, O8013\, Spain
CATEGORIES:Salsa Cubana,Salsa&Bachata,SalsaOn1,SalsaOn2,Son Cubano,Timba
ATTACH;FMTTYPE=image/png:https://bcnsalsacalendar.com/wp-content/uploads/2025/08/Captura-de-pantalla-2025-08-22-095128.png
END:VEVENT
BEGIN:VEVENT
DTSTART;TZID=UTC:20260130T190000
DTEND;TZID=UTC:20260130T220000
DTSTAMP:20260424T181328
CREATED:20250822T075428Z
LAST-MODIFIED:20250822T165419Z
UID:10019793-1769799600-1769810400@bcnsalsacalendar.com
SUMMARY:Free Outdoor Salsa and Timba Social
DESCRIPTION:📝 Description and Salsa Style: Free outdoor event in Parque de las Glorias. 100% Timba. \n💃 Dancer Level: All levels. \n👥 Average Age: 25-45 years old\, all ages welcome. \n🔄 Recurrence: Every Friday.
URL:https://bcnsalsacalendar.com/event/timba-cuitadella-3-2-2/2026-01-30/
LOCATION:Plaça de les Glòries\, Plaça de les Glòries Catalanes\, Sant Martí\, Barcelona\, O8013\, Spain
CATEGORIES:Salsa Cubana,Son Cubano,Timba
ATTACH;FMTTYPE=image/png:https://bcnsalsacalendar.com/wp-content/uploads/2025/08/Captura-de-pantalla-2025-08-22-095128.png
END:VEVENT
BEGIN:VEVENT
DTSTART;TZID=UTC:20260128T190000
DTEND;TZID=UTC:20260128T213000
DTSTAMP:20260424T181328
CREATED:20250309T111433Z
LAST-MODIFIED:20251230T224434Z
UID:10022622-1769626800-1769635800@bcnsalsacalendar.com
SUMMARY:Free Outdoor Salsa & Bachata en Glòries
DESCRIPTION:📝 Description and Salsa Style: Free outdoor Salsa & Bachata  event. \n💃 Dancer Level: Mostly beginner and intermediate. \n👥 Average Age: 20-50 years old\, all ages welcome. \n🔄 Recurrence: Every Sunday. Sometime during the week.
URL:https://bcnsalsacalendar.com/event/free-outdoor-salsa/2026-01-28/
LOCATION:Plaça de les Glòries\, Plaça de les Glòries Catalanes\, Sant Martí\, Barcelona\, O8013\, Spain
CATEGORIES:Salsa Cubana,Salsa&Bachata,SalsaOn1,SalsaOn2,Son Cubano,Timba
ATTACH;FMTTYPE=image/png:https://bcnsalsacalendar.com/wp-content/uploads/2025/08/Captura-de-pantalla-2025-08-22-095128.png
END:VEVENT
BEGIN:VEVENT
DTSTART;TZID=UTC:20260123T190000
DTEND;TZID=UTC:20260123T220000
DTSTAMP:20260424T181328
CREATED:20250822T075428Z
LAST-MODIFIED:20250822T165419Z
UID:10019792-1769194800-1769205600@bcnsalsacalendar.com
SUMMARY:Free Outdoor Salsa and Timba Social
DESCRIPTION:📝 Description and Salsa Style: Free outdoor event in Parque de las Glorias. 100% Timba. \n💃 Dancer Level: All levels. \n👥 Average Age: 25-45 years old\, all ages welcome. \n🔄 Recurrence: Every Friday.
URL:https://bcnsalsacalendar.com/event/timba-cuitadella-3-2-2/2026-01-23/
LOCATION:Plaça de les Glòries\, Plaça de les Glòries Catalanes\, Sant Martí\, Barcelona\, O8013\, Spain
CATEGORIES:Salsa Cubana,Son Cubano,Timba
ATTACH;FMTTYPE=image/png:https://bcnsalsacalendar.com/wp-content/uploads/2025/08/Captura-de-pantalla-2025-08-22-095128.png
END:VEVENT
BEGIN:VEVENT
DTSTART;TZID=UTC:20260121T190000
DTEND;TZID=UTC:20260121T213000
DTSTAMP:20260424T181328
CREATED:20250309T111433Z
LAST-MODIFIED:20251230T224434Z
UID:10022621-1769022000-1769031000@bcnsalsacalendar.com
SUMMARY:Free Outdoor Salsa & Bachata en Glòries
DESCRIPTION:📝 Description and Salsa Style: Free outdoor Salsa & Bachata  event. \n💃 Dancer Level: Mostly beginner and intermediate. \n👥 Average Age: 20-50 years old\, all ages welcome. \n🔄 Recurrence: Every Sunday. Sometime during the week.
URL:https://bcnsalsacalendar.com/event/free-outdoor-salsa/2026-01-21/
LOCATION:Plaça de les Glòries\, Plaça de les Glòries Catalanes\, Sant Martí\, Barcelona\, O8013\, Spain
CATEGORIES:Salsa Cubana,Salsa&Bachata,SalsaOn1,SalsaOn2,Son Cubano,Timba
ATTACH;FMTTYPE=image/png:https://bcnsalsacalendar.com/wp-content/uploads/2025/08/Captura-de-pantalla-2025-08-22-095128.png
END:VEVENT
BEGIN:VEVENT
DTSTART;TZID=UTC:20260116T190000
DTEND;TZID=UTC:20260116T220000
DTSTAMP:20260424T181328
CREATED:20250822T075428Z
LAST-MODIFIED:20250822T165419Z
UID:10019791-1768590000-1768600800@bcnsalsacalendar.com
SUMMARY:Free Outdoor Salsa and Timba Social
DESCRIPTION:📝 Description and Salsa Style: Free outdoor event in Parque de las Glorias. 100% Timba. \n💃 Dancer Level: All levels. \n👥 Average Age: 25-45 years old\, all ages welcome. \n🔄 Recurrence: Every Friday.
URL:https://bcnsalsacalendar.com/event/timba-cuitadella-3-2-2/2026-01-16/
LOCATION:Plaça de les Glòries\, Plaça de les Glòries Catalanes\, Sant Martí\, Barcelona\, O8013\, Spain
CATEGORIES:Salsa Cubana,Son Cubano,Timba
ATTACH;FMTTYPE=image/png:https://bcnsalsacalendar.com/wp-content/uploads/2025/08/Captura-de-pantalla-2025-08-22-095128.png
END:VEVENT
BEGIN:VEVENT
DTSTART;TZID=UTC:20260114T190000
DTEND;TZID=UTC:20260114T213000
DTSTAMP:20260424T181328
CREATED:20250309T111433Z
LAST-MODIFIED:20251230T224434Z
UID:10022620-1768417200-1768426200@bcnsalsacalendar.com
SUMMARY:Free Outdoor Salsa & Bachata en Glòries
DESCRIPTION:📝 Description and Salsa Style: Free outdoor Salsa & Bachata  event. \n💃 Dancer Level: Mostly beginner and intermediate. \n👥 Average Age: 20-50 years old\, all ages welcome. \n🔄 Recurrence: Every Sunday. Sometime during the week.
URL:https://bcnsalsacalendar.com/event/free-outdoor-salsa/2026-01-14/
LOCATION:Plaça de les Glòries\, Plaça de les Glòries Catalanes\, Sant Martí\, Barcelona\, O8013\, Spain
CATEGORIES:Salsa Cubana,Salsa&Bachata,SalsaOn1,SalsaOn2,Son Cubano,Timba
ATTACH;FMTTYPE=image/png:https://bcnsalsacalendar.com/wp-content/uploads/2025/08/Captura-de-pantalla-2025-08-22-095128.png
END:VEVENT
BEGIN:VEVENT
DTSTART;TZID=UTC:20260109T190000
DTEND;TZID=UTC:20260109T220000
DTSTAMP:20260424T181328
CREATED:20250822T075428Z
LAST-MODIFIED:20250822T165419Z
UID:10019790-1767985200-1767996000@bcnsalsacalendar.com
SUMMARY:Free Outdoor Salsa and Timba Social
DESCRIPTION:📝 Description and Salsa Style: Free outdoor event in Parque de las Glorias. 100% Timba. \n💃 Dancer Level: All levels. \n👥 Average Age: 25-45 years old\, all ages welcome. \n🔄 Recurrence: Every Friday.
URL:https://bcnsalsacalendar.com/event/timba-cuitadella-3-2-2/2026-01-09/
LOCATION:Plaça de les Glòries\, Plaça de les Glòries Catalanes\, Sant Martí\, Barcelona\, O8013\, Spain
CATEGORIES:Salsa Cubana,Son Cubano,Timba
ATTACH;FMTTYPE=image/png:https://bcnsalsacalendar.com/wp-content/uploads/2025/08/Captura-de-pantalla-2025-08-22-095128.png
END:VEVENT
END:VCALENDAR