BEGIN:VCALENDAR
VERSION:2.0
PRODID:-//Welcome - ECPv6.15.20//NONSGML v1.0//EN
CALSCALE:GREGORIAN
METHOD:PUBLISH
X-WR-CALNAME:Welcome
X-ORIGINAL-URL:https://bcnsalsacalendar.com
X-WR-CALDESC:Events for Welcome
REFRESH-INTERVAL;VALUE=DURATION:PT1H
X-Robots-Tag:noindex
X-PUBLISHED-TTL:PT1H
BEGIN:VTIMEZONE
TZID:UTC
BEGIN:STANDARD
TZOFFSETFROM:+0000
TZOFFSETTO:+0000
TZNAME:UTC
DTSTART:20240101T000000
END:STANDARD
END:VTIMEZONE
BEGIN:VEVENT
DTSTART;TZID=UTC:20250910T220000
DTEND;TZID=UTC:20250911T030000
DTSTAMP:20260420T221347
CREATED:20250109T115113Z
LAST-MODIFIED:20250609T095953Z
UID:10009529-1757541600-1757559600@bcnsalsacalendar.com
SUMMARY:Antilla - Salsa Timba Bachata
DESCRIPTION:📝 Description and Salsa Style: Workshop from 22.00 to 23.00. Social from 23.00. Salsa\, Timba\, Bachata. \n💃 Dancer Level: All levels. \n👥 Average Age: 20-50 years old\, all ages welcome. \n🔄 Recurrence: Every Wednesday. \n 
URL:https://bcnsalsacalendar.com/event/antilla/2025-09-10/
LOCATION:Antilla\, Carrer de Viladomat\, 211\, L'Eixample\, Barcelona\, Catalonia\, 08015\, Spain
CATEGORIES:Salsa Cubana,Salsa&Bachata,Son Cubano,Timba
ATTACH;FMTTYPE=image/png:https://bcnsalsacalendar.com/wp-content/uploads/2025/02/Antilla.png
END:VEVENT
BEGIN:VEVENT
DTSTART;TZID=UTC:20250903T220000
DTEND;TZID=UTC:20250904T030000
DTSTAMP:20260420T221347
CREATED:20250109T115113Z
LAST-MODIFIED:20250609T095953Z
UID:10009528-1756936800-1756954800@bcnsalsacalendar.com
SUMMARY:Antilla - Salsa Timba Bachata
DESCRIPTION:📝 Description and Salsa Style: Workshop from 22.00 to 23.00. Social from 23.00. Salsa\, Timba\, Bachata. \n💃 Dancer Level: All levels. \n👥 Average Age: 20-50 years old\, all ages welcome. \n🔄 Recurrence: Every Wednesday. \n 
URL:https://bcnsalsacalendar.com/event/antilla/2025-09-03/
LOCATION:Antilla\, Carrer de Viladomat\, 211\, L'Eixample\, Barcelona\, Catalonia\, 08015\, Spain
CATEGORIES:Salsa Cubana,Salsa&Bachata,Son Cubano,Timba
ATTACH;FMTTYPE=image/png:https://bcnsalsacalendar.com/wp-content/uploads/2025/02/Antilla.png
END:VEVENT
BEGIN:VEVENT
DTSTART;TZID=UTC:20250827T220000
DTEND;TZID=UTC:20250828T030000
DTSTAMP:20260420T221347
CREATED:20250109T115113Z
LAST-MODIFIED:20250609T095953Z
UID:10009527-1756332000-1756350000@bcnsalsacalendar.com
SUMMARY:Antilla - Salsa Timba Bachata
DESCRIPTION:📝 Description and Salsa Style: Workshop from 22.00 to 23.00. Social from 23.00. Salsa\, Timba\, Bachata. \n💃 Dancer Level: All levels. \n👥 Average Age: 20-50 years old\, all ages welcome. \n🔄 Recurrence: Every Wednesday. \n 
URL:https://bcnsalsacalendar.com/event/antilla/2025-08-27/
LOCATION:Antilla\, Carrer de Viladomat\, 211\, L'Eixample\, Barcelona\, Catalonia\, 08015\, Spain
CATEGORIES:Salsa Cubana,Salsa&Bachata,Son Cubano,Timba
ATTACH;FMTTYPE=image/png:https://bcnsalsacalendar.com/wp-content/uploads/2025/02/Antilla.png
END:VEVENT
BEGIN:VEVENT
DTSTART;TZID=UTC:20250820T220000
DTEND;TZID=UTC:20250821T030000
DTSTAMP:20260420T221347
CREATED:20250109T115113Z
LAST-MODIFIED:20250609T095953Z
UID:10009526-1755727200-1755745200@bcnsalsacalendar.com
SUMMARY:Antilla - Salsa Timba Bachata
DESCRIPTION:📝 Description and Salsa Style: Workshop from 22.00 to 23.00. Social from 23.00. Salsa\, Timba\, Bachata. \n💃 Dancer Level: All levels. \n👥 Average Age: 20-50 years old\, all ages welcome. \n🔄 Recurrence: Every Wednesday. \n 
URL:https://bcnsalsacalendar.com/event/antilla/2025-08-20/
LOCATION:Antilla\, Carrer de Viladomat\, 211\, L'Eixample\, Barcelona\, Catalonia\, 08015\, Spain
CATEGORIES:Salsa Cubana,Salsa&Bachata,Son Cubano,Timba
ATTACH;FMTTYPE=image/png:https://bcnsalsacalendar.com/wp-content/uploads/2025/02/Antilla.png
END:VEVENT
BEGIN:VEVENT
DTSTART;TZID=UTC:20250813T220000
DTEND;TZID=UTC:20250814T030000
DTSTAMP:20260420T221347
CREATED:20250109T115113Z
LAST-MODIFIED:20250609T095953Z
UID:10009525-1755122400-1755140400@bcnsalsacalendar.com
SUMMARY:Antilla - Salsa Timba Bachata
DESCRIPTION:📝 Description and Salsa Style: Workshop from 22.00 to 23.00. Social from 23.00. Salsa\, Timba\, Bachata. \n💃 Dancer Level: All levels. \n👥 Average Age: 20-50 years old\, all ages welcome. \n🔄 Recurrence: Every Wednesday. \n 
URL:https://bcnsalsacalendar.com/event/antilla/2025-08-13/
LOCATION:Antilla\, Carrer de Viladomat\, 211\, L'Eixample\, Barcelona\, Catalonia\, 08015\, Spain
CATEGORIES:Salsa Cubana,Salsa&Bachata,Son Cubano,Timba
ATTACH;FMTTYPE=image/png:https://bcnsalsacalendar.com/wp-content/uploads/2025/02/Antilla.png
END:VEVENT
BEGIN:VEVENT
DTSTART;TZID=UTC:20250806T220000
DTEND;TZID=UTC:20250807T030000
DTSTAMP:20260420T221347
CREATED:20250109T115113Z
LAST-MODIFIED:20250609T095953Z
UID:10009524-1754517600-1754535600@bcnsalsacalendar.com
SUMMARY:Antilla - Salsa Timba Bachata
DESCRIPTION:📝 Description and Salsa Style: Workshop from 22.00 to 23.00. Social from 23.00. Salsa\, Timba\, Bachata. \n💃 Dancer Level: All levels. \n👥 Average Age: 20-50 years old\, all ages welcome. \n🔄 Recurrence: Every Wednesday. \n 
URL:https://bcnsalsacalendar.com/event/antilla/2025-08-06/
LOCATION:Antilla\, Carrer de Viladomat\, 211\, L'Eixample\, Barcelona\, Catalonia\, 08015\, Spain
CATEGORIES:Salsa Cubana,Salsa&Bachata,Son Cubano,Timba
ATTACH;FMTTYPE=image/png:https://bcnsalsacalendar.com/wp-content/uploads/2025/02/Antilla.png
END:VEVENT
BEGIN:VEVENT
DTSTART;TZID=UTC:20250730T220000
DTEND;TZID=UTC:20250731T030000
DTSTAMP:20260420T221347
CREATED:20250109T115113Z
LAST-MODIFIED:20250609T095953Z
UID:10009523-1753912800-1753930800@bcnsalsacalendar.com
SUMMARY:Antilla - Salsa Timba Bachata
DESCRIPTION:📝 Description and Salsa Style: Workshop from 22.00 to 23.00. Social from 23.00. Salsa\, Timba\, Bachata. \n💃 Dancer Level: All levels. \n👥 Average Age: 20-50 years old\, all ages welcome. \n🔄 Recurrence: Every Wednesday. \n 
URL:https://bcnsalsacalendar.com/event/antilla/2025-07-30/
LOCATION:Antilla\, Carrer de Viladomat\, 211\, L'Eixample\, Barcelona\, Catalonia\, 08015\, Spain
CATEGORIES:Salsa Cubana,Salsa&Bachata,Son Cubano,Timba
ATTACH;FMTTYPE=image/png:https://bcnsalsacalendar.com/wp-content/uploads/2025/02/Antilla.png
END:VEVENT
BEGIN:VEVENT
DTSTART;TZID=UTC:20250723T220000
DTEND;TZID=UTC:20250724T030000
DTSTAMP:20260420T221347
CREATED:20250109T115113Z
LAST-MODIFIED:20250609T095953Z
UID:10009522-1753308000-1753326000@bcnsalsacalendar.com
SUMMARY:Antilla - Salsa Timba Bachata
DESCRIPTION:📝 Description and Salsa Style: Workshop from 22.00 to 23.00. Social from 23.00. Salsa\, Timba\, Bachata. \n💃 Dancer Level: All levels. \n👥 Average Age: 20-50 years old\, all ages welcome. \n🔄 Recurrence: Every Wednesday. \n 
URL:https://bcnsalsacalendar.com/event/antilla/2025-07-23/
LOCATION:Antilla\, Carrer de Viladomat\, 211\, L'Eixample\, Barcelona\, Catalonia\, 08015\, Spain
CATEGORIES:Salsa Cubana,Salsa&Bachata,Son Cubano,Timba
ATTACH;FMTTYPE=image/png:https://bcnsalsacalendar.com/wp-content/uploads/2025/02/Antilla.png
END:VEVENT
BEGIN:VEVENT
DTSTART;TZID=UTC:20250716T220000
DTEND;TZID=UTC:20250717T030000
DTSTAMP:20260420T221347
CREATED:20250109T115113Z
LAST-MODIFIED:20250609T095953Z
UID:10009521-1752703200-1752721200@bcnsalsacalendar.com
SUMMARY:Antilla - Salsa Timba Bachata
DESCRIPTION:📝 Description and Salsa Style: Workshop from 22.00 to 23.00. Social from 23.00. Salsa\, Timba\, Bachata. \n💃 Dancer Level: All levels. \n👥 Average Age: 20-50 years old\, all ages welcome. \n🔄 Recurrence: Every Wednesday. \n 
URL:https://bcnsalsacalendar.com/event/antilla/2025-07-16/
LOCATION:Antilla\, Carrer de Viladomat\, 211\, L'Eixample\, Barcelona\, Catalonia\, 08015\, Spain
CATEGORIES:Salsa Cubana,Salsa&Bachata,Son Cubano,Timba
ATTACH;FMTTYPE=image/png:https://bcnsalsacalendar.com/wp-content/uploads/2025/02/Antilla.png
END:VEVENT
BEGIN:VEVENT
DTSTART;TZID=UTC:20250709T220000
DTEND;TZID=UTC:20250710T030000
DTSTAMP:20260420T221347
CREATED:20250109T115113Z
LAST-MODIFIED:20250609T095953Z
UID:10009520-1752098400-1752116400@bcnsalsacalendar.com
SUMMARY:Antilla - Salsa Timba Bachata
DESCRIPTION:📝 Description and Salsa Style: Workshop from 22.00 to 23.00. Social from 23.00. Salsa\, Timba\, Bachata. \n💃 Dancer Level: All levels. \n👥 Average Age: 20-50 years old\, all ages welcome. \n🔄 Recurrence: Every Wednesday. \n 
URL:https://bcnsalsacalendar.com/event/antilla/2025-07-09/
LOCATION:Antilla\, Carrer de Viladomat\, 211\, L'Eixample\, Barcelona\, Catalonia\, 08015\, Spain
CATEGORIES:Salsa Cubana,Salsa&Bachata,Son Cubano,Timba
ATTACH;FMTTYPE=image/png:https://bcnsalsacalendar.com/wp-content/uploads/2025/02/Antilla.png
END:VEVENT
BEGIN:VEVENT
DTSTART;TZID=UTC:20250702T220000
DTEND;TZID=UTC:20250703T030000
DTSTAMP:20260420T221347
CREATED:20250109T115113Z
LAST-MODIFIED:20250609T095953Z
UID:10009519-1751493600-1751511600@bcnsalsacalendar.com
SUMMARY:Antilla - Salsa Timba Bachata
DESCRIPTION:📝 Description and Salsa Style: Workshop from 22.00 to 23.00. Social from 23.00. Salsa\, Timba\, Bachata. \n💃 Dancer Level: All levels. \n👥 Average Age: 20-50 years old\, all ages welcome. \n🔄 Recurrence: Every Wednesday. \n 
URL:https://bcnsalsacalendar.com/event/antilla/2025-07-02/
LOCATION:Antilla\, Carrer de Viladomat\, 211\, L'Eixample\, Barcelona\, Catalonia\, 08015\, Spain
CATEGORIES:Salsa Cubana,Salsa&Bachata,Son Cubano,Timba
ATTACH;FMTTYPE=image/png:https://bcnsalsacalendar.com/wp-content/uploads/2025/02/Antilla.png
END:VEVENT
BEGIN:VEVENT
DTSTART;TZID=UTC:20250625T220000
DTEND;TZID=UTC:20250626T030000
DTSTAMP:20260420T221347
CREATED:20250109T115113Z
LAST-MODIFIED:20250609T095953Z
UID:10009518-1750888800-1750906800@bcnsalsacalendar.com
SUMMARY:Antilla - Salsa Timba Bachata
DESCRIPTION:📝 Description and Salsa Style: Workshop from 22.00 to 23.00. Social from 23.00. Salsa\, Timba\, Bachata. \n💃 Dancer Level: All levels. \n👥 Average Age: 20-50 years old\, all ages welcome. \n🔄 Recurrence: Every Wednesday. \n 
URL:https://bcnsalsacalendar.com/event/antilla/2025-06-25/
LOCATION:Antilla\, Carrer de Viladomat\, 211\, L'Eixample\, Barcelona\, Catalonia\, 08015\, Spain
CATEGORIES:Salsa Cubana,Salsa&Bachata,Son Cubano,Timba
ATTACH;FMTTYPE=image/png:https://bcnsalsacalendar.com/wp-content/uploads/2025/02/Antilla.png
END:VEVENT
BEGIN:VEVENT
DTSTART;TZID=UTC:20250618T220000
DTEND;TZID=UTC:20250619T030000
DTSTAMP:20260420T221347
CREATED:20250109T115113Z
LAST-MODIFIED:20250609T095953Z
UID:10009517-1750284000-1750302000@bcnsalsacalendar.com
SUMMARY:Antilla - Salsa Timba Bachata
DESCRIPTION:📝 Description and Salsa Style: Workshop from 22.00 to 23.00. Social from 23.00. Salsa\, Timba\, Bachata. \n💃 Dancer Level: All levels. \n👥 Average Age: 20-50 years old\, all ages welcome. \n🔄 Recurrence: Every Wednesday. \n 
URL:https://bcnsalsacalendar.com/event/antilla/2025-06-18/
LOCATION:Antilla\, Carrer de Viladomat\, 211\, L'Eixample\, Barcelona\, Catalonia\, 08015\, Spain
CATEGORIES:Salsa Cubana,Salsa&Bachata,Son Cubano,Timba
ATTACH;FMTTYPE=image/png:https://bcnsalsacalendar.com/wp-content/uploads/2025/02/Antilla.png
END:VEVENT
BEGIN:VEVENT
DTSTART;TZID=UTC:20250611T220000
DTEND;TZID=UTC:20250612T030000
DTSTAMP:20260420T221347
CREATED:20250109T115113Z
LAST-MODIFIED:20250609T095953Z
UID:10009516-1749679200-1749697200@bcnsalsacalendar.com
SUMMARY:Antilla - Salsa Timba Bachata
DESCRIPTION:📝 Description and Salsa Style: Workshop from 22.00 to 23.00. Social from 23.00. Salsa\, Timba\, Bachata. \n💃 Dancer Level: All levels. \n👥 Average Age: 20-50 years old\, all ages welcome. \n🔄 Recurrence: Every Wednesday. \n 
URL:https://bcnsalsacalendar.com/event/antilla/2025-06-11/
LOCATION:Antilla\, Carrer de Viladomat\, 211\, L'Eixample\, Barcelona\, Catalonia\, 08015\, Spain
CATEGORIES:Salsa Cubana,Salsa&Bachata,Son Cubano,Timba
ATTACH;FMTTYPE=image/png:https://bcnsalsacalendar.com/wp-content/uploads/2025/02/Antilla.png
END:VEVENT
BEGIN:VEVENT
DTSTART;TZID=UTC:20250604T220000
DTEND;TZID=UTC:20250605T030000
DTSTAMP:20260420T221347
CREATED:20250109T115113Z
LAST-MODIFIED:20250609T095953Z
UID:10009515-1749074400-1749092400@bcnsalsacalendar.com
SUMMARY:Antilla - Salsa Timba Bachata
DESCRIPTION:📝 Description and Salsa Style: Workshop from 22.00 to 23.00. Social from 23.00. Salsa\, Timba\, Bachata. \n💃 Dancer Level: All levels. \n👥 Average Age: 20-50 years old\, all ages welcome. \n🔄 Recurrence: Every Wednesday. \n 
URL:https://bcnsalsacalendar.com/event/antilla/2025-06-04/
LOCATION:Antilla\, Carrer de Viladomat\, 211\, L'Eixample\, Barcelona\, Catalonia\, 08015\, Spain
CATEGORIES:Salsa Cubana,Salsa&Bachata,Son Cubano,Timba
ATTACH;FMTTYPE=image/png:https://bcnsalsacalendar.com/wp-content/uploads/2025/02/Antilla.png
END:VEVENT
BEGIN:VEVENT
DTSTART;TZID=UTC:20250528T220000
DTEND;TZID=UTC:20250529T030000
DTSTAMP:20260420T221347
CREATED:20250109T115113Z
LAST-MODIFIED:20250609T095953Z
UID:10009514-1748469600-1748487600@bcnsalsacalendar.com
SUMMARY:Antilla - Salsa Timba Bachata
DESCRIPTION:📝 Description and Salsa Style: Workshop from 22.00 to 23.00. Social from 23.00. Salsa\, Timba\, Bachata. \n💃 Dancer Level: All levels. \n👥 Average Age: 20-50 years old\, all ages welcome. \n🔄 Recurrence: Every Wednesday. \n 
URL:https://bcnsalsacalendar.com/event/antilla/2025-05-28/
LOCATION:Antilla\, Carrer de Viladomat\, 211\, L'Eixample\, Barcelona\, Catalonia\, 08015\, Spain
CATEGORIES:Salsa Cubana,Salsa&Bachata,Son Cubano,Timba
ATTACH;FMTTYPE=image/png:https://bcnsalsacalendar.com/wp-content/uploads/2025/02/Antilla.png
END:VEVENT
BEGIN:VEVENT
DTSTART;TZID=UTC:20250521T220000
DTEND;TZID=UTC:20250522T030000
DTSTAMP:20260420T221347
CREATED:20250109T115113Z
LAST-MODIFIED:20250609T095953Z
UID:10009513-1747864800-1747882800@bcnsalsacalendar.com
SUMMARY:Antilla - Salsa Timba Bachata
DESCRIPTION:📝 Description and Salsa Style: Workshop from 22.00 to 23.00. Social from 23.00. Salsa\, Timba\, Bachata. \n💃 Dancer Level: All levels. \n👥 Average Age: 20-50 years old\, all ages welcome. \n🔄 Recurrence: Every Wednesday. \n 
URL:https://bcnsalsacalendar.com/event/antilla/2025-05-21/
LOCATION:Antilla\, Carrer de Viladomat\, 211\, L'Eixample\, Barcelona\, Catalonia\, 08015\, Spain
CATEGORIES:Salsa Cubana,Salsa&Bachata,Son Cubano,Timba
ATTACH;FMTTYPE=image/png:https://bcnsalsacalendar.com/wp-content/uploads/2025/02/Antilla.png
END:VEVENT
BEGIN:VEVENT
DTSTART;TZID=UTC:20250514T220000
DTEND;TZID=UTC:20250515T030000
DTSTAMP:20260420T221347
CREATED:20250109T115113Z
LAST-MODIFIED:20250609T095953Z
UID:10009512-1747260000-1747278000@bcnsalsacalendar.com
SUMMARY:Antilla - Salsa Timba Bachata
DESCRIPTION:📝 Description and Salsa Style: Workshop from 22.00 to 23.00. Social from 23.00. Salsa\, Timba\, Bachata. \n💃 Dancer Level: All levels. \n👥 Average Age: 20-50 years old\, all ages welcome. \n🔄 Recurrence: Every Wednesday. \n 
URL:https://bcnsalsacalendar.com/event/antilla/2025-05-14/
LOCATION:Antilla\, Carrer de Viladomat\, 211\, L'Eixample\, Barcelona\, Catalonia\, 08015\, Spain
CATEGORIES:Salsa Cubana,Salsa&Bachata,Son Cubano,Timba
ATTACH;FMTTYPE=image/png:https://bcnsalsacalendar.com/wp-content/uploads/2025/02/Antilla.png
END:VEVENT
BEGIN:VEVENT
DTSTART;TZID=UTC:20250507T220000
DTEND;TZID=UTC:20250508T030000
DTSTAMP:20260420T221347
CREATED:20250109T115113Z
LAST-MODIFIED:20250609T095953Z
UID:10009511-1746655200-1746673200@bcnsalsacalendar.com
SUMMARY:Antilla - Salsa Timba Bachata
DESCRIPTION:📝 Description and Salsa Style: Workshop from 22.00 to 23.00. Social from 23.00. Salsa\, Timba\, Bachata. \n💃 Dancer Level: All levels. \n👥 Average Age: 20-50 years old\, all ages welcome. \n🔄 Recurrence: Every Wednesday. \n 
URL:https://bcnsalsacalendar.com/event/antilla/2025-05-07/
LOCATION:Antilla\, Carrer de Viladomat\, 211\, L'Eixample\, Barcelona\, Catalonia\, 08015\, Spain
CATEGORIES:Salsa Cubana,Salsa&Bachata,Son Cubano,Timba
ATTACH;FMTTYPE=image/png:https://bcnsalsacalendar.com/wp-content/uploads/2025/02/Antilla.png
END:VEVENT
BEGIN:VEVENT
DTSTART;TZID=UTC:20250429T220000
DTEND;TZID=UTC:20250430T030000
DTSTAMP:20260420T221347
CREATED:20250109T115113Z
LAST-MODIFIED:20250609T095953Z
UID:10010420-1745964000-1745982000@bcnsalsacalendar.com
SUMMARY:Antilla - Salsa Timba Bachata
DESCRIPTION:📝 Description and Salsa Style: Workshop from 22.00 to 23.00. Social from 23.00. Salsa\, Timba\, Bachata. \n💃 Dancer Level: All levels. \n👥 Average Age: 20-50 years old\, all ages welcome. \n🔄 Recurrence: Every Wednesday. \n 
URL:https://bcnsalsacalendar.com/event/antilla/2025-04-29/
LOCATION:Antilla\, Carrer de Viladomat\, 211\, L'Eixample\, Barcelona\, Catalonia\, 08015\, Spain
CATEGORIES:Salsa Cubana,Salsa&Bachata,Son Cubano,Timba
ATTACH;FMTTYPE=image/png:https://bcnsalsacalendar.com/wp-content/uploads/2025/02/Antilla.png
END:VEVENT
BEGIN:VEVENT
DTSTART;TZID=UTC:20250423T220000
DTEND;TZID=UTC:20250424T030000
DTSTAMP:20260420T221347
CREATED:20250109T115113Z
LAST-MODIFIED:20250609T095953Z
UID:10009509-1745445600-1745463600@bcnsalsacalendar.com
SUMMARY:Antilla - Salsa Timba Bachata
DESCRIPTION:📝 Description and Salsa Style: Workshop from 22.00 to 23.00. Social from 23.00. Salsa\, Timba\, Bachata. \n💃 Dancer Level: All levels. \n👥 Average Age: 20-50 years old\, all ages welcome. \n🔄 Recurrence: Every Wednesday. \n 
URL:https://bcnsalsacalendar.com/event/antilla/2025-04-23/
LOCATION:Antilla\, Carrer de Viladomat\, 211\, L'Eixample\, Barcelona\, Catalonia\, 08015\, Spain
CATEGORIES:Salsa Cubana,Salsa&Bachata,Son Cubano,Timba
ATTACH;FMTTYPE=image/png:https://bcnsalsacalendar.com/wp-content/uploads/2025/02/Antilla.png
END:VEVENT
BEGIN:VEVENT
DTSTART;TZID=UTC:20250416T220000
DTEND;TZID=UTC:20250417T030000
DTSTAMP:20260420T221347
CREATED:20250109T115113Z
LAST-MODIFIED:20250609T095953Z
UID:10009508-1744840800-1744858800@bcnsalsacalendar.com
SUMMARY:Antilla - Salsa Timba Bachata
DESCRIPTION:📝 Description and Salsa Style: Workshop from 22.00 to 23.00. Social from 23.00. Salsa\, Timba\, Bachata. \n💃 Dancer Level: All levels. \n👥 Average Age: 20-50 years old\, all ages welcome. \n🔄 Recurrence: Every Wednesday. \n 
URL:https://bcnsalsacalendar.com/event/antilla/2025-04-16/
LOCATION:Antilla\, Carrer de Viladomat\, 211\, L'Eixample\, Barcelona\, Catalonia\, 08015\, Spain
CATEGORIES:Salsa Cubana,Salsa&Bachata,Son Cubano,Timba
ATTACH;FMTTYPE=image/png:https://bcnsalsacalendar.com/wp-content/uploads/2025/02/Antilla.png
END:VEVENT
BEGIN:VEVENT
DTSTART;TZID=UTC:20250409T220000
DTEND;TZID=UTC:20250410T030000
DTSTAMP:20260420T221347
CREATED:20250109T115113Z
LAST-MODIFIED:20250609T095953Z
UID:10009507-1744236000-1744254000@bcnsalsacalendar.com
SUMMARY:Antilla - Salsa Timba Bachata
DESCRIPTION:📝 Description and Salsa Style: Workshop from 22.00 to 23.00. Social from 23.00. Salsa\, Timba\, Bachata. \n💃 Dancer Level: All levels. \n👥 Average Age: 20-50 years old\, all ages welcome. \n🔄 Recurrence: Every Wednesday. \n 
URL:https://bcnsalsacalendar.com/event/antilla/2025-04-09/
LOCATION:Antilla\, Carrer de Viladomat\, 211\, L'Eixample\, Barcelona\, Catalonia\, 08015\, Spain
CATEGORIES:Salsa Cubana,Salsa&Bachata,Son Cubano,Timba
ATTACH;FMTTYPE=image/png:https://bcnsalsacalendar.com/wp-content/uploads/2025/02/Antilla.png
END:VEVENT
BEGIN:VEVENT
DTSTART;TZID=UTC:20250402T220000
DTEND;TZID=UTC:20250403T030000
DTSTAMP:20260420T221347
CREATED:20250109T115113Z
LAST-MODIFIED:20250609T095953Z
UID:10009506-1743631200-1743649200@bcnsalsacalendar.com
SUMMARY:Antilla - Salsa Timba Bachata
DESCRIPTION:📝 Description and Salsa Style: Workshop from 22.00 to 23.00. Social from 23.00. Salsa\, Timba\, Bachata. \n💃 Dancer Level: All levels. \n👥 Average Age: 20-50 years old\, all ages welcome. \n🔄 Recurrence: Every Wednesday. \n 
URL:https://bcnsalsacalendar.com/event/antilla/2025-04-02/
LOCATION:Antilla\, Carrer de Viladomat\, 211\, L'Eixample\, Barcelona\, Catalonia\, 08015\, Spain
CATEGORIES:Salsa Cubana,Salsa&Bachata,Son Cubano,Timba
ATTACH;FMTTYPE=image/png:https://bcnsalsacalendar.com/wp-content/uploads/2025/02/Antilla.png
END:VEVENT
BEGIN:VEVENT
DTSTART;TZID=UTC:20250326T220000
DTEND;TZID=UTC:20250327T030000
DTSTAMP:20260420T221347
CREATED:20250109T115113Z
LAST-MODIFIED:20250609T095953Z
UID:10009505-1743026400-1743044400@bcnsalsacalendar.com
SUMMARY:Antilla - Salsa Timba Bachata
DESCRIPTION:📝 Description and Salsa Style: Workshop from 22.00 to 23.00. Social from 23.00. Salsa\, Timba\, Bachata. \n💃 Dancer Level: All levels. \n👥 Average Age: 20-50 years old\, all ages welcome. \n🔄 Recurrence: Every Wednesday. \n 
URL:https://bcnsalsacalendar.com/event/antilla/2025-03-26/
LOCATION:Antilla\, Carrer de Viladomat\, 211\, L'Eixample\, Barcelona\, Catalonia\, 08015\, Spain
CATEGORIES:Salsa Cubana,Salsa&Bachata,Son Cubano,Timba
ATTACH;FMTTYPE=image/png:https://bcnsalsacalendar.com/wp-content/uploads/2025/02/Antilla.png
END:VEVENT
BEGIN:VEVENT
DTSTART;TZID=UTC:20250319T220000
DTEND;TZID=UTC:20250320T030000
DTSTAMP:20260420T221347
CREATED:20250109T115113Z
LAST-MODIFIED:20250609T095953Z
UID:10004605-1742421600-1742439600@bcnsalsacalendar.com
SUMMARY:Antilla - Salsa Timba Bachata
DESCRIPTION:📝 Description and Salsa Style: Workshop from 22.00 to 23.00. Social from 23.00. Salsa\, Timba\, Bachata. \n💃 Dancer Level: All levels. \n👥 Average Age: 20-50 years old\, all ages welcome. \n🔄 Recurrence: Every Wednesday. \n 
URL:https://bcnsalsacalendar.com/event/antilla/2025-03-19/
LOCATION:Antilla\, Carrer de Viladomat\, 211\, L'Eixample\, Barcelona\, Catalonia\, 08015\, Spain
CATEGORIES:Salsa Cubana,Salsa&Bachata,Son Cubano,Timba
ATTACH;FMTTYPE=image/png:https://bcnsalsacalendar.com/wp-content/uploads/2025/02/Antilla.png
END:VEVENT
BEGIN:VEVENT
DTSTART;TZID=UTC:20250312T220000
DTEND;TZID=UTC:20250313T030000
DTSTAMP:20260420T221347
CREATED:20250109T115113Z
LAST-MODIFIED:20250609T095953Z
UID:10004604-1741816800-1741834800@bcnsalsacalendar.com
SUMMARY:Antilla - Salsa Timba Bachata
DESCRIPTION:📝 Description and Salsa Style: Workshop from 22.00 to 23.00. Social from 23.00. Salsa\, Timba\, Bachata. \n💃 Dancer Level: All levels. \n👥 Average Age: 20-50 years old\, all ages welcome. \n🔄 Recurrence: Every Wednesday. \n 
URL:https://bcnsalsacalendar.com/event/antilla/2025-03-12/
LOCATION:Antilla\, Carrer de Viladomat\, 211\, L'Eixample\, Barcelona\, Catalonia\, 08015\, Spain
CATEGORIES:Salsa Cubana,Salsa&Bachata,Son Cubano,Timba
ATTACH;FMTTYPE=image/png:https://bcnsalsacalendar.com/wp-content/uploads/2025/02/Antilla.png
END:VEVENT
BEGIN:VEVENT
DTSTART;TZID=UTC:20250305T220000
DTEND;TZID=UTC:20250306T030000
DTSTAMP:20260420T221347
CREATED:20250109T115113Z
LAST-MODIFIED:20250609T095953Z
UID:10004603-1741212000-1741230000@bcnsalsacalendar.com
SUMMARY:Antilla - Salsa Timba Bachata
DESCRIPTION:📝 Description and Salsa Style: Workshop from 22.00 to 23.00. Social from 23.00. Salsa\, Timba\, Bachata. \n💃 Dancer Level: All levels. \n👥 Average Age: 20-50 years old\, all ages welcome. \n🔄 Recurrence: Every Wednesday. \n 
URL:https://bcnsalsacalendar.com/event/antilla/2025-03-05/
LOCATION:Antilla\, Carrer de Viladomat\, 211\, L'Eixample\, Barcelona\, Catalonia\, 08015\, Spain
CATEGORIES:Salsa Cubana,Salsa&Bachata,Son Cubano,Timba
ATTACH;FMTTYPE=image/png:https://bcnsalsacalendar.com/wp-content/uploads/2025/02/Antilla.png
END:VEVENT
BEGIN:VEVENT
DTSTART;TZID=UTC:20250226T220000
DTEND;TZID=UTC:20250227T030000
DTSTAMP:20260420T221347
CREATED:20250109T115113Z
LAST-MODIFIED:20250609T095953Z
UID:10004602-1740607200-1740625200@bcnsalsacalendar.com
SUMMARY:Antilla - Salsa Timba Bachata
DESCRIPTION:📝 Description and Salsa Style: Workshop from 22.00 to 23.00. Social from 23.00. Salsa\, Timba\, Bachata. \n💃 Dancer Level: All levels. \n👥 Average Age: 20-50 years old\, all ages welcome. \n🔄 Recurrence: Every Wednesday. \n 
URL:https://bcnsalsacalendar.com/event/antilla/2025-02-26/
LOCATION:Antilla\, Carrer de Viladomat\, 211\, L'Eixample\, Barcelona\, Catalonia\, 08015\, Spain
CATEGORIES:Salsa Cubana,Salsa&Bachata,Son Cubano,Timba
ATTACH;FMTTYPE=image/png:https://bcnsalsacalendar.com/wp-content/uploads/2025/02/Antilla.png
END:VEVENT
BEGIN:VEVENT
DTSTART;TZID=UTC:20250219T220000
DTEND;TZID=UTC:20250220T030000
DTSTAMP:20260420T221347
CREATED:20250109T115113Z
LAST-MODIFIED:20250609T095953Z
UID:10004601-1740002400-1740020400@bcnsalsacalendar.com
SUMMARY:Antilla - Salsa Timba Bachata
DESCRIPTION:📝 Description and Salsa Style: Workshop from 22.00 to 23.00. Social from 23.00. Salsa\, Timba\, Bachata. \n💃 Dancer Level: All levels. \n👥 Average Age: 20-50 years old\, all ages welcome. \n🔄 Recurrence: Every Wednesday. \n 
URL:https://bcnsalsacalendar.com/event/antilla/2025-02-19/
LOCATION:Antilla\, Carrer de Viladomat\, 211\, L'Eixample\, Barcelona\, Catalonia\, 08015\, Spain
CATEGORIES:Salsa Cubana,Salsa&Bachata,Son Cubano,Timba
ATTACH;FMTTYPE=image/png:https://bcnsalsacalendar.com/wp-content/uploads/2025/02/Antilla.png
END:VEVENT
END:VCALENDAR