BEGIN:VCALENDAR
VERSION:2.0
PRODID:-//Welcome - ECPv6.15.20//NONSGML v1.0//EN
CALSCALE:GREGORIAN
METHOD:PUBLISH
X-ORIGINAL-URL:https://bcnsalsacalendar.com
X-WR-CALDESC:Events for Welcome
REFRESH-INTERVAL;VALUE=DURATION:PT1H
X-Robots-Tag:noindex
X-PUBLISHED-TTL:PT1H
BEGIN:VTIMEZONE
TZID:UTC
BEGIN:STANDARD
TZOFFSETFROM:+0000
TZOFFSETTO:+0000
TZNAME:UTC
DTSTART:20240101T000000
END:STANDARD
END:VTIMEZONE
BEGIN:VEVENT
DTSTART;TZID=UTC:20251214T190000
DTEND;TZID=UTC:20251214T230000
DTSTAMP:20260420T075531
CREATED:20251213T170836Z
LAST-MODIFIED:20251213T170837Z
UID:10022077-1765738800-1765753200@bcnsalsacalendar.com
SUMMARY:Salsa Bachata Timba - C.Aribau
DESCRIPTION:📝 Description and Salsa Style: All type of Salsa\, Bachata and Timba. \n💃 Dancer Level: Mostly beginner and intermediate. \n👥 Average Age: 40-65 years old\, all ages welcome. \n🔄 Recurrence: Occasionally.
URL:https://bcnsalsacalendar.com/event/salsa-time-sbt-2-3/
LOCATION:Copacabana\, Carrer d'Aribau\, 191\, Sarrià-Sant Gervasi\, Barcelona\, Catalonia\, 08021\, Spain
CATEGORIES:Salsa Cubana,Salsa&Bachata,SalsaOn1,SalsaOn2,Son Cubano,Timba
ATTACH;FMTTYPE=image/png:https://bcnsalsacalendar.com/wp-content/uploads/2025/03/Estacion-de-francia.png
END:VEVENT
BEGIN:VEVENT
DTSTART;TZID=UTC:20251112T190000
DTEND;TZID=UTC:20251112T230000
DTSTAMP:20260420T075531
CREATED:20251111T091633Z
LAST-MODIFIED:20251111T091633Z
UID:10022937-1762974000-1762988400@bcnsalsacalendar.com
SUMMARY:Salsa Time - Coco Bongo
DESCRIPTION:📝 Description and Salsa Style: All type of Salsa\, Bachata and Timba. \n💃 Dancer Level: Mostly beginner and intermediate. \n👥 Average Age: 40-65 years old\, all ages welcome. \n🔄 Recurrence: Occasionally.
URL:https://bcnsalsacalendar.com/event/salsa-time-coco-bongo/
LOCATION:Copacabana\, Carrer d'Aribau\, 191\, Sarrià-Sant Gervasi\, Barcelona\, Catalonia\, 08021\, Spain
CATEGORIES:Salsa Cubana,Salsa&Bachata,SalsaOn1,SalsaOn2,Son Cubano,Timba
ATTACH;FMTTYPE=image/png:https://bcnsalsacalendar.com/wp-content/uploads/2025/11/Captura-de-pantalla-2025-11-11-101416.png
END:VEVENT
BEGIN:VEVENT
DTSTART;TZID=UTC:20251005T190000
DTEND;TZID=UTC:20251006T000000
DTSTAMP:20260420T075531
CREATED:20251004T124915Z
LAST-MODIFIED:20251004T124915Z
UID:10022868-1759690800-1759708800@bcnsalsacalendar.com
SUMMARY: Mambo Collective & live concert - 100% Salsa
DESCRIPTION:📝 Description and Salsa Style: Fully dedicated to Salsa On2 and On1. \n💃 Dancer Level: Mostly advanced and intermediate dancers. \n👥 Average Age: 25-50 years old\, all ages welcome. \n🔄 Recurrence: Occasionally.
URL:https://bcnsalsacalendar.com/event/mambo-collective-live-concert-100-salsa/
LOCATION:Copacabana\, Carrer d'Aribau\, 191\, Sarrià-Sant Gervasi\, Barcelona\, Catalonia\, 08021\, Spain
CATEGORIES:Live Salsa,Salsa Cubana,SalsaOn1,SalsaOn2,Son Cubano
ATTACH;FMTTYPE=image/png:https://bcnsalsacalendar.com/wp-content/uploads/2025/10/Copacabana.png
END:VEVENT
END:VCALENDAR