BEGIN:VCALENDAR
VERSION:2.0
PRODID:-//Welcome - ECPv6.15.20//NONSGML v1.0//EN
CALSCALE:GREGORIAN
METHOD:PUBLISH
X-WR-CALNAME:Welcome
X-ORIGINAL-URL:https://bcnsalsacalendar.com
X-WR-CALDESC:Events for Welcome
REFRESH-INTERVAL;VALUE=DURATION:PT1H
X-Robots-Tag:noindex
X-PUBLISHED-TTL:PT1H
BEGIN:VTIMEZONE
TZID:UTC
BEGIN:STANDARD
TZOFFSETFROM:+0000
TZOFFSETTO:+0000
TZNAME:UTC
DTSTART:20240101T000000
END:STANDARD
END:VTIMEZONE
BEGIN:VEVENT
DTSTART;TZID=UTC:20260321T120000
DTEND;TZID=UTC:20260321T143000
DTSTAMP:20260420T054303
CREATED:20241209T181956Z
LAST-MODIFIED:20260318T115348Z
UID:10023081-1774094400-1774103400@bcnsalsacalendar.com
SUMMARY:Alocubano Outdoor - Salsa & Bachata
DESCRIPTION:📝 Description and Salsa Style: Free outdoor Salsa & Bachata  event. On the boardwalk of Bogatell beach. All type of Salsa. \n💃 Dancer Level: Mostly beginner and intermediate. \n👥 Average Age: 20-50 years old\, all ages welcome. \n🔄 Recurrence: Usually\, on the first Saturday of each month.
URL:https://bcnsalsacalendar.com/event/alocubano/2026-03-21/
LOCATION:Passeig Marítim del Bogatell\, Passeig Marítim del Bogatell\, Sant Martí\, 08005 Barcelona\, Barcelona\, Catalonia\, 08005\, Spain
CATEGORIES:Salsa Cubana,Salsa&Bachata,SalsaOn1,SalsaOn2,Son Cubano,Timba
ATTACH;FMTTYPE=image/png:https://bcnsalsacalendar.com/wp-content/uploads/2024/12/alo-cubano.png
END:VEVENT
BEGIN:VEVENT
DTSTART;TZID=UTC:20251213T113000
DTEND;TZID=UTC:20251213T143000
DTSTAMP:20260420T054303
CREATED:20241209T181956Z
LAST-MODIFIED:20260318T115348Z
UID:10022959-1765625400-1765636200@bcnsalsacalendar.com
SUMMARY:Alocubano Outdoor - Salsa & Bachata
DESCRIPTION:📝 Description and Salsa Style: Free outdoor Salsa & Bachata  event. On the boardwalk of Bogatell beach. All type of Salsa. \n💃 Dancer Level: Mostly beginner and intermediate. \n👥 Average Age: 20-50 years old\, all ages welcome. \n🔄 Recurrence: Usually\, on the first Saturday of each month.
URL:https://bcnsalsacalendar.com/event/alocubano/2025-12-13/
LOCATION:Passeig Marítim del Bogatell\, Passeig Marítim del Bogatell\, Sant Martí\, 08005 Barcelona\, Barcelona\, Catalonia\, 08005\, Spain
CATEGORIES:Salsa Cubana,Salsa&Bachata,SalsaOn1,SalsaOn2,Son Cubano,Timba
ATTACH;FMTTYPE=image/png:https://bcnsalsacalendar.com/wp-content/uploads/2024/12/alo-cubano.png
END:VEVENT
BEGIN:VEVENT
DTSTART;TZID=UTC:20251004T183000
DTEND;TZID=UTC:20251004T223000
DTSTAMP:20260420T054303
CREATED:20241209T181956Z
LAST-MODIFIED:20260318T115348Z
UID:10022866-1759602600-1759617000@bcnsalsacalendar.com
SUMMARY:Alocubano Outdoor - Salsa & Bachata
DESCRIPTION:📝 Description and Salsa Style: Free outdoor Salsa & Bachata  event. On the boardwalk of Bogatell beach. All type of Salsa. \n💃 Dancer Level: Mostly beginner and intermediate. \n👥 Average Age: 20-50 years old\, all ages welcome. \n🔄 Recurrence: Usually\, on the first Saturday of each month.
URL:https://bcnsalsacalendar.com/event/alocubano/2025-10-04/
LOCATION:Passeig Marítim del Bogatell\, Passeig Marítim del Bogatell\, Sant Martí\, 08005 Barcelona\, Barcelona\, Catalonia\, 08005\, Spain
CATEGORIES:Salsa Cubana,Salsa&Bachata,SalsaOn1,SalsaOn2,Son Cubano,Timba
ATTACH;FMTTYPE=image/png:https://bcnsalsacalendar.com/wp-content/uploads/2024/12/alo-cubano.png
END:VEVENT
BEGIN:VEVENT
DTSTART;TZID=UTC:20250301T113000
DTEND;TZID=UTC:20250301T143000
DTSTAMP:20260420T054303
CREATED:20241209T181956Z
LAST-MODIFIED:20260318T115348Z
UID:10000012-1740828600-1740839400@bcnsalsacalendar.com
SUMMARY:Alocubano Outdoor - Salsa & Bachata
DESCRIPTION:📝 Description and Salsa Style: Free outdoor Salsa & Bachata  event. On the boardwalk of Bogatell beach. All type of Salsa. \n💃 Dancer Level: Mostly beginner and intermediate. \n👥 Average Age: 20-50 years old\, all ages welcome. \n🔄 Recurrence: Usually\, on the first Saturday of each month.
URL:https://bcnsalsacalendar.com/event/alocubano/2025-03-01/
LOCATION:Passeig Marítim del Bogatell\, Passeig Marítim del Bogatell\, Sant Martí\, 08005 Barcelona\, Barcelona\, Catalonia\, 08005\, Spain
CATEGORIES:Salsa Cubana,Salsa&Bachata,SalsaOn1,SalsaOn2,Son Cubano,Timba
ATTACH;FMTTYPE=image/png:https://bcnsalsacalendar.com/wp-content/uploads/2024/12/alo-cubano.png
END:VEVENT
END:VCALENDAR