BEGIN:VCALENDAR
VERSION:2.0
PRODID:-//Welcome - ECPv6.15.20//NONSGML v1.0//EN
CALSCALE:GREGORIAN
METHOD:PUBLISH
X-WR-CALNAME:Welcome
X-ORIGINAL-URL:https://bcnsalsacalendar.com
X-WR-CALDESC:Events for Welcome
REFRESH-INTERVAL;VALUE=DURATION:PT1H
X-Robots-Tag:noindex
X-PUBLISHED-TTL:PT1H
BEGIN:VTIMEZONE
TZID:UTC
BEGIN:STANDARD
TZOFFSETFROM:+0000
TZOFFSETTO:+0000
TZNAME:UTC
DTSTART:20240101T000000
END:STANDARD
END:VTIMEZONE
BEGIN:VEVENT
DTSTART;TZID=UTC:20250928T170000
DTEND;TZID=UTC:20250928T210000
DTSTAMP:20260423T211645
CREATED:20250926T131201Z
LAST-MODIFIED:20250926T131201Z
UID:10022340-1759078800-1759093200@bcnsalsacalendar.com
SUMMARY:Salsaloneta - Free live outdoor salsa
DESCRIPTION:📝 Description and Salsa Style: 27-28 Septiembre\, salsa workshops and live salsa music in plaza del mar. Check program on the oganizer link for more info. \n💃 Dancer Level: All level. \n👥 Average Age: All ages welcome. \n🔄 Recurrence: Occasionaly.
URL:https://bcnsalsacalendar.com/event/salsaloneta-free-live-outdoor-salsa/2025-09-28/
LOCATION:Plaça del Mar\, Plaça del Mar\, Ciutat Vella\, Barcelona\, Catalonia\, 08039\, Spain
CATEGORIES:Live Salsa,Salsa Cubana,SalsaOn1,SalsaOn2,Son Cubano
ATTACH;FMTTYPE=image/png:https://bcnsalsacalendar.com/wp-content/uploads/2025/09/Salsaloneta.png
END:VEVENT
BEGIN:VEVENT
DTSTART;TZID=UTC:20250927T180000
DTEND;TZID=UTC:20250928T000000
DTSTAMP:20260423T211645
CREATED:20250926T131201Z
LAST-MODIFIED:20250926T131201Z
UID:10022339-1758996000-1759017600@bcnsalsacalendar.com
SUMMARY:Salsaloneta - Free live outdoor salsa
DESCRIPTION:📝 Description and Salsa Style: 27-28 Septiembre\, salsa workshops and live salsa music in plaza del mar. Check program on the oganizer link for more info. \n💃 Dancer Level: All level. \n👥 Average Age: All ages welcome. \n🔄 Recurrence: Occasionaly.
URL:https://bcnsalsacalendar.com/event/salsaloneta-free-live-outdoor-salsa/2025-09-27/
LOCATION:Plaça del Mar\, Plaça del Mar\, Ciutat Vella\, Barcelona\, Catalonia\, 08039\, Spain
CATEGORIES:Live Salsa,Salsa Cubana,SalsaOn1,SalsaOn2,Son Cubano
ATTACH;FMTTYPE=image/png:https://bcnsalsacalendar.com/wp-content/uploads/2025/09/Salsaloneta.png
END:VEVENT
END:VCALENDAR