BEGIN:VCALENDAR
VERSION:2.0
PRODID:-//Welcome - ECPv6.15.20//NONSGML v1.0//EN
CALSCALE:GREGORIAN
METHOD:PUBLISH
X-ORIGINAL-URL:https://bcnsalsacalendar.com
X-WR-CALDESC:Events for Welcome
REFRESH-INTERVAL;VALUE=DURATION:PT1H
X-Robots-Tag:noindex
X-PUBLISHED-TTL:PT1H
BEGIN:VTIMEZONE
TZID:UTC
BEGIN:STANDARD
TZOFFSETFROM:+0000
TZOFFSETTO:+0000
TZNAME:UTC
DTSTART:20240101T000000
END:STANDARD
END:VTIMEZONE
BEGIN:VEVENT
DTSTART;TZID=UTC:20250315T180000
DTEND;TZID=UTC:20250315T230000
DTSTAMP:20260420T072307
CREATED:20250312T095138Z
LAST-MODIFIED:20250314T124158Z
UID:10009209-1742061600-1742079600@bcnsalsacalendar.com
SUMMARY:Salseo Cimarrón
DESCRIPTION:📝 Description and Salsa Style: Workshop from 18.30. Social Cuban Salsa and Reparto Cubano. \n💃 Dancer Level: All levels. \n👥 Average Age: 20-45 years old\, all ages welcome. \n🔄 Recurrence: Occasionally. \n  \n 
URL:https://bcnsalsacalendar.com/event/salseo-cimarron/
LOCATION:Sala Periferia\, Carrer de Cerdanyola\, 28\, Barcelona\, Barcelona\, 08028\, Spain
CATEGORIES:Salsa Cubana,Timba
ATTACH;FMTTYPE=image/png:https://bcnsalsacalendar.com/wp-content/uploads/2025/03/Salseo.png
END:VEVENT
END:VCALENDAR