BEGIN:VCALENDAR
VERSION:2.0
PRODID:-//Welcome - ECPv6.15.20//NONSGML v1.0//EN
CALSCALE:GREGORIAN
METHOD:PUBLISH
X-WR-CALNAME:Welcome
X-ORIGINAL-URL:https://bcnsalsacalendar.com
X-WR-CALDESC:Events for Welcome
REFRESH-INTERVAL;VALUE=DURATION:PT1H
X-Robots-Tag:noindex
X-PUBLISHED-TTL:PT1H
BEGIN:VTIMEZONE
TZID:UTC
BEGIN:STANDARD
TZOFFSETFROM:+0000
TZOFFSETTO:+0000
TZNAME:UTC
DTSTART:20250101T000000
END:STANDARD
END:VTIMEZONE
BEGIN:VEVENT
DTSTART;TZID=UTC:20260416T210000
DTEND;TZID=UTC:20260417T023000
DTSTAMP:20260421T173655
CREATED:20250116T125259Z
LAST-MODIFIED:20250806T093253Z
UID:10004397-1776373200-1776393000@bcnsalsacalendar.com
SUMMARY:Sala Vivaldi - Cuban Salsa & Bachata
DESCRIPTION:📝 Description and Salsa Style: 21.00 – 23.00 : Workshops with 2 levels of Cuban Salsa and Bachata. Social from 23.00. \n💃 Dancer Level: Dancers mostly beginners and intermediates. Advanced dancers later during social. \n👥 Average Age: 20-40 years old\, all ages welcome. \n🔄 Recurrence: Every Thursday.
URL:https://bcnsalsacalendar.com/event/sala-vivaldi-2/2026-04-16/
LOCATION:Sala Vivaldi\, Carrer de Llança\, 5\, L'Eixample\, Barcelona\, Catalonia\, 08015\, Spain
CATEGORIES:Salsa Cubana,Salsa&Bachata,Son Cubano,Timba
ATTACH;FMTTYPE=image/png:https://bcnsalsacalendar.com/wp-content/uploads/2025/01/sala-vi.png
END:VEVENT
BEGIN:VEVENT
DTSTART;TZID=UTC:20260414T210000
DTEND;TZID=UTC:20260415T023000
DTSTAMP:20260421T173655
CREATED:20250116T125259Z
LAST-MODIFIED:20250210T101703Z
UID:10004122-1776200400-1776220200@bcnsalsacalendar.com
SUMMARY:Sala Vivaldi
DESCRIPTION:📝 Description and Salsa Style: 21.00 – 23.00 : Workshops with 3 levels Salsa On1 and Bachata. Social from 23.00. \n💃 Dancer Level: Dancers mostly beginners and intermediates. Advanced dancers later during social. \n👥 Average Age: 20-40 years old\, all ages welcome. \n🔄 Recurrence: Every Tuesday.
URL:https://bcnsalsacalendar.com/event/sala-vivaldi/2026-04-14/
LOCATION:Sala Vivaldi\, Carrer de Llança\, 5\, L'Eixample\, Barcelona\, Catalonia\, 08015\, Spain
CATEGORIES:Salsa Cubana,Salsa&Bachata,SalsaOn1,SalsaOn2
ATTACH;FMTTYPE=image/png:https://bcnsalsacalendar.com/wp-content/uploads/2025/01/sala-vi.png
END:VEVENT
BEGIN:VEVENT
DTSTART;TZID=UTC:20260409T210000
DTEND;TZID=UTC:20260410T023000
DTSTAMP:20260421T173655
CREATED:20250116T125259Z
LAST-MODIFIED:20250806T093253Z
UID:10004396-1775768400-1775788200@bcnsalsacalendar.com
SUMMARY:Sala Vivaldi - Cuban Salsa & Bachata
DESCRIPTION:📝 Description and Salsa Style: 21.00 – 23.00 : Workshops with 2 levels of Cuban Salsa and Bachata. Social from 23.00. \n💃 Dancer Level: Dancers mostly beginners and intermediates. Advanced dancers later during social. \n👥 Average Age: 20-40 years old\, all ages welcome. \n🔄 Recurrence: Every Thursday.
URL:https://bcnsalsacalendar.com/event/sala-vivaldi-2/2026-04-09/
LOCATION:Sala Vivaldi\, Carrer de Llança\, 5\, L'Eixample\, Barcelona\, Catalonia\, 08015\, Spain
CATEGORIES:Salsa Cubana,Salsa&Bachata,Son Cubano,Timba
ATTACH;FMTTYPE=image/png:https://bcnsalsacalendar.com/wp-content/uploads/2025/01/sala-vi.png
END:VEVENT
BEGIN:VEVENT
DTSTART;TZID=UTC:20260407T210000
DTEND;TZID=UTC:20260408T023000
DTSTAMP:20260421T173655
CREATED:20250116T125259Z
LAST-MODIFIED:20250210T101703Z
UID:10004121-1775595600-1775615400@bcnsalsacalendar.com
SUMMARY:Sala Vivaldi
DESCRIPTION:📝 Description and Salsa Style: 21.00 – 23.00 : Workshops with 3 levels Salsa On1 and Bachata. Social from 23.00. \n💃 Dancer Level: Dancers mostly beginners and intermediates. Advanced dancers later during social. \n👥 Average Age: 20-40 years old\, all ages welcome. \n🔄 Recurrence: Every Tuesday.
URL:https://bcnsalsacalendar.com/event/sala-vivaldi/2026-04-07/
LOCATION:Sala Vivaldi\, Carrer de Llança\, 5\, L'Eixample\, Barcelona\, Catalonia\, 08015\, Spain
CATEGORIES:Salsa Cubana,Salsa&Bachata,SalsaOn1,SalsaOn2
ATTACH;FMTTYPE=image/png:https://bcnsalsacalendar.com/wp-content/uploads/2025/01/sala-vi.png
END:VEVENT
BEGIN:VEVENT
DTSTART;TZID=UTC:20260402T210000
DTEND;TZID=UTC:20260403T023000
DTSTAMP:20260421T173655
CREATED:20250116T125259Z
LAST-MODIFIED:20250806T093253Z
UID:10004395-1775163600-1775183400@bcnsalsacalendar.com
SUMMARY:Sala Vivaldi - Cuban Salsa & Bachata
DESCRIPTION:📝 Description and Salsa Style: 21.00 – 23.00 : Workshops with 2 levels of Cuban Salsa and Bachata. Social from 23.00. \n💃 Dancer Level: Dancers mostly beginners and intermediates. Advanced dancers later during social. \n👥 Average Age: 20-40 years old\, all ages welcome. \n🔄 Recurrence: Every Thursday.
URL:https://bcnsalsacalendar.com/event/sala-vivaldi-2/2026-04-02/
LOCATION:Sala Vivaldi\, Carrer de Llança\, 5\, L'Eixample\, Barcelona\, Catalonia\, 08015\, Spain
CATEGORIES:Salsa Cubana,Salsa&Bachata,Son Cubano,Timba
ATTACH;FMTTYPE=image/png:https://bcnsalsacalendar.com/wp-content/uploads/2025/01/sala-vi.png
END:VEVENT
BEGIN:VEVENT
DTSTART;TZID=UTC:20260331T210000
DTEND;TZID=UTC:20260401T023000
DTSTAMP:20260421T173655
CREATED:20250116T125259Z
LAST-MODIFIED:20250210T101703Z
UID:10004120-1774990800-1775010600@bcnsalsacalendar.com
SUMMARY:Sala Vivaldi
DESCRIPTION:📝 Description and Salsa Style: 21.00 – 23.00 : Workshops with 3 levels Salsa On1 and Bachata. Social from 23.00. \n💃 Dancer Level: Dancers mostly beginners and intermediates. Advanced dancers later during social. \n👥 Average Age: 20-40 years old\, all ages welcome. \n🔄 Recurrence: Every Tuesday.
URL:https://bcnsalsacalendar.com/event/sala-vivaldi/2026-03-31/
LOCATION:Sala Vivaldi\, Carrer de Llança\, 5\, L'Eixample\, Barcelona\, Catalonia\, 08015\, Spain
CATEGORIES:Salsa Cubana,Salsa&Bachata,SalsaOn1,SalsaOn2
ATTACH;FMTTYPE=image/png:https://bcnsalsacalendar.com/wp-content/uploads/2025/01/sala-vi.png
END:VEVENT
BEGIN:VEVENT
DTSTART;TZID=UTC:20260326T210000
DTEND;TZID=UTC:20260327T023000
DTSTAMP:20260421T173655
CREATED:20250116T125259Z
LAST-MODIFIED:20250806T093253Z
UID:10004394-1774558800-1774578600@bcnsalsacalendar.com
SUMMARY:Sala Vivaldi - Cuban Salsa & Bachata
DESCRIPTION:📝 Description and Salsa Style: 21.00 – 23.00 : Workshops with 2 levels of Cuban Salsa and Bachata. Social from 23.00. \n💃 Dancer Level: Dancers mostly beginners and intermediates. Advanced dancers later during social. \n👥 Average Age: 20-40 years old\, all ages welcome. \n🔄 Recurrence: Every Thursday.
URL:https://bcnsalsacalendar.com/event/sala-vivaldi-2/2026-03-26/
LOCATION:Sala Vivaldi\, Carrer de Llança\, 5\, L'Eixample\, Barcelona\, Catalonia\, 08015\, Spain
CATEGORIES:Salsa Cubana,Salsa&Bachata,Son Cubano,Timba
ATTACH;FMTTYPE=image/png:https://bcnsalsacalendar.com/wp-content/uploads/2025/01/sala-vi.png
END:VEVENT
BEGIN:VEVENT
DTSTART;TZID=UTC:20260324T210000
DTEND;TZID=UTC:20260325T023000
DTSTAMP:20260421T173655
CREATED:20250116T125259Z
LAST-MODIFIED:20250210T101703Z
UID:10004119-1774386000-1774405800@bcnsalsacalendar.com
SUMMARY:Sala Vivaldi
DESCRIPTION:📝 Description and Salsa Style: 21.00 – 23.00 : Workshops with 3 levels Salsa On1 and Bachata. Social from 23.00. \n💃 Dancer Level: Dancers mostly beginners and intermediates. Advanced dancers later during social. \n👥 Average Age: 20-40 years old\, all ages welcome. \n🔄 Recurrence: Every Tuesday.
URL:https://bcnsalsacalendar.com/event/sala-vivaldi/2026-03-24/
LOCATION:Sala Vivaldi\, Carrer de Llança\, 5\, L'Eixample\, Barcelona\, Catalonia\, 08015\, Spain
CATEGORIES:Salsa Cubana,Salsa&Bachata,SalsaOn1,SalsaOn2
ATTACH;FMTTYPE=image/png:https://bcnsalsacalendar.com/wp-content/uploads/2025/01/sala-vi.png
END:VEVENT
BEGIN:VEVENT
DTSTART;TZID=UTC:20260319T210000
DTEND;TZID=UTC:20260320T023000
DTSTAMP:20260421T173655
CREATED:20250116T125259Z
LAST-MODIFIED:20250806T093253Z
UID:10004393-1773954000-1773973800@bcnsalsacalendar.com
SUMMARY:Sala Vivaldi - Cuban Salsa & Bachata
DESCRIPTION:📝 Description and Salsa Style: 21.00 – 23.00 : Workshops with 2 levels of Cuban Salsa and Bachata. Social from 23.00. \n💃 Dancer Level: Dancers mostly beginners and intermediates. Advanced dancers later during social. \n👥 Average Age: 20-40 years old\, all ages welcome. \n🔄 Recurrence: Every Thursday.
URL:https://bcnsalsacalendar.com/event/sala-vivaldi-2/2026-03-19/
LOCATION:Sala Vivaldi\, Carrer de Llança\, 5\, L'Eixample\, Barcelona\, Catalonia\, 08015\, Spain
CATEGORIES:Salsa Cubana,Salsa&Bachata,Son Cubano,Timba
ATTACH;FMTTYPE=image/png:https://bcnsalsacalendar.com/wp-content/uploads/2025/01/sala-vi.png
END:VEVENT
BEGIN:VEVENT
DTSTART;TZID=UTC:20260317T210000
DTEND;TZID=UTC:20260318T023000
DTSTAMP:20260421T173655
CREATED:20250116T125259Z
LAST-MODIFIED:20250210T101703Z
UID:10004118-1773781200-1773801000@bcnsalsacalendar.com
SUMMARY:Sala Vivaldi
DESCRIPTION:📝 Description and Salsa Style: 21.00 – 23.00 : Workshops with 3 levels Salsa On1 and Bachata. Social from 23.00. \n💃 Dancer Level: Dancers mostly beginners and intermediates. Advanced dancers later during social. \n👥 Average Age: 20-40 years old\, all ages welcome. \n🔄 Recurrence: Every Tuesday.
URL:https://bcnsalsacalendar.com/event/sala-vivaldi/2026-03-17/
LOCATION:Sala Vivaldi\, Carrer de Llança\, 5\, L'Eixample\, Barcelona\, Catalonia\, 08015\, Spain
CATEGORIES:Salsa Cubana,Salsa&Bachata,SalsaOn1,SalsaOn2
ATTACH;FMTTYPE=image/png:https://bcnsalsacalendar.com/wp-content/uploads/2025/01/sala-vi.png
END:VEVENT
BEGIN:VEVENT
DTSTART;TZID=UTC:20260312T210000
DTEND;TZID=UTC:20260313T023000
DTSTAMP:20260421T173655
CREATED:20250116T125259Z
LAST-MODIFIED:20250806T093253Z
UID:10004392-1773349200-1773369000@bcnsalsacalendar.com
SUMMARY:Sala Vivaldi - Cuban Salsa & Bachata
DESCRIPTION:📝 Description and Salsa Style: 21.00 – 23.00 : Workshops with 2 levels of Cuban Salsa and Bachata. Social from 23.00. \n💃 Dancer Level: Dancers mostly beginners and intermediates. Advanced dancers later during social. \n👥 Average Age: 20-40 years old\, all ages welcome. \n🔄 Recurrence: Every Thursday.
URL:https://bcnsalsacalendar.com/event/sala-vivaldi-2/2026-03-12/
LOCATION:Sala Vivaldi\, Carrer de Llança\, 5\, L'Eixample\, Barcelona\, Catalonia\, 08015\, Spain
CATEGORIES:Salsa Cubana,Salsa&Bachata,Son Cubano,Timba
ATTACH;FMTTYPE=image/png:https://bcnsalsacalendar.com/wp-content/uploads/2025/01/sala-vi.png
END:VEVENT
BEGIN:VEVENT
DTSTART;TZID=UTC:20260310T210000
DTEND;TZID=UTC:20260311T023000
DTSTAMP:20260421T173655
CREATED:20250116T125259Z
LAST-MODIFIED:20250210T101703Z
UID:10004117-1773176400-1773196200@bcnsalsacalendar.com
SUMMARY:Sala Vivaldi
DESCRIPTION:📝 Description and Salsa Style: 21.00 – 23.00 : Workshops with 3 levels Salsa On1 and Bachata. Social from 23.00. \n💃 Dancer Level: Dancers mostly beginners and intermediates. Advanced dancers later during social. \n👥 Average Age: 20-40 years old\, all ages welcome. \n🔄 Recurrence: Every Tuesday.
URL:https://bcnsalsacalendar.com/event/sala-vivaldi/2026-03-10/
LOCATION:Sala Vivaldi\, Carrer de Llança\, 5\, L'Eixample\, Barcelona\, Catalonia\, 08015\, Spain
CATEGORIES:Salsa Cubana,Salsa&Bachata,SalsaOn1,SalsaOn2
ATTACH;FMTTYPE=image/png:https://bcnsalsacalendar.com/wp-content/uploads/2025/01/sala-vi.png
END:VEVENT
BEGIN:VEVENT
DTSTART;TZID=UTC:20260305T210000
DTEND;TZID=UTC:20260306T023000
DTSTAMP:20260421T173655
CREATED:20250116T125259Z
LAST-MODIFIED:20250806T093253Z
UID:10004391-1772744400-1772764200@bcnsalsacalendar.com
SUMMARY:Sala Vivaldi - Cuban Salsa & Bachata
DESCRIPTION:📝 Description and Salsa Style: 21.00 – 23.00 : Workshops with 2 levels of Cuban Salsa and Bachata. Social from 23.00. \n💃 Dancer Level: Dancers mostly beginners and intermediates. Advanced dancers later during social. \n👥 Average Age: 20-40 years old\, all ages welcome. \n🔄 Recurrence: Every Thursday.
URL:https://bcnsalsacalendar.com/event/sala-vivaldi-2/2026-03-05/
LOCATION:Sala Vivaldi\, Carrer de Llança\, 5\, L'Eixample\, Barcelona\, Catalonia\, 08015\, Spain
CATEGORIES:Salsa Cubana,Salsa&Bachata,Son Cubano,Timba
ATTACH;FMTTYPE=image/png:https://bcnsalsacalendar.com/wp-content/uploads/2025/01/sala-vi.png
END:VEVENT
BEGIN:VEVENT
DTSTART;TZID=UTC:20260303T210000
DTEND;TZID=UTC:20260304T023000
DTSTAMP:20260421T173655
CREATED:20250116T125259Z
LAST-MODIFIED:20250210T101703Z
UID:10004116-1772571600-1772591400@bcnsalsacalendar.com
SUMMARY:Sala Vivaldi
DESCRIPTION:📝 Description and Salsa Style: 21.00 – 23.00 : Workshops with 3 levels Salsa On1 and Bachata. Social from 23.00. \n💃 Dancer Level: Dancers mostly beginners and intermediates. Advanced dancers later during social. \n👥 Average Age: 20-40 years old\, all ages welcome. \n🔄 Recurrence: Every Tuesday.
URL:https://bcnsalsacalendar.com/event/sala-vivaldi/2026-03-03/
LOCATION:Sala Vivaldi\, Carrer de Llança\, 5\, L'Eixample\, Barcelona\, Catalonia\, 08015\, Spain
CATEGORIES:Salsa Cubana,Salsa&Bachata,SalsaOn1,SalsaOn2
ATTACH;FMTTYPE=image/png:https://bcnsalsacalendar.com/wp-content/uploads/2025/01/sala-vi.png
END:VEVENT
BEGIN:VEVENT
DTSTART;TZID=UTC:20260226T210000
DTEND;TZID=UTC:20260227T023000
DTSTAMP:20260421T173655
CREATED:20250116T125259Z
LAST-MODIFIED:20250806T093253Z
UID:10004390-1772139600-1772159400@bcnsalsacalendar.com
SUMMARY:Sala Vivaldi - Cuban Salsa & Bachata
DESCRIPTION:📝 Description and Salsa Style: 21.00 – 23.00 : Workshops with 2 levels of Cuban Salsa and Bachata. Social from 23.00. \n💃 Dancer Level: Dancers mostly beginners and intermediates. Advanced dancers later during social. \n👥 Average Age: 20-40 years old\, all ages welcome. \n🔄 Recurrence: Every Thursday.
URL:https://bcnsalsacalendar.com/event/sala-vivaldi-2/2026-02-26/
LOCATION:Sala Vivaldi\, Carrer de Llança\, 5\, L'Eixample\, Barcelona\, Catalonia\, 08015\, Spain
CATEGORIES:Salsa Cubana,Salsa&Bachata,Son Cubano,Timba
ATTACH;FMTTYPE=image/png:https://bcnsalsacalendar.com/wp-content/uploads/2025/01/sala-vi.png
END:VEVENT
BEGIN:VEVENT
DTSTART;TZID=UTC:20260224T210000
DTEND;TZID=UTC:20260225T023000
DTSTAMP:20260421T173655
CREATED:20250116T125259Z
LAST-MODIFIED:20250210T101703Z
UID:10004115-1771966800-1771986600@bcnsalsacalendar.com
SUMMARY:Sala Vivaldi
DESCRIPTION:📝 Description and Salsa Style: 21.00 – 23.00 : Workshops with 3 levels Salsa On1 and Bachata. Social from 23.00. \n💃 Dancer Level: Dancers mostly beginners and intermediates. Advanced dancers later during social. \n👥 Average Age: 20-40 years old\, all ages welcome. \n🔄 Recurrence: Every Tuesday.
URL:https://bcnsalsacalendar.com/event/sala-vivaldi/2026-02-24/
LOCATION:Sala Vivaldi\, Carrer de Llança\, 5\, L'Eixample\, Barcelona\, Catalonia\, 08015\, Spain
CATEGORIES:Salsa Cubana,Salsa&Bachata,SalsaOn1,SalsaOn2
ATTACH;FMTTYPE=image/png:https://bcnsalsacalendar.com/wp-content/uploads/2025/01/sala-vi.png
END:VEVENT
BEGIN:VEVENT
DTSTART;TZID=UTC:20260219T210000
DTEND;TZID=UTC:20260220T023000
DTSTAMP:20260421T173655
CREATED:20250116T125259Z
LAST-MODIFIED:20250806T093253Z
UID:10004389-1771534800-1771554600@bcnsalsacalendar.com
SUMMARY:Sala Vivaldi - Cuban Salsa & Bachata
DESCRIPTION:📝 Description and Salsa Style: 21.00 – 23.00 : Workshops with 2 levels of Cuban Salsa and Bachata. Social from 23.00. \n💃 Dancer Level: Dancers mostly beginners and intermediates. Advanced dancers later during social. \n👥 Average Age: 20-40 years old\, all ages welcome. \n🔄 Recurrence: Every Thursday.
URL:https://bcnsalsacalendar.com/event/sala-vivaldi-2/2026-02-19/
LOCATION:Sala Vivaldi\, Carrer de Llança\, 5\, L'Eixample\, Barcelona\, Catalonia\, 08015\, Spain
CATEGORIES:Salsa Cubana,Salsa&Bachata,Son Cubano,Timba
ATTACH;FMTTYPE=image/png:https://bcnsalsacalendar.com/wp-content/uploads/2025/01/sala-vi.png
END:VEVENT
BEGIN:VEVENT
DTSTART;TZID=UTC:20260217T210000
DTEND;TZID=UTC:20260218T023000
DTSTAMP:20260421T173655
CREATED:20250116T125259Z
LAST-MODIFIED:20250210T101703Z
UID:10004114-1771362000-1771381800@bcnsalsacalendar.com
SUMMARY:Sala Vivaldi
DESCRIPTION:📝 Description and Salsa Style: 21.00 – 23.00 : Workshops with 3 levels Salsa On1 and Bachata. Social from 23.00. \n💃 Dancer Level: Dancers mostly beginners and intermediates. Advanced dancers later during social. \n👥 Average Age: 20-40 years old\, all ages welcome. \n🔄 Recurrence: Every Tuesday.
URL:https://bcnsalsacalendar.com/event/sala-vivaldi/2026-02-17/
LOCATION:Sala Vivaldi\, Carrer de Llança\, 5\, L'Eixample\, Barcelona\, Catalonia\, 08015\, Spain
CATEGORIES:Salsa Cubana,Salsa&Bachata,SalsaOn1,SalsaOn2
ATTACH;FMTTYPE=image/png:https://bcnsalsacalendar.com/wp-content/uploads/2025/01/sala-vi.png
END:VEVENT
BEGIN:VEVENT
DTSTART;TZID=UTC:20260212T210000
DTEND;TZID=UTC:20260213T023000
DTSTAMP:20260421T173655
CREATED:20250116T125259Z
LAST-MODIFIED:20250806T093253Z
UID:10004388-1770930000-1770949800@bcnsalsacalendar.com
SUMMARY:Sala Vivaldi - Cuban Salsa & Bachata
DESCRIPTION:📝 Description and Salsa Style: 21.00 – 23.00 : Workshops with 2 levels of Cuban Salsa and Bachata. Social from 23.00. \n💃 Dancer Level: Dancers mostly beginners and intermediates. Advanced dancers later during social. \n👥 Average Age: 20-40 years old\, all ages welcome. \n🔄 Recurrence: Every Thursday.
URL:https://bcnsalsacalendar.com/event/sala-vivaldi-2/2026-02-12/
LOCATION:Sala Vivaldi\, Carrer de Llança\, 5\, L'Eixample\, Barcelona\, Catalonia\, 08015\, Spain
CATEGORIES:Salsa Cubana,Salsa&Bachata,Son Cubano,Timba
ATTACH;FMTTYPE=image/png:https://bcnsalsacalendar.com/wp-content/uploads/2025/01/sala-vi.png
END:VEVENT
BEGIN:VEVENT
DTSTART;TZID=UTC:20260210T210000
DTEND;TZID=UTC:20260211T023000
DTSTAMP:20260421T173655
CREATED:20250116T125259Z
LAST-MODIFIED:20250210T101703Z
UID:10004113-1770757200-1770777000@bcnsalsacalendar.com
SUMMARY:Sala Vivaldi
DESCRIPTION:📝 Description and Salsa Style: 21.00 – 23.00 : Workshops with 3 levels Salsa On1 and Bachata. Social from 23.00. \n💃 Dancer Level: Dancers mostly beginners and intermediates. Advanced dancers later during social. \n👥 Average Age: 20-40 years old\, all ages welcome. \n🔄 Recurrence: Every Tuesday.
URL:https://bcnsalsacalendar.com/event/sala-vivaldi/2026-02-10/
LOCATION:Sala Vivaldi\, Carrer de Llança\, 5\, L'Eixample\, Barcelona\, Catalonia\, 08015\, Spain
CATEGORIES:Salsa Cubana,Salsa&Bachata,SalsaOn1,SalsaOn2
ATTACH;FMTTYPE=image/png:https://bcnsalsacalendar.com/wp-content/uploads/2025/01/sala-vi.png
END:VEVENT
BEGIN:VEVENT
DTSTART;TZID=UTC:20260205T210000
DTEND;TZID=UTC:20260206T023000
DTSTAMP:20260421T173655
CREATED:20250116T125259Z
LAST-MODIFIED:20250806T093253Z
UID:10004387-1770325200-1770345000@bcnsalsacalendar.com
SUMMARY:Sala Vivaldi - Cuban Salsa & Bachata
DESCRIPTION:📝 Description and Salsa Style: 21.00 – 23.00 : Workshops with 2 levels of Cuban Salsa and Bachata. Social from 23.00. \n💃 Dancer Level: Dancers mostly beginners and intermediates. Advanced dancers later during social. \n👥 Average Age: 20-40 years old\, all ages welcome. \n🔄 Recurrence: Every Thursday.
URL:https://bcnsalsacalendar.com/event/sala-vivaldi-2/2026-02-05/
LOCATION:Sala Vivaldi\, Carrer de Llança\, 5\, L'Eixample\, Barcelona\, Catalonia\, 08015\, Spain
CATEGORIES:Salsa Cubana,Salsa&Bachata,Son Cubano,Timba
ATTACH;FMTTYPE=image/png:https://bcnsalsacalendar.com/wp-content/uploads/2025/01/sala-vi.png
END:VEVENT
BEGIN:VEVENT
DTSTART;TZID=UTC:20260203T210000
DTEND;TZID=UTC:20260204T023000
DTSTAMP:20260421T173655
CREATED:20250116T125259Z
LAST-MODIFIED:20250210T101703Z
UID:10004112-1770152400-1770172200@bcnsalsacalendar.com
SUMMARY:Sala Vivaldi
DESCRIPTION:📝 Description and Salsa Style: 21.00 – 23.00 : Workshops with 3 levels Salsa On1 and Bachata. Social from 23.00. \n💃 Dancer Level: Dancers mostly beginners and intermediates. Advanced dancers later during social. \n👥 Average Age: 20-40 years old\, all ages welcome. \n🔄 Recurrence: Every Tuesday.
URL:https://bcnsalsacalendar.com/event/sala-vivaldi/2026-02-03/
LOCATION:Sala Vivaldi\, Carrer de Llança\, 5\, L'Eixample\, Barcelona\, Catalonia\, 08015\, Spain
CATEGORIES:Salsa Cubana,Salsa&Bachata,SalsaOn1,SalsaOn2
ATTACH;FMTTYPE=image/png:https://bcnsalsacalendar.com/wp-content/uploads/2025/01/sala-vi.png
END:VEVENT
BEGIN:VEVENT
DTSTART;TZID=UTC:20260129T210000
DTEND;TZID=UTC:20260130T023000
DTSTAMP:20260421T173655
CREATED:20250116T125259Z
LAST-MODIFIED:20250806T093253Z
UID:10004386-1769720400-1769740200@bcnsalsacalendar.com
SUMMARY:Sala Vivaldi - Cuban Salsa & Bachata
DESCRIPTION:📝 Description and Salsa Style: 21.00 – 23.00 : Workshops with 2 levels of Cuban Salsa and Bachata. Social from 23.00. \n💃 Dancer Level: Dancers mostly beginners and intermediates. Advanced dancers later during social. \n👥 Average Age: 20-40 years old\, all ages welcome. \n🔄 Recurrence: Every Thursday.
URL:https://bcnsalsacalendar.com/event/sala-vivaldi-2/2026-01-29/
LOCATION:Sala Vivaldi\, Carrer de Llança\, 5\, L'Eixample\, Barcelona\, Catalonia\, 08015\, Spain
CATEGORIES:Salsa Cubana,Salsa&Bachata,Son Cubano,Timba
ATTACH;FMTTYPE=image/png:https://bcnsalsacalendar.com/wp-content/uploads/2025/01/sala-vi.png
END:VEVENT
BEGIN:VEVENT
DTSTART;TZID=UTC:20260127T210000
DTEND;TZID=UTC:20260128T023000
DTSTAMP:20260421T173655
CREATED:20250116T125259Z
LAST-MODIFIED:20250210T101703Z
UID:10004111-1769547600-1769567400@bcnsalsacalendar.com
SUMMARY:Sala Vivaldi
DESCRIPTION:📝 Description and Salsa Style: 21.00 – 23.00 : Workshops with 3 levels Salsa On1 and Bachata. Social from 23.00. \n💃 Dancer Level: Dancers mostly beginners and intermediates. Advanced dancers later during social. \n👥 Average Age: 20-40 years old\, all ages welcome. \n🔄 Recurrence: Every Tuesday.
URL:https://bcnsalsacalendar.com/event/sala-vivaldi/2026-01-27/
LOCATION:Sala Vivaldi\, Carrer de Llança\, 5\, L'Eixample\, Barcelona\, Catalonia\, 08015\, Spain
CATEGORIES:Salsa Cubana,Salsa&Bachata,SalsaOn1,SalsaOn2
ATTACH;FMTTYPE=image/png:https://bcnsalsacalendar.com/wp-content/uploads/2025/01/sala-vi.png
END:VEVENT
BEGIN:VEVENT
DTSTART;TZID=UTC:20260122T210000
DTEND;TZID=UTC:20260123T023000
DTSTAMP:20260421T173655
CREATED:20250116T125259Z
LAST-MODIFIED:20250806T093253Z
UID:10004385-1769115600-1769135400@bcnsalsacalendar.com
SUMMARY:Sala Vivaldi - Cuban Salsa & Bachata
DESCRIPTION:📝 Description and Salsa Style: 21.00 – 23.00 : Workshops with 2 levels of Cuban Salsa and Bachata. Social from 23.00. \n💃 Dancer Level: Dancers mostly beginners and intermediates. Advanced dancers later during social. \n👥 Average Age: 20-40 years old\, all ages welcome. \n🔄 Recurrence: Every Thursday.
URL:https://bcnsalsacalendar.com/event/sala-vivaldi-2/2026-01-22/
LOCATION:Sala Vivaldi\, Carrer de Llança\, 5\, L'Eixample\, Barcelona\, Catalonia\, 08015\, Spain
CATEGORIES:Salsa Cubana,Salsa&Bachata,Son Cubano,Timba
ATTACH;FMTTYPE=image/png:https://bcnsalsacalendar.com/wp-content/uploads/2025/01/sala-vi.png
END:VEVENT
BEGIN:VEVENT
DTSTART;TZID=UTC:20260120T210000
DTEND;TZID=UTC:20260121T023000
DTSTAMP:20260421T173655
CREATED:20250116T125259Z
LAST-MODIFIED:20250210T101703Z
UID:10004110-1768942800-1768962600@bcnsalsacalendar.com
SUMMARY:Sala Vivaldi
DESCRIPTION:📝 Description and Salsa Style: 21.00 – 23.00 : Workshops with 3 levels Salsa On1 and Bachata. Social from 23.00. \n💃 Dancer Level: Dancers mostly beginners and intermediates. Advanced dancers later during social. \n👥 Average Age: 20-40 years old\, all ages welcome. \n🔄 Recurrence: Every Tuesday.
URL:https://bcnsalsacalendar.com/event/sala-vivaldi/2026-01-20/
LOCATION:Sala Vivaldi\, Carrer de Llança\, 5\, L'Eixample\, Barcelona\, Catalonia\, 08015\, Spain
CATEGORIES:Salsa Cubana,Salsa&Bachata,SalsaOn1,SalsaOn2
ATTACH;FMTTYPE=image/png:https://bcnsalsacalendar.com/wp-content/uploads/2025/01/sala-vi.png
END:VEVENT
BEGIN:VEVENT
DTSTART;TZID=UTC:20260115T210000
DTEND;TZID=UTC:20260116T023000
DTSTAMP:20260421T173655
CREATED:20250116T125259Z
LAST-MODIFIED:20250806T093253Z
UID:10004384-1768510800-1768530600@bcnsalsacalendar.com
SUMMARY:Sala Vivaldi - Cuban Salsa & Bachata
DESCRIPTION:📝 Description and Salsa Style: 21.00 – 23.00 : Workshops with 2 levels of Cuban Salsa and Bachata. Social from 23.00. \n💃 Dancer Level: Dancers mostly beginners and intermediates. Advanced dancers later during social. \n👥 Average Age: 20-40 years old\, all ages welcome. \n🔄 Recurrence: Every Thursday.
URL:https://bcnsalsacalendar.com/event/sala-vivaldi-2/2026-01-15/
LOCATION:Sala Vivaldi\, Carrer de Llança\, 5\, L'Eixample\, Barcelona\, Catalonia\, 08015\, Spain
CATEGORIES:Salsa Cubana,Salsa&Bachata,Son Cubano,Timba
ATTACH;FMTTYPE=image/png:https://bcnsalsacalendar.com/wp-content/uploads/2025/01/sala-vi.png
END:VEVENT
BEGIN:VEVENT
DTSTART;TZID=UTC:20260113T210000
DTEND;TZID=UTC:20260114T023000
DTSTAMP:20260421T173655
CREATED:20250116T125259Z
LAST-MODIFIED:20250210T101703Z
UID:10004109-1768338000-1768357800@bcnsalsacalendar.com
SUMMARY:Sala Vivaldi
DESCRIPTION:📝 Description and Salsa Style: 21.00 – 23.00 : Workshops with 3 levels Salsa On1 and Bachata. Social from 23.00. \n💃 Dancer Level: Dancers mostly beginners and intermediates. Advanced dancers later during social. \n👥 Average Age: 20-40 years old\, all ages welcome. \n🔄 Recurrence: Every Tuesday.
URL:https://bcnsalsacalendar.com/event/sala-vivaldi/2026-01-13/
LOCATION:Sala Vivaldi\, Carrer de Llança\, 5\, L'Eixample\, Barcelona\, Catalonia\, 08015\, Spain
CATEGORIES:Salsa Cubana,Salsa&Bachata,SalsaOn1,SalsaOn2
ATTACH;FMTTYPE=image/png:https://bcnsalsacalendar.com/wp-content/uploads/2025/01/sala-vi.png
END:VEVENT
BEGIN:VEVENT
DTSTART;TZID=UTC:20260108T210000
DTEND;TZID=UTC:20260109T023000
DTSTAMP:20260421T173655
CREATED:20250116T125259Z
LAST-MODIFIED:20250806T093253Z
UID:10004383-1767906000-1767925800@bcnsalsacalendar.com
SUMMARY:Sala Vivaldi - Cuban Salsa & Bachata
DESCRIPTION:📝 Description and Salsa Style: 21.00 – 23.00 : Workshops with 2 levels of Cuban Salsa and Bachata. Social from 23.00. \n💃 Dancer Level: Dancers mostly beginners and intermediates. Advanced dancers later during social. \n👥 Average Age: 20-40 years old\, all ages welcome. \n🔄 Recurrence: Every Thursday.
URL:https://bcnsalsacalendar.com/event/sala-vivaldi-2/2026-01-08/
LOCATION:Sala Vivaldi\, Carrer de Llança\, 5\, L'Eixample\, Barcelona\, Catalonia\, 08015\, Spain
CATEGORIES:Salsa Cubana,Salsa&Bachata,Son Cubano,Timba
ATTACH;FMTTYPE=image/png:https://bcnsalsacalendar.com/wp-content/uploads/2025/01/sala-vi.png
END:VEVENT
BEGIN:VEVENT
DTSTART;TZID=UTC:20260106T210000
DTEND;TZID=UTC:20260107T023000
DTSTAMP:20260421T173655
CREATED:20250116T125259Z
LAST-MODIFIED:20250210T101703Z
UID:10004108-1767733200-1767753000@bcnsalsacalendar.com
SUMMARY:Sala Vivaldi
DESCRIPTION:📝 Description and Salsa Style: 21.00 – 23.00 : Workshops with 3 levels Salsa On1 and Bachata. Social from 23.00. \n💃 Dancer Level: Dancers mostly beginners and intermediates. Advanced dancers later during social. \n👥 Average Age: 20-40 years old\, all ages welcome. \n🔄 Recurrence: Every Tuesday.
URL:https://bcnsalsacalendar.com/event/sala-vivaldi/2026-01-06/
LOCATION:Sala Vivaldi\, Carrer de Llança\, 5\, L'Eixample\, Barcelona\, Catalonia\, 08015\, Spain
CATEGORIES:Salsa Cubana,Salsa&Bachata,SalsaOn1,SalsaOn2
ATTACH;FMTTYPE=image/png:https://bcnsalsacalendar.com/wp-content/uploads/2025/01/sala-vi.png
END:VEVENT
END:VCALENDAR